Workbook

Sheet Übersicht
A1: Budget Soll-Ist – Reinigungsfirma
A2: Jahreskennzahlen
A3: Auswertungsjahr | B3: =Parameter!$B$5
A4: Erfasste Positionen | B4: =COUNTIFS('Budgetdaten'!$B$4:$B$103,">="&DATE($B$3,1,1),'Budgetdaten'!$B$4:$B$103,"<"&DATE($B$3+1,1,1),'Budgetdaten'!$A$4:$A$103,"<>")
A5: Sollbudget | B5: =IF(COUNTIFS('Budgetdaten'!$B$4:$B$103,">="&DATE($B$3,1,1),'Budgetdaten'!$B$4:$B$103,"<"&DATE($B$3+1,1,1),'Budgetdaten'!$I$4:$I$103,"<>")=0,"",SUMIFS('Budgetdaten'!$I$4:$I$103,'Budgetdaten'!$B$4:$B$103,">="&DATE($B$3,1,1),'Budgetdaten'!$B$4:$B$103,"<"&DATE($B$3+1,1,1)))
A6: Istwert | B6: =IF(COUNTIFS('Budgetdaten'!$B$4:$B$103,">="&DATE($B$3,1,1),'Budgetdaten'!$B$4:$B$103,"<"&DATE($B$3+1,1,1),'Budgetdaten'!$J$4:$J$103,"<>")=0,"",SUMIFS('Budgetdaten'!$J$4:$J$103,'Budgetdaten'!$B$4:$B$103,">="&DATE($B$3,1,1),'Budgetdaten'!$B$4:$B$103,"<"&DATE($B$3+1,1,1)))
A7: Abweichung Ist – Soll | B7: =IF(OR(B5="",B6="",$B$10>0),"",B6-B5)
A8: Abweichung | B8: =IFERROR(B7/B5,"")
A9: Manuelle Prüffälle | B9: =COUNTIFS('Budgetdaten'!$B$4:$B$103,">="&DATE($B$3,1,1),'Budgetdaten'!$B$4:$B$103,"<"&DATE($B$3+1,1,1),'Budgetdaten'!$N$4:$N$103,"Manuell prüfen")
A10: Fehlende Betragswerte | B10: =COUNTIFS('Budgetdaten'!$B$4:$B$103,">="&DATE($B$3,1,1),'Budgetdaten'!$B$4:$B$103,"<"&DATE($B$3+1,1,1),'Budgetdaten'!$A$4:$A$103,"<>",'Budgetdaten'!$I$4:$I$103,"")+COUNTIFS('Budgetdaten'!$B$4:$B$103,">="&DATE($B$3,1,1),'Budgetdaten'!$B$4:$B$103,"<"&DATE($B$3+1,1,1),'Budgetdaten'!$A$4:$A$103,"<>",'Budgetdaten'!$J$4:$J$103,"")
A11: Entscheidungshinweis | B11: =IF(B4=0,"Keine Daten",IF(B10>0,"Betragswerte ergänzen",IF(B9>0,"Prüffälle priorisieren",IF(B7>0,"Gesamtüberschreitung prüfen","Im Rahmen der Prüfschwelle"))))
A13: Monatlicher Soll-Ist-Vergleich
A14: Monat | B14: Soll | C14: Ist | D14: Abweichung | E14: Abw. % | F14: Prüffälle
A15: =DATE($B$3,1,1) | B15: =IF(COUNTIFS('Budgetdaten'!$B$4:$B$103,">="&$A15,'Budgetdaten'!$B$4:$B$103,"<"&DATE(YEAR($A15),MONTH($A15)+1,1),'Budgetdaten'!$I$4:$I$103,"<>")=0,"",SUMIFS('Budgetdaten'!$I$4:$I$103,'Budgetdaten'!$B$4:$B$103,">="&$A15,'Budgetdaten'!$B$4:$B$103,"<"&DATE(YEAR($A15),MONTH($A15)+1,1))) | C15: =IF(COUNTIFS('Budgetdaten'!$B$4:$B$103,">="&$A15,'Budgetdaten'!$B$4:$B$103,"<"&DATE(YEAR($A15),MONTH($A15)+1,1),'Budgetdaten'!$J$4:$J$103,"<>")=0,"",SUMIFS('Budgetdaten'!$J$4:$J$103,'Budgetdaten'!$B$4:$B$103,">="&$A15,'Budgetdaten'!$B$4:$B$103,"<"&DATE(YEAR($A15),MONTH($A15)+1,1))) | D15: =IF(OR(B15="",C15="",COUNTIFS('Budgetdaten'!$B$4:$B$103,">="&$A15,'Budgetdaten'!$B$4:$B$103,"<"&DATE(YEAR($A15),MONTH($A15)+1,1),'Budgetdaten'!$A$4:$A$103,"<>")<>COUNTIFS('Budgetdaten'!$B$4:$B$103,">="&$A15,'Budgetdaten'!$B$4:$B$103,"<"&DATE(YEAR($A15),MONTH($A15)+1,1),'Budgetdaten'!$I$4:$I$103,"<>"),COUNTIFS('Budgetdaten'!$B$4:$B$103,">="&$A15,'Budgetdaten'!$B$4:$B$103,"<"&DATE(YEAR($A15),MONTH($A15)+1,1),'Budgetdaten'!$A$4:$A$103,"<>")<>COUNTIFS('Budgetdaten'!$B$4:$B$103,">="&$A15,'Budgetdaten'!$B$4:$B$103,"<"&DATE(YEAR($A15),MONTH($A15)+1,1),'Budgetdaten'!$J$4:$J$103,"<>")),"",C15-B15) | E15: =IFERROR(D15/B15,"") | F15: =IF(COUNTIFS('Budgetdaten'!$B$4:$B$103,">="&$A15,'Budgetdaten'!$B$4:$B$103,"<"&DATE(YEAR($A15),MONTH($A15)+1,1),'Budgetdaten'!$A$4:$A$103,"<>")=0,"",COUNTIFS('Budgetdaten'!$B$4:$B$103,">="&$A15,'Budgetdaten'!$B$4:$B$103,"<"&DATE(YEAR($A15),MONTH($A15)+1,1),'Budgetdaten'!$N$4:$N$103,"Manuell prüfen"))
A16: =DATE($B$3,2,1) | B16: =IF(COUNTIFS('Budgetdaten'!$B$4:$B$103,">="&$A16,'Budgetdaten'!$B$4:$B$103,"<"&DATE(YEAR($A16),MONTH($A16)+1,1),'Budgetdaten'!$I$4:$I$103,"<>")=0,"",SUMIFS('Budgetdaten'!$I$4:$I$103,'Budgetdaten'!$B$4:$B$103,">="&$A16,'Budgetdaten'!$B$4:$B$103,"<"&DATE(YEAR($A16),MONTH($A16)+1,1))) | C16: =IF(COUNTIFS('Budgetdaten'!$B$4:$B$103,">="&$A16,'Budgetdaten'!$B$4:$B$103,"<"&DATE(YEAR($A16),MONTH($A16)+1,1),'Budgetdaten'!$J$4:$J$103,"<>")=0,"",SUMIFS('Budgetdaten'!$J$4:$J$103,'Budgetdaten'!$B$4:$B$103,">="&$A16,'Budgetdaten'!$B$4:$B$103,"<"&DATE(YEAR($A16),MONTH($A16)+1,1))) | D16: =IF(OR(B16="",C16="",COUNTIFS('Budgetdaten'!$B$4:$B$103,">="&$A16,'Budgetdaten'!$B$4:$B$103,"<"&DATE(YEAR($A16),MONTH($A16)+1,1),'Budgetdaten'!$A$4:$A$103,"<>")<>COUNTIFS('Budgetdaten'!$B$4:$B$103,">="&$A16,'Budgetdaten'!$B$4:$B$103,"<"&DATE(YEAR($A16),MONTH($A16)+1,1),'Budgetdaten'!$I$4:$I$103,"<>"),COUNTIFS('Budgetdaten'!$B$4:$B$103,">="&$A16,'Budgetdaten'!$B$4:$B$103,"<"&DATE(YEAR($A16),MONTH($A16)+1,1),'Budgetdaten'!$A$4:$A$103,"<>")<>COUNTIFS('Budgetdaten'!$B$4:$B$103,">="&$A16,'Budgetdaten'!$B$4:$B$103,"<"&DATE(YEAR($A16),MONTH($A16)+1,1),'Budgetdaten'!$J$4:$J$103,"<>")),"",C16-B16) | E16: =IFERROR(D16/B16,"") | F16: =IF(COUNTIFS('Budgetdaten'!$B$4:$B$103,">="&$A16,'Budgetdaten'!$B$4:$B$103,"<"&DATE(YEAR($A16),MONTH($A16)+1,1),'Budgetdaten'!$A$4:$A$103,"<>")=0,"",COUNTIFS('Budgetdaten'!$B$4:$B$103,">="&$A16,'Budgetdaten'!$B$4:$B$103,"<"&DATE(YEAR($A16),MONTH($A16)+1,1),'Budgetdaten'!$N$4:$N$103,"Manuell prüfen"))
A17: =DATE($B$3,3,1) | B17: =IF(COUNTIFS('Budgetdaten'!$B$4:$B$103,">="&$A17,'Budgetdaten'!$B$4:$B$103,"<"&DATE(YEAR($A17),MONTH($A17)+1,1),'Budgetdaten'!$I$4:$I$103,"<>")=0,"",SUMIFS('Budgetdaten'!$I$4:$I$103,'Budgetdaten'!$B$4:$B$103,">="&$A17,'Budgetdaten'!$B$4:$B$103,"<"&DATE(YEAR($A17),MONTH($A17)+1,1))) | C17: =IF(COUNTIFS('Budgetdaten'!$B$4:$B$103,">="&$A17,'Budgetdaten'!$B$4:$B$103,"<"&DATE(YEAR($A17),MONTH($A17)+1,1),'Budgetdaten'!$J$4:$J$103,"<>")=0,"",SUMIFS('Budgetdaten'!$J$4:$J$103,'Budgetdaten'!$B$4:$B$103,">="&$A17,'Budgetdaten'!$B$4:$B$103,"<"&DATE(YEAR($A17),MONTH($A17)+1,1))) | D17: =IF(OR(B17="",C17="",COUNTIFS('Budgetdaten'!$B$4:$B$103,">="&$A17,'Budgetdaten'!$B$4:$B$103,"<"&DATE(YEAR($A17),MONTH($A17)+1,1),'Budgetdaten'!$A$4:$A$103,"<>")<>COUNTIFS('Budgetdaten'!$B$4:$B$103,">="&$A17,'Budgetdaten'!$B$4:$B$103,"<"&DATE(YEAR($A17),MONTH($A17)+1,1),'Budgetdaten'!$I$4:$I$103,"<>"),COUNTIFS('Budgetdaten'!$B$4:$B$103,">="&$A17,'Budgetdaten'!$B$4:$B$103,"<"&DATE(YEAR($A17),MONTH($A17)+1,1),'Budgetdaten'!$A$4:$A$103,"<>")<>COUNTIFS('Budgetdaten'!$B$4:$B$103,">="&$A17,'Budgetdaten'!$B$4:$B$103,"<"&DATE(YEAR($A17),MONTH($A17)+1,1),'Budgetdaten'!$J$4:$J$103,"<>")),"",C17-B17) | E17: =IFERROR(D17/B17,"") | F17: =IF(COUNTIFS('Budgetdaten'!$B$4:$B$103,">="&$A17,'Budgetdaten'!$B$4:$B$103,"<"&DATE(YEAR($A17),MONTH($A17)+1,1),'Budgetdaten'!$A$4:$A$103,"<>")=0,"",COUNTIFS('Budgetdaten'!$B$4:$B$103,">="&$A17,'Budgetdaten'!$B$4:$B$103,"<"&DATE(YEAR($A17),MONTH($A17)+1,1),'Budgetdaten'!$N$4:$N$103,"Manuell prüfen"))
A18: =DATE($B$3,4,1) | B18: =IF(COUNTIFS('Budgetdaten'!$B$4:$B$103,">="&$A18,'Budgetdaten'!$B$4:$B$103,"<"&DATE(YEAR($A18),MONTH($A18)+1,1),'Budgetdaten'!$I$4:$I$103,"<>")=0,"",SUMIFS('Budgetdaten'!$I$4:$I$103,'Budgetdaten'!$B$4:$B$103,">="&$A18,'Budgetdaten'!$B$4:$B$103,"<"&DATE(YEAR($A18),MONTH($A18)+1,1))) | C18: =IF(COUNTIFS('Budgetdaten'!$B$4:$B$103,">="&$A18,'Budgetdaten'!$B$4:$B$103,"<"&DATE(YEAR($A18),MONTH($A18)+1,1),'Budgetdaten'!$J$4:$J$103,"<>")=0,"",SUMIFS('Budgetdaten'!$J$4:$J$103,'Budgetdaten'!$B$4:$B$103,">="&$A18,'Budgetdaten'!$B$4:$B$103,"<"&DATE(YEAR($A18),MONTH($A18)+1,1))) | D18: =IF(OR(B18="",C18="",COUNTIFS('Budgetdaten'!$B$4:$B$103,">="&$A18,'Budgetdaten'!$B$4:$B$103,"<"&DATE(YEAR($A18),MONTH($A18)+1,1),'Budgetdaten'!$A$4:$A$103,"<>")<>COUNTIFS('Budgetdaten'!$B$4:$B$103,">="&$A18,'Budgetdaten'!$B$4:$B$103,"<"&DATE(YEAR($A18),MONTH($A18)+1,1),'Budgetdaten'!$I$4:$I$103,"<>"),COUNTIFS('Budgetdaten'!$B$4:$B$103,">="&$A18,'Budgetdaten'!$B$4:$B$103,"<"&DATE(YEAR($A18),MONTH($A18)+1,1),'Budgetdaten'!$A$4:$A$103,"<>")<>COUNTIFS('Budgetdaten'!$B$4:$B$103,">="&$A18,'Budgetdaten'!$B$4:$B$103,"<"&DATE(YEAR($A18),MONTH($A18)+1,1),'Budgetdaten'!$J$4:$J$103,"<>")),"",C18-B18) | E18: =IFERROR(D18/B18,"") | F18: =IF(COUNTIFS('Budgetdaten'!$B$4:$B$103,">="&$A18,'Budgetdaten'!$B$4:$B$103,"<"&DATE(YEAR($A18),MONTH($A18)+1,1),'Budgetdaten'!$A$4:$A$103,"<>")=0,"",COUNTIFS('Budgetdaten'!$B$4:$B$103,">="&$A18,'Budgetdaten'!$B$4:$B$103,"<"&DATE(YEAR($A18),MONTH($A18)+1,1),'Budgetdaten'!$N$4:$N$103,"Manuell prüfen"))
A19: =DATE($B$3,5,1) | B19: =IF(COUNTIFS('Budgetdaten'!$B$4:$B$103,">="&$A19,'Budgetdaten'!$B$4:$B$103,"<"&DATE(YEAR($A19),MONTH($A19)+1,1),'Budgetdaten'!$I$4:$I$103,"<>")=0,"",SUMIFS('Budgetdaten'!$I$4:$I$103,'Budgetdaten'!$B$4:$B$103,">="&$A19,'Budgetdaten'!$B$4:$B$103,"<"&DATE(YEAR($A19),MONTH($A19)+1,1))) | C19: =IF(COUNTIFS('Budgetdaten'!$B$4:$B$103,">="&$A19,'Budgetdaten'!$B$4:$B$103,"<"&DATE(YEAR($A19),MONTH($A19)+1,1),'Budgetdaten'!$J$4:$J$103,"<>")=0,"",SUMIFS('Budgetdaten'!$J$4:$J$103,'Budgetdaten'!$B$4:$B$103,">="&$A19,'Budgetdaten'!$B$4:$B$103,"<"&DATE(YEAR($A19),MONTH($A19)+1,1))) | D19: =IF(OR(B19="",C19="",COUNTIFS('Budgetdaten'!$B$4:$B$103,">="&$A19,'Budgetdaten'!$B$4:$B$103,"<"&DATE(YEAR($A19),MONTH($A19)+1,1),'Budgetdaten'!$A$4:$A$103,"<>")<>COUNTIFS('Budgetdaten'!$B$4:$B$103,">="&$A19,'Budgetdaten'!$B$4:$B$103,"<"&DATE(YEAR($A19),MONTH($A19)+1,1),'Budgetdaten'!$I$4:$I$103,"<>"),COUNTIFS('Budgetdaten'!$B$4:$B$103,">="&$A19,'Budgetdaten'!$B$4:$B$103,"<"&DATE(YEAR($A19),MONTH($A19)+1,1),'Budgetdaten'!$A$4:$A$103,"<>")<>COUNTIFS('Budgetdaten'!$B$4:$B$103,">="&$A19,'Budgetdaten'!$B$4:$B$103,"<"&DATE(YEAR($A19),MONTH($A19)+1,1),'Budgetdaten'!$J$4:$J$103,"<>")),"",C19-B19) | E19: =IFERROR(D19/B19,"") | F19: =IF(COUNTIFS('Budgetdaten'!$B$4:$B$103,">="&$A19,'Budgetdaten'!$B$4:$B$103,"<"&DATE(YEAR($A19),MONTH($A19)+1,1),'Budgetdaten'!$A$4:$A$103,"<>")=0,"",COUNTIFS('Budgetdaten'!$B$4:$B$103,">="&$A19,'Budgetdaten'!$B$4:$B$103,"<"&DATE(YEAR($A19),MONTH($A19)+1,1),'Budgetdaten'!$N$4:$N$103,"Manuell prüfen"))
A20: =DATE($B$3,6,1) | B20: =IF(COUNTIFS('Budgetdaten'!$B$4:$B$103,">="&$A20,'Budgetdaten'!$B$4:$B$103,"<"&DATE(YEAR($A20),MONTH($A20)+1,1),'Budgetdaten'!$I$4:$I$103,"<>")=0,"",SUMIFS('Budgetdaten'!$I$4:$I$103,'Budgetdaten'!$B$4:$B$103,">="&$A20,'Budgetdaten'!$B$4:$B$103,"<"&DATE(YEAR($A20),MONTH($A20)+1,1))) | C20: =IF(COUNTIFS('Budgetdaten'!$B$4:$B$103,">="&$A20,'Budgetdaten'!$B$4:$B$103,"<"&DATE(YEAR($A20),MONTH($A20)+1,1),'Budgetdaten'!$J$4:$J$103,"<>")=0,"",SUMIFS('Budgetdaten'!$J$4:$J$103,'Budgetdaten'!$B$4:$B$103,">="&$A20,'Budgetdaten'!$B$4:$B$103,"<"&DATE(YEAR($A20),MONTH($A20)+1,1))) | D20: =IF(OR(B20="",C20="",COUNTIFS('Budgetdaten'!$B$4:$B$103,">="&$A20,'Budgetdaten'!$B$4:$B$103,"<"&DATE(YEAR($A20),MONTH($A20)+1,1),'Budgetdaten'!$A$4:$A$103,"<>")<>COUNTIFS('Budgetdaten'!$B$4:$B$103,">="&$A20,'Budgetdaten'!$B$4:$B$103,"<"&DATE(YEAR($A20),MONTH($A20)+1,1),'Budgetdaten'!$I$4:$I$103,"<>"),COUNTIFS('Budgetdaten'!$B$4:$B$103,">="&$A20,'Budgetdaten'!$B$4:$B$103,"<"&DATE(YEAR($A20),MONTH($A20)+1,1),'Budgetdaten'!$A$4:$A$103,"<>")<>COUNTIFS('Budgetdaten'!$B$4:$B$103,">="&$A20,'Budgetdaten'!$B$4:$B$103,"<"&DATE(YEAR($A20),MONTH($A20)+1,1),'Budgetdaten'!$J$4:$J$103,"<>")),"",C20-B20) | E20: =IFERROR(D20/B20,"") | F20: =IF(COUNTIFS('Budgetdaten'!$B$4:$B$103,">="&$A20,'Budgetdaten'!$B$4:$B$103,"<"&DATE(YEAR($A20),MONTH($A20)+1,1),'Budgetdaten'!$A$4:$A$103,"<>")=0,"",COUNTIFS('Budgetdaten'!$B$4:$B$103,">="&$A20,'Budgetdaten'!$B$4:$B$103,"<"&DATE(YEAR($A20),MONTH($A20)+1,1),'Budgetdaten'!$N$4:$N$103,"Manuell prüfen"))
A21: =DATE($B$3,7,1) | B21: =IF(COUNTIFS('Budgetdaten'!$B$4:$B$103,">="&$A21,'Budgetdaten'!$B$4:$B$103,"<"&DATE(YEAR($A21),MONTH($A21)+1,1),'Budgetdaten'!$I$4:$I$103,"<>")=0,"",SUMIFS('Budgetdaten'!$I$4:$I$103,'Budgetdaten'!$B$4:$B$103,">="&$A21,'Budgetdaten'!$B$4:$B$103,"<"&DATE(YEAR($A21),MONTH($A21)+1,1))) | C21: =IF(COUNTIFS('Budgetdaten'!$B$4:$B$103,">="&$A21,'Budgetdaten'!$B$4:$B$103,"<"&DATE(YEAR($A21),MONTH($A21)+1,1),'Budgetdaten'!$J$4:$J$103,"<>")=0,"",SUMIFS('Budgetdaten'!$J$4:$J$103,'Budgetdaten'!$B$4:$B$103,">="&$A21,'Budgetdaten'!$B$4:$B$103,"<"&DATE(YEAR($A21),MONTH($A21)+1,1))) | D21: =IF(OR(B21="",C21="",COUNTIFS('Budgetdaten'!$B$4:$B$103,">="&$A21,'Budgetdaten'!$B$4:$B$103,"<"&DATE(YEAR($A21),MONTH($A21)+1,1),'Budgetdaten'!$A$4:$A$103,"<>")<>COUNTIFS('Budgetdaten'!$B$4:$B$103,">="&$A21,'Budgetdaten'!$B$4:$B$103,"<"&DATE(YEAR($A21),MONTH($A21)+1,1),'Budgetdaten'!$I$4:$I$103,"<>"),COUNTIFS('Budgetdaten'!$B$4:$B$103,">="&$A21,'Budgetdaten'!$B$4:$B$103,"<"&DATE(YEAR($A21),MONTH($A21)+1,1),'Budgetdaten'!$A$4:$A$103,"<>")<>COUNTIFS('Budgetdaten'!$B$4:$B$103,">="&$A21,'Budgetdaten'!$B$4:$B$103,"<"&DATE(YEAR($A21),MONTH($A21)+1,1),'Budgetdaten'!$J$4:$J$103,"<>")),"",C21-B21) | E21: =IFERROR(D21/B21,"") | F21: =IF(COUNTIFS('Budgetdaten'!$B$4:$B$103,">="&$A21,'Budgetdaten'!$B$4:$B$103,"<"&DATE(YEAR($A21),MONTH($A21)+1,1),'Budgetdaten'!$A$4:$A$103,"<>")=0,"",COUNTIFS('Budgetdaten'!$B$4:$B$103,">="&$A21,'Budgetdaten'!$B$4:$B$103,"<"&DATE(YEAR($A21),MONTH($A21)+1,1),'Budgetdaten'!$N$4:$N$103,"Manuell prüfen"))
A22: =DATE($B$3,8,1) | B22: =IF(COUNTIFS('Budgetdaten'!$B$4:$B$103,">="&$A22,'Budgetdaten'!$B$4:$B$103,"<"&DATE(YEAR($A22),MONTH($A22)+1,1),'Budgetdaten'!$I$4:$I$103,"<>")=0,"",SUMIFS('Budgetdaten'!$I$4:$I$103,'Budgetdaten'!$B$4:$B$103,">="&$A22,'Budgetdaten'!$B$4:$B$103,"<"&DATE(YEAR($A22),MONTH($A22)+1,1))) | C22: =IF(COUNTIFS('Budgetdaten'!$B$4:$B$103,">="&$A22,'Budgetdaten'!$B$4:$B$103,"<"&DATE(YEAR($A22),MONTH($A22)+1,1),'Budgetdaten'!$J$4:$J$103,"<>")=0,"",SUMIFS('Budgetdaten'!$J$4:$J$103,'Budgetdaten'!$B$4:$B$103,">="&$A22,'Budgetdaten'!$B$4:$B$103,"<"&DATE(YEAR($A22),MONTH($A22)+1,1))) | D22: =IF(OR(B22="",C22="",COUNTIFS('Budgetdaten'!$B$4:$B$103,">="&$A22,'Budgetdaten'!$B$4:$B$103,"<"&DATE(YEAR($A22),MONTH($A22)+1,1),'Budgetdaten'!$A$4:$A$103,"<>")<>COUNTIFS('Budgetdaten'!$B$4:$B$103,">="&$A22,'Budgetdaten'!$B$4:$B$103,"<"&DATE(YEAR($A22),MONTH($A22)+1,1),'Budgetdaten'!$I$4:$I$103,"<>"),COUNTIFS('Budgetdaten'!$B$4:$B$103,">="&$A22,'Budgetdaten'!$B$4:$B$103,"<"&DATE(YEAR($A22),MONTH($A22)+1,1),'Budgetdaten'!$A$4:$A$103,"<>")<>COUNTIFS('Budgetdaten'!$B$4:$B$103,">="&$A22,'Budgetdaten'!$B$4:$B$103,"<"&DATE(YEAR($A22),MONTH($A22)+1,1),'Budgetdaten'!$J$4:$J$103,"<>")),"",C22-B22) | E22: =IFERROR(D22/B22,"") | F22: =IF(COUNTIFS('Budgetdaten'!$B$4:$B$103,">="&$A22,'Budgetdaten'!$B$4:$B$103,"<"&DATE(YEAR($A22),MONTH($A22)+1,1),'Budgetdaten'!$A$4:$A$103,"<>")=0,"",COUNTIFS('Budgetdaten'!$B$4:$B$103,">="&$A22,'Budgetdaten'!$B$4:$B$103,"<"&DATE(YEAR($A22),MONTH($A22)+1,1),'Budgetdaten'!$N$4:$N$103,"Manuell prüfen"))
A23: =DATE($B$3,9,1) | B23: =IF(COUNTIFS('Budgetdaten'!$B$4:$B$103,">="&$A23,'Budgetdaten'!$B$4:$B$103,"<"&DATE(YEAR($A23),MONTH($A23)+1,1),'Budgetdaten'!$I$4:$I$103,"<>")=0,"",SUMIFS('Budgetdaten'!$I$4:$I$103,'Budgetdaten'!$B$4:$B$103,">="&$A23,'Budgetdaten'!$B$4:$B$103,"<"&DATE(YEAR($A23),MONTH($A23)+1,1))) | C23: =IF(COUNTIFS('Budgetdaten'!$B$4:$B$103,">="&$A23,'Budgetdaten'!$B$4:$B$103,"<"&DATE(YEAR($A23),MONTH($A23)+1,1),'Budgetdaten'!$J$4:$J$103,"<>")=0,"",SUMIFS('Budgetdaten'!$J$4:$J$103,'Budgetdaten'!$B$4:$B$103,">="&$A23,'Budgetdaten'!$B$4:$B$103,"<"&DATE(YEAR($A23),MONTH($A23)+1,1))) | D23: =IF(OR(B23="",C23="",COUNTIFS('Budgetdaten'!$B$4:$B$103,">="&$A23,'Budgetdaten'!$B$4:$B$103,"<"&DATE(YEAR($A23),MONTH($A23)+1,1),'Budgetdaten'!$A$4:$A$103,"<>")<>COUNTIFS('Budgetdaten'!$B$4:$B$103,">="&$A23,'Budgetdaten'!$B$4:$B$103,"<"&DATE(YEAR($A23),MONTH($A23)+1,1),'Budgetdaten'!$I$4:$I$103,"<>"),COUNTIFS('Budgetdaten'!$B$4:$B$103,">="&$A23,'Budgetdaten'!$B$4:$B$103,"<"&DATE(YEAR($A23),MONTH($A23)+1,1),'Budgetdaten'!$A$4:$A$103,"<>")<>COUNTIFS('Budgetdaten'!$B$4:$B$103,">="&$A23,'Budgetdaten'!$B$4:$B$103,"<"&DATE(YEAR($A23),MONTH($A23)+1,1),'Budgetdaten'!$J$4:$J$103,"<>")),"",C23-B23) | E23: =IFERROR(D23/B23,"") | F23: =IF(COUNTIFS('Budgetdaten'!$B$4:$B$103,">="&$A23,'Budgetdaten'!$B$4:$B$103,"<"&DATE(YEAR($A23),MONTH($A23)+1,1),'Budgetdaten'!$A$4:$A$103,"<>")=0,"",COUNTIFS('Budgetdaten'!$B$4:$B$103,">="&$A23,'Budgetdaten'!$B$4:$B$103,"<"&DATE(YEAR($A23),MONTH($A23)+1,1),'Budgetdaten'!$N$4:$N$103,"Manuell prüfen"))
A24: =DATE($B$3,10,1) | B24: =IF(COUNTIFS('Budgetdaten'!$B$4:$B$103,">="&$A24,'Budgetdaten'!$B$4:$B$103,"<"&DATE(YEAR($A24),MONTH($A24)+1,1),'Budgetdaten'!$I$4:$I$103,"<>")=0,"",SUMIFS('Budgetdaten'!$I$4:$I$103,'Budgetdaten'!$B$4:$B$103,">="&$A24,'Budgetdaten'!$B$4:$B$103,"<"&DATE(YEAR($A24),MONTH($A24)+1,1))) | C24: =IF(COUNTIFS('Budgetdaten'!$B$4:$B$103,">="&$A24,'Budgetdaten'!$B$4:$B$103,"<"&DATE(YEAR($A24),MONTH($A24)+1,1),'Budgetdaten'!$J$4:$J$103,"<>")=0,"",SUMIFS('Budgetdaten'!$J$4:$J$103,'Budgetdaten'!$B$4:$B$103,">="&$A24,'Budgetdaten'!$B$4:$B$103,"<"&DATE(YEAR($A24),MONTH($A24)+1,1))) | D24: =IF(OR(B24="",C24="",COUNTIFS('Budgetdaten'!$B$4:$B$103,">="&$A24,'Budgetdaten'!$B$4:$B$103,"<"&DATE(YEAR($A24),MONTH($A24)+1,1),'Budgetdaten'!$A$4:$A$103,"<>")<>COUNTIFS('Budgetdaten'!$B$4:$B$103,">="&$A24,'Budgetdaten'!$B$4:$B$103,"<"&DATE(YEAR($A24),MONTH($A24)+1,1),'Budgetdaten'!$I$4:$I$103,"<>"),COUNTIFS('Budgetdaten'!$B$4:$B$103,">="&$A24,'Budgetdaten'!$B$4:$B$103,"<"&DATE(YEAR($A24),MONTH($A24)+1,1),'Budgetdaten'!$A$4:$A$103,"<>")<>COUNTIFS('Budgetdaten'!$B$4:$B$103,">="&$A24,'Budgetdaten'!$B$4:$B$103,"<"&DATE(YEAR($A24),MONTH($A24)+1,1),'Budgetdaten'!$J$4:$J$103,"<>")),"",C24-B24) | E24: =IFERROR(D24/B24,"") | F24: =IF(COUNTIFS('Budgetdaten'!$B$4:$B$103,">="&$A24,'Budgetdaten'!$B$4:$B$103,"<"&DATE(YEAR($A24),MONTH($A24)+1,1),'Budgetdaten'!$A$4:$A$103,"<>")=0,"",COUNTIFS('Budgetdaten'!$B$4:$B$103,">="&$A24,'Budgetdaten'!$B$4:$B$103,"<"&DATE(YEAR($A24),MONTH($A24)+1,1),'Budgetdaten'!$N$4:$N$103,"Manuell prüfen"))
A25: =DATE($B$3,11,1) | B25: =IF(COUNTIFS('Budgetdaten'!$B$4:$B$103,">="&$A25,'Budgetdaten'!$B$4:$B$103,"<"&DATE(YEAR($A25),MONTH($A25)+1,1),'Budgetdaten'!$I$4:$I$103,"<>")=0,"",SUMIFS('Budgetdaten'!$I$4:$I$103,'Budgetdaten'!$B$4:$B$103,">="&$A25,'Budgetdaten'!$B$4:$B$103,"<"&DATE(YEAR($A25),MONTH($A25)+1,1))) | C25: =IF(COUNTIFS('Budgetdaten'!$B$4:$B$103,">="&$A25,'Budgetdaten'!$B$4:$B$103,"<"&DATE(YEAR($A25),MONTH($A25)+1,1),'Budgetdaten'!$J$4:$J$103,"<>")=0,"",SUMIFS('Budgetdaten'!$J$4:$J$103,'Budgetdaten'!$B$4:$B$103,">="&$A25,'Budgetdaten'!$B$4:$B$103,"<"&DATE(YEAR($A25),MONTH($A25)+1,1))) | D25: =IF(OR(B25="",C25="",COUNTIFS('Budgetdaten'!$B$4:$B$103,">="&$A25,'Budgetdaten'!$B$4:$B$103,"<"&DATE(YEAR($A25),MONTH($A25)+1,1),'Budgetdaten'!$A$4:$A$103,"<>")<>COUNTIFS('Budgetdaten'!$B$4:$B$103,">="&$A25,'Budgetdaten'!$B$4:$B$103,"<"&DATE(YEAR($A25),MONTH($A25)+1,1),'Budgetdaten'!$I$4:$I$103,"<>"),COUNTIFS('Budgetdaten'!$B$4:$B$103,">="&$A25,'Budgetdaten'!$B$4:$B$103,"<"&DATE(YEAR($A25),MONTH($A25)+1,1),'Budgetdaten'!$A$4:$A$103,"<>")<>COUNTIFS('Budgetdaten'!$B$4:$B$103,">="&$A25,'Budgetdaten'!$B$4:$B$103,"<"&DATE(YEAR($A25),MONTH($A25)+1,1),'Budgetdaten'!$J$4:$J$103,"<>")),"",C25-B25) | E25: =IFERROR(D25/B25,"") | F25: =IF(COUNTIFS('Budgetdaten'!$B$4:$B$103,">="&$A25,'Budgetdaten'!$B$4:$B$103,"<"&DATE(YEAR($A25),MONTH($A25)+1,1),'Budgetdaten'!$A$4:$A$103,"<>")=0,"",COUNTIFS('Budgetdaten'!$B$4:$B$103,">="&$A25,'Budgetdaten'!$B$4:$B$103,"<"&DATE(YEAR($A25),MONTH($A25)+1,1),'Budgetdaten'!$N$4:$N$103,"Manuell prüfen"))
A26: =DATE($B$3,12,1) | B26: =IF(COUNTIFS('Budgetdaten'!$B$4:$B$103,">="&$A26,'Budgetdaten'!$B$4:$B$103,"<"&DATE(YEAR($A26),MONTH($A26)+1,1),'Budgetdaten'!$I$4:$I$103,"<>")=0,"",SUMIFS('Budgetdaten'!$I$4:$I$103,'Budgetdaten'!$B$4:$B$103,">="&$A26,'Budgetdaten'!$B$4:$B$103,"<"&DATE(YEAR($A26),MONTH($A26)+1,1))) | C26: =IF(COUNTIFS('Budgetdaten'!$B$4:$B$103,">="&$A26,'Budgetdaten'!$B$4:$B$103,"<"&DATE(YEAR($A26),MONTH($A26)+1,1),'Budgetdaten'!$J$4:$J$103,"<>")=0,"",SUMIFS('Budgetdaten'!$J$4:$J$103,'Budgetdaten'!$B$4:$B$103,">="&$A26,'Budgetdaten'!$B$4:$B$103,"<"&DATE(YEAR($A26),MONTH($A26)+1,1))) | D26: =IF(OR(B26="",C26="",COUNTIFS('Budgetdaten'!$B$4:$B$103,">="&$A26,'Budgetdaten'!$B$4:$B$103,"<"&DATE(YEAR($A26),MONTH($A26)+1,1),'Budgetdaten'!$A$4:$A$103,"<>")<>COUNTIFS('Budgetdaten'!$B$4:$B$103,">="&$A26,'Budgetdaten'!$B$4:$B$103,"<"&DATE(YEAR($A26),MONTH($A26)+1,1),'Budgetdaten'!$I$4:$I$103,"<>"),COUNTIFS('Budgetdaten'!$B$4:$B$103,">="&$A26,'Budgetdaten'!$B$4:$B$103,"<"&DATE(YEAR($A26),MONTH($A26)+1,1),'Budgetdaten'!$A$4:$A$103,"<>")<>COUNTIFS('Budgetdaten'!$B$4:$B$103,">="&$A26,'Budgetdaten'!$B$4:$B$103,"<"&DATE(YEAR($A26),MONTH($A26)+1,1),'Budgetdaten'!$J$4:$J$103,"<>")),"",C26-B26) | E26: =IFERROR(D26/B26,"") | F26: =IF(COUNTIFS('Budgetdaten'!$B$4:$B$103,">="&$A26,'Budgetdaten'!$B$4:$B$103,"<"&DATE(YEAR($A26),MONTH($A26)+1,1),'Budgetdaten'!$A$4:$A$103,"<>")=0,"",COUNTIFS('Budgetdaten'!$B$4:$B$103,">="&$A26,'Budgetdaten'!$B$4:$B$103,"<"&DATE(YEAR($A26),MONTH($A26)+1,1),'Budgetdaten'!$N$4:$N$103,"Manuell prüfen"))

Sheet Budgetdaten
A1: Budgetpositionen – Soll und Ist
A2: Grün = Eingabe; berechnete Spalten nicht überschreiben. | H2: Alle Beispielpositionen sind fiktiv.
A3: Budgetkennung | B3: Monat | C3: Objektkennung | D3: Reinigungsbereich | E3: Intervall | F3: Zuständigkeit | G3: Menge | H3: Einheit | I3: Soll-Betrag | J3: Ist-Betrag | K3: Abweichung | L3: Abweichung % | M3: Status | N3: Prüfhinweis
A4: BUD-001 | B4: 46023 | C4: OBJ-FIK-01 | D4: Büroflächen | E4: werktäglich | F4: Team Morgen | G4: 3200 | H4: m² | I4: 7800 | J4: 8050 | K4: =IF(OR(I4="",J4=""),"",J4-I4) | L4: =IF(OR(I4="",J4="",I4=0),"",IFERROR((J4-I4)/I4,"")) | M4: Offen | N4: =IF(OR(I4="",J4=""),"",IF(I4=0,IF(J4<>0,"Manuell prüfen","Im Rahmen"),IF(ABS((J4-I4)/I4)>=Parameter!$B$4,"Manuell prüfen","Im Rahmen")))
A5: BUD-002 | B5: 46023 | C5: OBJ-FIK-02 | D5: Sanitärbereiche | E5: 3 × wöchentlich | F5: Team Tagesdienst | G5: 420 | H5: m² | I5: 3100 | J5: 2980 | K5: =IF(OR(I5="",J5=""),"",J5-I5) | L5: =IF(OR(I5="",J5="",I5=0),"",IFERROR((J5-I5)/I5,"")) | M5: Geprüft | N5: =IF(OR(I5="",J5=""),"",IF(I5=0,IF(J5<>0,"Manuell prüfen","Im Rahmen"),IF(ABS((J5-I5)/I5)>=Parameter!$B$4,"Manuell prüfen","Im Rahmen")))
A6: BUD-003 | B6: 46054 | C6: OBJ-FIK-01 | D6: Verkehrsflächen | E6: wöchentlich | F6: Team Abend | G6: 1500 | H6: m² | I6: 4500 | J6: 5120 | K6: =IF(OR(I6="",J6=""),"",J6-I6) | L6: =IF(OR(I6="",J6="",I6=0),"",IFERROR((J6-I6)/I6,"")) | M6: Offen | N6: =IF(OR(I6="",J6=""),"",IF(I6=0,IF(J6<>0,"Manuell prüfen","Im Rahmen"),IF(ABS((J6-I6)/I6)>=Parameter!$B$4,"Manuell prüfen","Im Rahmen")))
A7: BUD-004 | B7: 46082 | C7: OBJ-FIK-03 | D7: Glasflächen | E7: vierteljährlich | F7: Sonderteam Glas | G7: 680 | H7: m² | I7: 2400 | J7: 2250 | K7: =IF(OR(I7="",J7=""),"",J7-I7) | L7: =IF(OR(I7="",J7="",I7=0),"",IFERROR((J7-I7)/I7,"")) | M7: Freigegeben | N7: =IF(OR(I7="",J7=""),"",IF(I7=0,IF(J7<>0,"Manuell prüfen","Im Rahmen"),IF(ABS((J7-I7)/I7)>=Parameter!$B$4,"Manuell prüfen","Im Rahmen")))
A8: BUD-005 | B8: 46113 | C8: OBJ-FIK-02 | D8: Produktionsflächen | E8: werktäglich | F8: Team Abend | G8: 5100 | H8: m² | I8: 9200 | J8: 9900 | K8: =IF(OR(I8="",J8=""),"",J8-I8) | L8: =IF(OR(I8="",J8="",I8=0),"",IFERROR((J8-I8)/I8,"")) | M8: Offen | N8: =IF(OR(I8="",J8=""),"",IF(I8=0,IF(J8<>0,"Manuell prüfen","Im Rahmen"),IF(ABS((J8-I8)/I8)>=Parameter!$B$4,"Manuell prüfen","Im Rahmen")))
A9: BUD-006 | B9: 46143 | C9: OBJ-FIK-04 | D9: Treppenhäuser | E9: wöchentlich | F9: Team Morgen | G9: 1300 | H9: m² | I9: 3900 | J9: 3720 | K9: =IF(OR(I9="",J9=""),"",J9-I9) | L9: =IF(OR(I9="",J9="",I9=0),"",IFERROR((J9-I9)/I9,"")) | M9: Geprüft | N9: =IF(OR(I9="",J9=""),"",IF(I9=0,IF(J9<>0,"Manuell prüfen","Im Rahmen"),IF(ABS((J9-I9)/I9)>=Parameter!$B$4,"Manuell prüfen","Im Rahmen")))
A10: BUD-007 | B10: 46174 | C10: OBJ-FIK-01 | D10: Sanitärbereiche | E10: werktäglich | F10: Team Tagesdienst | G10: 360 | H10: m² | I10: 2850 | J10: 3180 | K10: =IF(OR(I10="",J10=""),"",J10-I10) | L10: =IF(OR(I10="",J10="",I10=0),"",IFERROR((J10-I10)/I10,"")) | M10: Offen | N10: =IF(OR(I10="",J10=""),"",IF(I10=0,IF(J10<>0,"Manuell prüfen","Im Rahmen"),IF(ABS((J10-I10)/I10)>=Parameter!$B$4,"Manuell prüfen","Im Rahmen")))
A11: BUD-008 | B11: 46204 | C11: OBJ-FIK-03 | D11: Büroflächen | E11: 3 × wöchentlich | F11: Team Abend | G11: 2100 | H11: m² | I11: 5600 | J11: 5480 | K11: =IF(OR(I11="",J11=""),"",J11-I11) | L11: =IF(OR(I11="",J11="",I11=0),"",IFERROR((J11-I11)/I11,"")) | M11: Freigegeben | N11: =IF(OR(I11="",J11=""),"",IF(I11=0,IF(J11<>0,"Manuell prüfen","Im Rahmen"),IF(ABS((J11-I11)/I11)>=Parameter!$B$4,"Manuell prüfen","Im Rahmen")))
A12: BUD-009 | B12: 46235 | C12: OBJ-FIK-04 | D12: Glasflächen | E12: vierteljährlich | F12: Sonderteam Glas | G12: 540 | H12: m² | I12: 1950 | J12: 2210 | K12: =IF(OR(I12="",J12=""),"",J12-I12) | L12: =IF(OR(I12="",J12="",I12=0),"",IFERROR((J12-I12)/I12,"")) | M12: Offen | N12: =IF(OR(I12="",J12=""),"",IF(I12=0,IF(J12<>0,"Manuell prüfen","Im Rahmen"),IF(ABS((J12-I12)/I12)>=Parameter!$B$4,"Manuell prüfen","Im Rahmen")))
A13: BUD-010 | B13: 46266 | C13: OBJ-FIK-02 | D13: Verkehrsflächen | E13: wöchentlich | F13: Team Morgen | G13: 1750 | H13: m² | I13: 4800 | J13: 4630 | K13: =IF(OR(I13="",J13=""),"",J13-I13) | L13: =IF(OR(I13="",J13="",I13=0),"",IFERROR((J13-I13)/I13,"")) | M13: Geprüft | N13: =IF(OR(I13="",J13=""),"",IF(I13=0,IF(J13<>0,"Manuell prüfen","Im Rahmen"),IF(ABS((J13-I13)/I13)>=Parameter!$B$4,"Manuell prüfen","Im Rahmen")))
K14: =IF(OR(I14="",J14=""),"",J14-I14) | L14: =IF(OR(I14="",J14="",I14=0),"",IFERROR((J14-I14)/I14,"")) | N14: =IF(OR(I14="",J14=""),"",IF(I14=0,IF(J14<>0,"Manuell prüfen","Im Rahmen"),IF(ABS((J14-I14)/I14)>=Parameter!$B$4,"Manuell prüfen","Im Rahmen")))
K15: =IF(OR(I15="",J15=""),"",J15-I15) | L15: =IF(OR(I15="",J15="",I15=0),"",IFERROR((J15-I15)/I15,"")) | N15: =IF(OR(I15="",J15=""),"",IF(I15=0,IF(J15<>0,"Manuell prüfen","Im Rahmen"),IF(ABS((J15-I15)/I15)>=Parameter!$B$4,"Manuell prüfen","Im Rahmen")))
K16: =IF(OR(I16="",J16=""),"",J16-I16) | L16: =IF(OR(I16="",J16="",I16=0),"",IFERROR((J16-I16)/I16,"")) | N16: =IF(OR(I16="",J16=""),"",IF(I16=0,IF(J16<>0,"Manuell prüfen","Im Rahmen"),IF(ABS((J16-I16)/I16)>=Parameter!$B$4,"Manuell prüfen","Im Rahmen")))
K17: =IF(OR(I17="",J17=""),"",J17-I17) | L17: =IF(OR(I17="",J17="",I17=0),"",IFERROR((J17-I17)/I17,"")) | N17: =IF(OR(I17="",J17=""),"",IF(I17=0,IF(J17<>0,"Manuell prüfen","Im Rahmen"),IF(ABS((J17-I17)/I17)>=Parameter!$B$4,"Manuell prüfen","Im Rahmen")))
K18: =IF(OR(I18="",J18=""),"",J18-I18) | L18: =IF(OR(I18="",J18="",I18=0),"",IFERROR((J18-I18)/I18,"")) | N18: =IF(OR(I18="",J18=""),"",IF(I18=0,IF(J18<>0,"Manuell prüfen","Im Rahmen"),IF(ABS((J18-I18)/I18)>=Parameter!$B$4,"Manuell prüfen","Im Rahmen")))
K19: =IF(OR(I19="",J19=""),"",J19-I19) | L19: =IF(OR(I19="",J19="",I19=0),"",IFERROR((J19-I19)/I19,"")) | N19: =IF(OR(I19="",J19=""),"",IF(I19=0,IF(J19<>0,"Manuell prüfen","Im Rahmen"),IF(ABS((J19-I19)/I19)>=Parameter!$B$4,"Manuell prüfen","Im Rahmen")))
K20: =IF(OR(I20="",J20=""),"",J20-I20) | L20: =IF(OR(I20="",J20="",I20=0),"",IFERROR((J20-I20)/I20,"")) | N20: =IF(OR(I20="",J20=""),"",IF(I20=0,IF(J20<>0,"Manuell prüfen","Im Rahmen"),IF(ABS((J20-I20)/I20)>=Parameter!$B$4,"Manuell prüfen","Im Rahmen")))
K21: =IF(OR(I21="",J21=""),"",J21-I21) | L21: =IF(OR(I21="",J21="",I21=0),"",IFERROR((J21-I21)/I21,"")) | N21: =IF(OR(I21="",J21=""),"",IF(I21=0,IF(J21<>0,"Manuell prüfen","Im Rahmen"),IF(ABS((J21-I21)/I21)>=Parameter!$B$4,"Manuell prüfen","Im Rahmen")))
K22: =IF(OR(I22="",J22=""),"",J22-I22) | L22: =IF(OR(I22="",J22="",I22=0),"",IFERROR((J22-I22)/I22,"")) | N22: =IF(OR(I22="",J22=""),"",IF(I22=0,IF(J22<>0,"Manuell prüfen","Im Rahmen"),IF(ABS((J22-I22)/I22)>=Parameter!$B$4,"Manuell prüfen","Im Rahmen")))
K23: =IF(OR(I23="",J23=""),"",J23-I23) | L23: =IF(OR(I23="",J23="",I23=0),"",IFERROR((J23-I23)/I23,"")) | N23: =IF(OR(I23="",J23=""),"",IF(I23=0,IF(J23<>0,"Manuell prüfen","Im Rahmen"),IF(ABS((J23-I23)/I23)>=Parameter!$B$4,"Manuell prüfen","Im Rahmen")))
K24: =IF(OR(I24="",J24=""),"",J24-I24) | L24: =IF(OR(I24="",J24="",I24=0),"",IFERROR((J24-I24)/I24,"")) | N24: =IF(OR(I24="",J24=""),"",IF(I24=0,IF(J24<>0,"Manuell prüfen","Im Rahmen"),IF(ABS((J24-I24)/I24)>=Parameter!$B$4,"Manuell prüfen","Im Rahmen")))
K25: =IF(OR(I25="",J25=""),"",J25-I25) | L25: =IF(OR(I25="",J25="",I25=0),"",IFERROR((J25-I25)/I25,"")) | N25: =IF(OR(I25="",J25=""),"",IF(I25=0,IF(J25<>0,"Manuell prüfen","Im Rahmen"),IF(ABS((J25-I25)/I25)>=Parameter!$B$4,"Manuell prüfen","Im Rahmen")))
... K103: =IF(OR(I103="",J103=""),"",J103-I103) | L103: =IF(OR(I103="",J103="",I103=0),"",IFERROR((J103-I103)/I103,"")) | N103: =IF(OR(I103="",J103=""),"",IF(I103=0,IF(J103<>0,"Manuell prüfen","Im Rahmen"),IF(ABS((J103-I103)/I103)>=Parameter!$B$4,"Manuell prüfen","Im Rahmen")))

Sheet Parameter
A1: Parameter und stabile Statuswerte
A2: Grün markierte Werte sind veränderbare Planungsannahmen.
A3: Annahme | B3: Wert | C3: Verwendung | E3: Stabile Statuswerte
A4: Prüfschwelle Abweichung | B4: 0.1 | C4: Ab dieser absoluten Abweichung wird eine manuelle Prüfung markiert. | E4: Offen
A5: Planjahr | B5: 2026 | C5: Steuert die Jahresauswertung und die Datumsprüfung. | E5: Geprüft
E6: Freigegeben
A8: Hinweis | C8: Alle Kennungen und Beispielwerte sind ausdrücklich fiktiv. Die Arbeitsmappe dient der internen Budgetplanung und ersetzt keine rechtliche, steuerliche oder vertragliche Prüfung.
