Workbook

Sheet Übersicht
A1: Cashflow Reinigungsfirma Excel
A2: Berechnete Vorschau aus dem Zahlungsplan. Prüfhinweise unterstützen die manuelle Entscheidung der Objektleitung oder Disposition.
A4: Kennzahl | B4: Wert | D4: Prüftermin | E4: Prognosebestand
A5: Stichtag | B5: =Parameter!$B$5 | D5: =IF($B$5="","",$B$5) | E5: =IF($D5="","",IFERROR($B$7+SUMIFS(Zahlungsplan!$E$5:$E$104,Zahlungsplan!$B$5:$B$104,">="&$B$5,Zahlungsplan!$B$5:$B$104,"<="&$D5,Zahlungsplan!$G$5:$G$104,"Geplant")+SUMIFS(Zahlungsplan!$E$5:$E$104,Zahlungsplan!$B$5:$B$104,">="&$B$5,Zahlungsplan!$B$5:$B$104,"<="&$D5,Zahlungsplan!$G$5:$G$104,"Freigegeben")-SUMIFS(Zahlungsplan!$F$5:$F$104,Zahlungsplan!$B$5:$B$104,">="&$B$5,Zahlungsplan!$B$5:$B$104,"<="&$D5,Zahlungsplan!$G$5:$G$104,"Geplant")-SUMIFS(Zahlungsplan!$F$5:$F$104,Zahlungsplan!$B$5:$B$104,">="&$B$5,Zahlungsplan!$B$5:$B$104,"<="&$D5,Zahlungsplan!$G$5:$G$104,"Freigegeben"),""))
A6: Planende | B6: =Parameter!$B$9 | D6: =IF(OR($B$5="",$B$6=""),"",$B$5+ROUND(($B$6-$B$5)*(ROW()-ROW($D$5))/8,0)) | E6: =IF($D6="","",IFERROR($B$7+SUMIFS(Zahlungsplan!$E$5:$E$104,Zahlungsplan!$B$5:$B$104,">="&$B$5,Zahlungsplan!$B$5:$B$104,"<="&$D6,Zahlungsplan!$G$5:$G$104,"Geplant")+SUMIFS(Zahlungsplan!$E$5:$E$104,Zahlungsplan!$B$5:$B$104,">="&$B$5,Zahlungsplan!$B$5:$B$104,"<="&$D6,Zahlungsplan!$G$5:$G$104,"Freigegeben")-SUMIFS(Zahlungsplan!$F$5:$F$104,Zahlungsplan!$B$5:$B$104,">="&$B$5,Zahlungsplan!$B$5:$B$104,"<="&$D6,Zahlungsplan!$G$5:$G$104,"Geplant")-SUMIFS(Zahlungsplan!$F$5:$F$104,Zahlungsplan!$B$5:$B$104,">="&$B$5,Zahlungsplan!$B$5:$B$104,"<="&$D6,Zahlungsplan!$G$5:$G$104,"Freigegeben"),""))
A7: Anfangsbestand | B7: =Parameter!$B$6 | D7: =IF(OR($B$5="",$B$6=""),"",$B$5+ROUND(($B$6-$B$5)*(ROW()-ROW($D$5))/8,0)) | E7: =IF($D7="","",IFERROR($B$7+SUMIFS(Zahlungsplan!$E$5:$E$104,Zahlungsplan!$B$5:$B$104,">="&$B$5,Zahlungsplan!$B$5:$B$104,"<="&$D7,Zahlungsplan!$G$5:$G$104,"Geplant")+SUMIFS(Zahlungsplan!$E$5:$E$104,Zahlungsplan!$B$5:$B$104,">="&$B$5,Zahlungsplan!$B$5:$B$104,"<="&$D7,Zahlungsplan!$G$5:$G$104,"Freigegeben")-SUMIFS(Zahlungsplan!$F$5:$F$104,Zahlungsplan!$B$5:$B$104,">="&$B$5,Zahlungsplan!$B$5:$B$104,"<="&$D7,Zahlungsplan!$G$5:$G$104,"Geplant")-SUMIFS(Zahlungsplan!$F$5:$F$104,Zahlungsplan!$B$5:$B$104,">="&$B$5,Zahlungsplan!$B$5:$B$104,"<="&$D7,Zahlungsplan!$G$5:$G$104,"Freigegeben"),""))
A8: Einzahlungen im Planhorizont | B8: =IFERROR(SUMIFS(Zahlungsplan!$E$5:$E$104,Zahlungsplan!$B$5:$B$104,">="&$B$5,Zahlungsplan!$B$5:$B$104,"<="&$B$6,Zahlungsplan!$G$5:$G$104,"Geplant")+SUMIFS(Zahlungsplan!$E$5:$E$104,Zahlungsplan!$B$5:$B$104,">="&$B$5,Zahlungsplan!$B$5:$B$104,"<="&$B$6,Zahlungsplan!$G$5:$G$104,"Freigegeben"),"") | D8: =IF(OR($B$5="",$B$6=""),"",$B$5+ROUND(($B$6-$B$5)*(ROW()-ROW($D$5))/8,0)) | E8: =IF($D8="","",IFERROR($B$7+SUMIFS(Zahlungsplan!$E$5:$E$104,Zahlungsplan!$B$5:$B$104,">="&$B$5,Zahlungsplan!$B$5:$B$104,"<="&$D8,Zahlungsplan!$G$5:$G$104,"Geplant")+SUMIFS(Zahlungsplan!$E$5:$E$104,Zahlungsplan!$B$5:$B$104,">="&$B$5,Zahlungsplan!$B$5:$B$104,"<="&$D8,Zahlungsplan!$G$5:$G$104,"Freigegeben")-SUMIFS(Zahlungsplan!$F$5:$F$104,Zahlungsplan!$B$5:$B$104,">="&$B$5,Zahlungsplan!$B$5:$B$104,"<="&$D8,Zahlungsplan!$G$5:$G$104,"Geplant")-SUMIFS(Zahlungsplan!$F$5:$F$104,Zahlungsplan!$B$5:$B$104,">="&$B$5,Zahlungsplan!$B$5:$B$104,"<="&$D8,Zahlungsplan!$G$5:$G$104,"Freigegeben"),""))
A9: Auszahlungen im Planhorizont | B9: =IFERROR(SUMIFS(Zahlungsplan!$F$5:$F$104,Zahlungsplan!$B$5:$B$104,">="&$B$5,Zahlungsplan!$B$5:$B$104,"<="&$B$6,Zahlungsplan!$G$5:$G$104,"Geplant")+SUMIFS(Zahlungsplan!$F$5:$F$104,Zahlungsplan!$B$5:$B$104,">="&$B$5,Zahlungsplan!$B$5:$B$104,"<="&$B$6,Zahlungsplan!$G$5:$G$104,"Freigegeben"),"") | D9: =IF(OR($B$5="",$B$6=""),"",$B$5+ROUND(($B$6-$B$5)*(ROW()-ROW($D$5))/8,0)) | E9: =IF($D9="","",IFERROR($B$7+SUMIFS(Zahlungsplan!$E$5:$E$104,Zahlungsplan!$B$5:$B$104,">="&$B$5,Zahlungsplan!$B$5:$B$104,"<="&$D9,Zahlungsplan!$G$5:$G$104,"Geplant")+SUMIFS(Zahlungsplan!$E$5:$E$104,Zahlungsplan!$B$5:$B$104,">="&$B$5,Zahlungsplan!$B$5:$B$104,"<="&$D9,Zahlungsplan!$G$5:$G$104,"Freigegeben")-SUMIFS(Zahlungsplan!$F$5:$F$104,Zahlungsplan!$B$5:$B$104,">="&$B$5,Zahlungsplan!$B$5:$B$104,"<="&$D9,Zahlungsplan!$G$5:$G$104,"Geplant")-SUMIFS(Zahlungsplan!$F$5:$F$104,Zahlungsplan!$B$5:$B$104,">="&$B$5,Zahlungsplan!$B$5:$B$104,"<="&$D9,Zahlungsplan!$G$5:$G$104,"Freigegeben"),""))
A10: Prognose Endbestand | B10: =IFERROR($B$7+$B$8-$B$9,"") | D10: =IF(OR($B$5="",$B$6=""),"",$B$5+ROUND(($B$6-$B$5)*(ROW()-ROW($D$5))/8,0)) | E10: =IF($D10="","",IFERROR($B$7+SUMIFS(Zahlungsplan!$E$5:$E$104,Zahlungsplan!$B$5:$B$104,">="&$B$5,Zahlungsplan!$B$5:$B$104,"<="&$D10,Zahlungsplan!$G$5:$G$104,"Geplant")+SUMIFS(Zahlungsplan!$E$5:$E$104,Zahlungsplan!$B$5:$B$104,">="&$B$5,Zahlungsplan!$B$5:$B$104,"<="&$D10,Zahlungsplan!$G$5:$G$104,"Freigegeben")-SUMIFS(Zahlungsplan!$F$5:$F$104,Zahlungsplan!$B$5:$B$104,">="&$B$5,Zahlungsplan!$B$5:$B$104,"<="&$D10,Zahlungsplan!$G$5:$G$104,"Geplant")-SUMIFS(Zahlungsplan!$F$5:$F$104,Zahlungsplan!$B$5:$B$104,">="&$B$5,Zahlungsplan!$B$5:$B$104,"<="&$D10,Zahlungsplan!$G$5:$G$104,"Freigegeben"),""))
A11: Niedrigster Prognosebestand | B11: =IF(COUNT(Zahlungsplan!$I$5:$I$104)=0,$B$7,MIN($B$7,MIN(Zahlungsplan!$I$5:$I$104))) | D11: =IF(OR($B$5="",$B$6=""),"",$B$5+ROUND(($B$6-$B$5)*(ROW()-ROW($D$5))/8,0)) | E11: =IF($D11="","",IFERROR($B$7+SUMIFS(Zahlungsplan!$E$5:$E$104,Zahlungsplan!$B$5:$B$104,">="&$B$5,Zahlungsplan!$B$5:$B$104,"<="&$D11,Zahlungsplan!$G$5:$G$104,"Geplant")+SUMIFS(Zahlungsplan!$E$5:$E$104,Zahlungsplan!$B$5:$B$104,">="&$B$5,Zahlungsplan!$B$5:$B$104,"<="&$D11,Zahlungsplan!$G$5:$G$104,"Freigegeben")-SUMIFS(Zahlungsplan!$F$5:$F$104,Zahlungsplan!$B$5:$B$104,">="&$B$5,Zahlungsplan!$B$5:$B$104,"<="&$D11,Zahlungsplan!$G$5:$G$104,"Geplant")-SUMIFS(Zahlungsplan!$F$5:$F$104,Zahlungsplan!$B$5:$B$104,">="&$B$5,Zahlungsplan!$B$5:$B$104,"<="&$D11,Zahlungsplan!$G$5:$G$104,"Freigegeben"),""))
A12: Abstand zur Warnschwelle | B12: =IFERROR($B$11-Parameter!$B$7,"") | D12: =IF(OR($B$5="",$B$6=""),"",$B$5+ROUND(($B$6-$B$5)*(ROW()-ROW($D$5))/8,0)) | E12: =IF($D12="","",IFERROR($B$7+SUMIFS(Zahlungsplan!$E$5:$E$104,Zahlungsplan!$B$5:$B$104,">="&$B$5,Zahlungsplan!$B$5:$B$104,"<="&$D12,Zahlungsplan!$G$5:$G$104,"Geplant")+SUMIFS(Zahlungsplan!$E$5:$E$104,Zahlungsplan!$B$5:$B$104,">="&$B$5,Zahlungsplan!$B$5:$B$104,"<="&$D12,Zahlungsplan!$G$5:$G$104,"Freigegeben")-SUMIFS(Zahlungsplan!$F$5:$F$104,Zahlungsplan!$B$5:$B$104,">="&$B$5,Zahlungsplan!$B$5:$B$104,"<="&$D12,Zahlungsplan!$G$5:$G$104,"Geplant")-SUMIFS(Zahlungsplan!$F$5:$F$104,Zahlungsplan!$B$5:$B$104,">="&$B$5,Zahlungsplan!$B$5:$B$104,"<="&$D12,Zahlungsplan!$G$5:$G$104,"Freigegeben"),""))
A13: Auszahlungen nächste 14 Tage | B13: =IFERROR(SUMIFS(Zahlungsplan!$F$5:$F$104,Zahlungsplan!$B$5:$B$104,">="&$B$5,Zahlungsplan!$B$5:$B$104,"<="&MIN($B$6,$B$5+14),Zahlungsplan!$G$5:$G$104,"Geplant")+SUMIFS(Zahlungsplan!$F$5:$F$104,Zahlungsplan!$B$5:$B$104,">="&$B$5,Zahlungsplan!$B$5:$B$104,"<="&MIN($B$6,$B$5+14),Zahlungsplan!$G$5:$G$104,"Freigegeben"),"") | D13: =IF(OR($B$5="",$B$6=""),"",$B$5+ROUND(($B$6-$B$5)*(ROW()-ROW($D$5))/8,0)) | E13: =IF($D13="","",IFERROR($B$7+SUMIFS(Zahlungsplan!$E$5:$E$104,Zahlungsplan!$B$5:$B$104,">="&$B$5,Zahlungsplan!$B$5:$B$104,"<="&$D13,Zahlungsplan!$G$5:$G$104,"Geplant")+SUMIFS(Zahlungsplan!$E$5:$E$104,Zahlungsplan!$B$5:$B$104,">="&$B$5,Zahlungsplan!$B$5:$B$104,"<="&$D13,Zahlungsplan!$G$5:$G$104,"Freigegeben")-SUMIFS(Zahlungsplan!$F$5:$F$104,Zahlungsplan!$B$5:$B$104,">="&$B$5,Zahlungsplan!$B$5:$B$104,"<="&$D13,Zahlungsplan!$G$5:$G$104,"Geplant")-SUMIFS(Zahlungsplan!$F$5:$F$104,Zahlungsplan!$B$5:$B$104,">="&$B$5,Zahlungsplan!$B$5:$B$104,"<="&$D13,Zahlungsplan!$G$5:$G$104,"Freigegeben"),""))
A14: Vorgänge mit Prüfhinweis | B14: =COUNTIF(Zahlungsplan!$J$5:$J$104,"Prüfen:*")
A15: Entscheidungshinweis | B15: =IF($B$14>0,"Prüfhinweise im Zahlungsplan bearbeiten",IF($B$11<Parameter!$B$7,"Zahlungsabfolge manuell prüfen","Liquidität im Planhorizont unauffällig"))

Sheet Zahlungsplan
A1: Zahlungsplan nach Fälligkeit
A2: Grün markierte Zellen sind editierbar. Geplant und Freigegeben werden in der Prognose berücksichtigt; Erledigt und Zurückgestellt werden nicht eingerechnet.
A4: Vorgang-ID | B4: Fälligkeit | C4: Reinigungsbereich / Vorgang | D4: Zuständigkeit | E4: Einzahlung (€) | F4: Auszahlung (€) | G4: Status | H4: Berücksichtigter Nettofluss | I4: Prognosebestand | J4: Prüfhinweis
A5: CF-2026-001 | B5: 46272 | C5: Fiktivobjekt Eichenbogen – Büroflächen | D5: Objektleitung Nord | E5: 2500 | G5: Erledigt | H5: =IF($A5="","",IF(OR($G5="Geplant",$G5="Freigegeben"),IF(COUNT($E5:$F5)=0,"",IFERROR(SUM($E5)-SUM($F5),"")),"")) | I5: =IFERROR(IF(OR($A5="",$B5="",$B5<Parameter!$B$5,$B5>Parameter!$B$9,NOT(OR($G5="Geplant",$G5="Freigegeben"))),"",Parameter!$B$6+SUMIFS($H$5:$H$104,$B$5:$B$104,">="&Parameter!$B$5,$B$5:$B$104,"<="&$B5)),"") | J5: =IF($A5="","",IFERROR(IF(OR($B5="",$C5="",$D5="",$G5=""),"Prüfen: Pflichtangabe fehlt",IF(AND($G5<>"Geplant",$G5<>"Freigegeben",$G5<>"Erledigt",$G5<>"Zurückgestellt"),"Prüfen: Status kontrollieren",IF(COUNTIF($E5:$F5,">0")<>1,"Prüfen: genau einen Betrag erfassen",IF(AND($B5<Parameter!$B$5,OR($G5="Geplant",$G5="Freigegeben")),"Prüfen: Fälligkeit vor Stichtag",IF(AND($I5<>"",$I5<Parameter!$B$7),"Prüfen: Bestand unter Warnschwelle","OK"))))),"Prüfen: Eingaben kontrollieren"))
A6: CF-2026-002 | B6: 46276 | C6: Fiktivobjekt Fichtenhof – Büroflächen | D6: Objektleitung Nord | E6: 4500 | G6: Geplant | H6: =IF($A6="","",IF(OR($G6="Geplant",$G6="Freigegeben"),IF(COUNT($E6:$F6)=0,"",IFERROR(SUM($E6)-SUM($F6),"")),"")) | I6: =IFERROR(IF(OR($A6="",$B6="",$B6<Parameter!$B$5,$B6>Parameter!$B$9,NOT(OR($G6="Geplant",$G6="Freigegeben"))),"",Parameter!$B$6+SUMIFS($H$5:$H$104,$B$5:$B$104,">="&Parameter!$B$5,$B$5:$B$104,"<="&$B6)),"") | J6: =IF($A6="","",IFERROR(IF(OR($B6="",$C6="",$D6="",$G6=""),"Prüfen: Pflichtangabe fehlt",IF(AND($G6<>"Geplant",$G6<>"Freigegeben",$G6<>"Erledigt",$G6<>"Zurückgestellt"),"Prüfen: Status kontrollieren",IF(COUNTIF($E6:$F6,">0")<>1,"Prüfen: genau einen Betrag erfassen",IF(AND($B6<Parameter!$B$5,OR($G6="Geplant",$G6="Freigegeben")),"Prüfen: Fälligkeit vor Stichtag",IF(AND($I6<>"",$I6<Parameter!$B$7),"Prüfen: Bestand unter Warnschwelle","OK"))))),"Prüfen: Eingaben kontrollieren"))
A7: CF-2026-003 | B7: 46278 | C7: Betriebsbereich – Reinigungsmittel | D7: Disposition Material | F7: 2300 | G7: Freigegeben | H7: =IF($A7="","",IF(OR($G7="Geplant",$G7="Freigegeben"),IF(COUNT($E7:$F7)=0,"",IFERROR(SUM($E7)-SUM($F7),"")),"")) | I7: =IFERROR(IF(OR($A7="",$B7="",$B7<Parameter!$B$5,$B7>Parameter!$B$9,NOT(OR($G7="Geplant",$G7="Freigegeben"))),"",Parameter!$B$6+SUMIFS($H$5:$H$104,$B$5:$B$104,">="&Parameter!$B$5,$B$5:$B$104,"<="&$B7)),"") | J7: =IF($A7="","",IFERROR(IF(OR($B7="",$C7="",$D7="",$G7=""),"Prüfen: Pflichtangabe fehlt",IF(AND($G7<>"Geplant",$G7<>"Freigegeben",$G7<>"Erledigt",$G7<>"Zurückgestellt"),"Prüfen: Status kontrollieren",IF(COUNTIF($E7:$F7,">0")<>1,"Prüfen: genau einen Betrag erfassen",IF(AND($B7<Parameter!$B$5,OR($G7="Geplant",$G7="Freigegeben")),"Prüfen: Fälligkeit vor Stichtag",IF(AND($I7<>"",$I7<Parameter!$B$7),"Prüfen: Bestand unter Warnschwelle","OK"))))),"Prüfen: Eingaben kontrollieren"))
A8: CF-2026-004 | B8: 46282 | C8: Betriebsbereich – Einsatzplanung | D8: Disposition Personal | F8: 9600 | G8: Freigegeben | H8: =IF($A8="","",IF(OR($G8="Geplant",$G8="Freigegeben"),IF(COUNT($E8:$F8)=0,"",IFERROR(SUM($E8)-SUM($F8),"")),"")) | I8: =IFERROR(IF(OR($A8="",$B8="",$B8<Parameter!$B$5,$B8>Parameter!$B$9,NOT(OR($G8="Geplant",$G8="Freigegeben"))),"",Parameter!$B$6+SUMIFS($H$5:$H$104,$B$5:$B$104,">="&Parameter!$B$5,$B$5:$B$104,"<="&$B8)),"") | J8: =IF($A8="","",IFERROR(IF(OR($B8="",$C8="",$D8="",$G8=""),"Prüfen: Pflichtangabe fehlt",IF(AND($G8<>"Geplant",$G8<>"Freigegeben",$G8<>"Erledigt",$G8<>"Zurückgestellt"),"Prüfen: Status kontrollieren",IF(COUNTIF($E8:$F8,">0")<>1,"Prüfen: genau einen Betrag erfassen",IF(AND($B8<Parameter!$B$5,OR($G8="Geplant",$G8="Freigegeben")),"Prüfen: Fälligkeit vor Stichtag",IF(AND($I8<>"",$I8<Parameter!$B$7),"Prüfen: Bestand unter Warnschwelle","OK"))))),"Prüfen: Eingaben kontrollieren"))
A9: CF-2026-005 | B9: 46286 | C9: Fiktivobjekt Morgenhain – Treppenhäuser | D9: Objektleitung Mitte | E9: 7200 | G9: Geplant | H9: =IF($A9="","",IF(OR($G9="Geplant",$G9="Freigegeben"),IF(COUNT($E9:$F9)=0,"",IFERROR(SUM($E9)-SUM($F9),"")),"")) | I9: =IFERROR(IF(OR($A9="",$B9="",$B9<Parameter!$B$5,$B9>Parameter!$B$9,NOT(OR($G9="Geplant",$G9="Freigegeben"))),"",Parameter!$B$6+SUMIFS($H$5:$H$104,$B$5:$B$104,">="&Parameter!$B$5,$B$5:$B$104,"<="&$B9)),"") | J9: =IF($A9="","",IFERROR(IF(OR($B9="",$C9="",$D9="",$G9=""),"Prüfen: Pflichtangabe fehlt",IF(AND($G9<>"Geplant",$G9<>"Freigegeben",$G9<>"Erledigt",$G9<>"Zurückgestellt"),"Prüfen: Status kontrollieren",IF(COUNTIF($E9:$F9,">0")<>1,"Prüfen: genau einen Betrag erfassen",IF(AND($B9<Parameter!$B$5,OR($G9="Geplant",$G9="Freigegeben")),"Prüfen: Fälligkeit vor Stichtag",IF(AND($I9<>"",$I9<Parameter!$B$7),"Prüfen: Bestand unter Warnschwelle","OK"))))),"Prüfen: Eingaben kontrollieren"))
A10: CF-2026-006 | B10: 46292 | C10: Betriebsbereich – Maschinenmiete | D10: Disposition Technik | F10: 1400 | G10: Geplant | H10: =IF($A10="","",IF(OR($G10="Geplant",$G10="Freigegeben"),IF(COUNT($E10:$F10)=0,"",IFERROR(SUM($E10)-SUM($F10),"")),"")) | I10: =IFERROR(IF(OR($A10="",$B10="",$B10<Parameter!$B$5,$B10>Parameter!$B$9,NOT(OR($G10="Geplant",$G10="Freigegeben"))),"",Parameter!$B$6+SUMIFS($H$5:$H$104,$B$5:$B$104,">="&Parameter!$B$5,$B$5:$B$104,"<="&$B10)),"") | J10: =IF($A10="","",IFERROR(IF(OR($B10="",$C10="",$D10="",$G10=""),"Prüfen: Pflichtangabe fehlt",IF(AND($G10<>"Geplant",$G10<>"Freigegeben",$G10<>"Erledigt",$G10<>"Zurückgestellt"),"Prüfen: Status kontrollieren",IF(COUNTIF($E10:$F10,">0")<>1,"Prüfen: genau einen Betrag erfassen",IF(AND($B10<Parameter!$B$5,OR($G10="Geplant",$G10="Freigegeben")),"Prüfen: Fälligkeit vor Stichtag",IF(AND($I10<>"",$I10<Parameter!$B$7),"Prüfen: Bestand unter Warnschwelle","OK"))))),"Prüfen: Eingaben kontrollieren"))
A11: CF-2026-007 | B11: 46297 | C11: Fiktivobjekt Silberquell – Sanitärbereiche | D11: Objektleitung West | E11: 10500 | G11: Freigegeben | H11: =IF($A11="","",IF(OR($G11="Geplant",$G11="Freigegeben"),IF(COUNT($E11:$F11)=0,"",IFERROR(SUM($E11)-SUM($F11),"")),"")) | I11: =IFERROR(IF(OR($A11="",$B11="",$B11<Parameter!$B$5,$B11>Parameter!$B$9,NOT(OR($G11="Geplant",$G11="Freigegeben"))),"",Parameter!$B$6+SUMIFS($H$5:$H$104,$B$5:$B$104,">="&Parameter!$B$5,$B$5:$B$104,"<="&$B11)),"") | J11: =IF($A11="","",IFERROR(IF(OR($B11="",$C11="",$D11="",$G11=""),"Prüfen: Pflichtangabe fehlt",IF(AND($G11<>"Geplant",$G11<>"Freigegeben",$G11<>"Erledigt",$G11<>"Zurückgestellt"),"Prüfen: Status kontrollieren",IF(COUNTIF($E11:$F11,">0")<>1,"Prüfen: genau einen Betrag erfassen",IF(AND($B11<Parameter!$B$5,OR($G11="Geplant",$G11="Freigegeben")),"Prüfen: Fälligkeit vor Stichtag",IF(AND($I11<>"",$I11<Parameter!$B$7),"Prüfen: Bestand unter Warnschwelle","OK"))))),"Prüfen: Eingaben kontrollieren"))
A12: CF-2026-008 | B12: 46304 | C12: Fiktivobjekt Wolkensteg – Glasflächen | D12: Objektleitung Süd | F12: 3800 | G12: Zurückgestellt | H12: =IF($A12="","",IF(OR($G12="Geplant",$G12="Freigegeben"),IF(COUNT($E12:$F12)=0,"",IFERROR(SUM($E12)-SUM($F12),"")),"")) | I12: =IFERROR(IF(OR($A12="",$B12="",$B12<Parameter!$B$5,$B12>Parameter!$B$9,NOT(OR($G12="Geplant",$G12="Freigegeben"))),"",Parameter!$B$6+SUMIFS($H$5:$H$104,$B$5:$B$104,">="&Parameter!$B$5,$B$5:$B$104,"<="&$B12)),"") | J12: =IF($A12="","",IFERROR(IF(OR($B12="",$C12="",$D12="",$G12=""),"Prüfen: Pflichtangabe fehlt",IF(AND($G12<>"Geplant",$G12<>"Freigegeben",$G12<>"Erledigt",$G12<>"Zurückgestellt"),"Prüfen: Status kontrollieren",IF(COUNTIF($E12:$F12,">0")<>1,"Prüfen: genau einen Betrag erfassen",IF(AND($B12<Parameter!$B$5,OR($G12="Geplant",$G12="Freigegeben")),"Prüfen: Fälligkeit vor Stichtag",IF(AND($I12<>"",$I12<Parameter!$B$7),"Prüfen: Bestand unter Warnschwelle","OK"))))),"Prüfen: Eingaben kontrollieren"))
A13: CF-2026-009 | B13: 46310 | C13: Fiktivobjekt Lindenwerk – Lagerflächen | D13: Objektleitung Ost | E13: 6400 | G13: Geplant | H13: =IF($A13="","",IF(OR($G13="Geplant",$G13="Freigegeben"),IF(COUNT($E13:$F13)=0,"",IFERROR(SUM($E13)-SUM($F13),"")),"")) | I13: =IFERROR(IF(OR($A13="",$B13="",$B13<Parameter!$B$5,$B13>Parameter!$B$9,NOT(OR($G13="Geplant",$G13="Freigegeben"))),"",Parameter!$B$6+SUMIFS($H$5:$H$104,$B$5:$B$104,">="&Parameter!$B$5,$B$5:$B$104,"<="&$B13)),"") | J13: =IF($A13="","",IFERROR(IF(OR($B13="",$C13="",$D13="",$G13=""),"Prüfen: Pflichtangabe fehlt",IF(AND($G13<>"Geplant",$G13<>"Freigegeben",$G13<>"Erledigt",$G13<>"Zurückgestellt"),"Prüfen: Status kontrollieren",IF(COUNTIF($E13:$F13,">0")<>1,"Prüfen: genau einen Betrag erfassen",IF(AND($B13<Parameter!$B$5,OR($G13="Geplant",$G13="Freigegeben")),"Prüfen: Fälligkeit vor Stichtag",IF(AND($I13<>"",$I13<Parameter!$B$7),"Prüfen: Bestand unter Warnschwelle","OK"))))),"Prüfen: Eingaben kontrollieren"))
A14: CF-2026-010 | B14: 46320 | C14: Betriebsbereich – Verbrauchsmaterial | D14: Disposition Material | F14: 2750 | G14: Geplant | H14: =IF($A14="","",IF(OR($G14="Geplant",$G14="Freigegeben"),IF(COUNT($E14:$F14)=0,"",IFERROR(SUM($E14)-SUM($F14),"")),"")) | I14: =IFERROR(IF(OR($A14="",$B14="",$B14<Parameter!$B$5,$B14>Parameter!$B$9,NOT(OR($G14="Geplant",$G14="Freigegeben"))),"",Parameter!$B$6+SUMIFS($H$5:$H$104,$B$5:$B$104,">="&Parameter!$B$5,$B$5:$B$104,"<="&$B14)),"") | J14: =IF($A14="","",IFERROR(IF(OR($B14="",$C14="",$D14="",$G14=""),"Prüfen: Pflichtangabe fehlt",IF(AND($G14<>"Geplant",$G14<>"Freigegeben",$G14<>"Erledigt",$G14<>"Zurückgestellt"),"Prüfen: Status kontrollieren",IF(COUNTIF($E14:$F14,">0")<>1,"Prüfen: genau einen Betrag erfassen",IF(AND($B14<Parameter!$B$5,OR($G14="Geplant",$G14="Freigegeben")),"Prüfen: Fälligkeit vor Stichtag",IF(AND($I14<>"",$I14<Parameter!$B$7),"Prüfen: Bestand unter Warnschwelle","OK"))))),"Prüfen: Eingaben kontrollieren"))
H15: =IF($A15="","",IF(OR($G15="Geplant",$G15="Freigegeben"),IF(COUNT($E15:$F15)=0,"",IFERROR(SUM($E15)-SUM($F15),"")),"")) | I15: =IFERROR(IF(OR($A15="",$B15="",$B15<Parameter!$B$5,$B15>Parameter!$B$9,NOT(OR($G15="Geplant",$G15="Freigegeben"))),"",Parameter!$B$6+SUMIFS($H$5:$H$104,$B$5:$B$104,">="&Parameter!$B$5,$B$5:$B$104,"<="&$B15)),"") | J15: =IF($A15="","",IFERROR(IF(OR($B15="",$C15="",$D15="",$G15=""),"Prüfen: Pflichtangabe fehlt",IF(AND($G15<>"Geplant",$G15<>"Freigegeben",$G15<>"Erledigt",$G15<>"Zurückgestellt"),"Prüfen: Status kontrollieren",IF(COUNTIF($E15:$F15,">0")<>1,"Prüfen: genau einen Betrag erfassen",IF(AND($B15<Parameter!$B$5,OR($G15="Geplant",$G15="Freigegeben")),"Prüfen: Fälligkeit vor Stichtag",IF(AND($I15<>"",$I15<Parameter!$B$7),"Prüfen: Bestand unter Warnschwelle","OK"))))),"Prüfen: Eingaben kontrollieren"))
H16: =IF($A16="","",IF(OR($G16="Geplant",$G16="Freigegeben"),IF(COUNT($E16:$F16)=0,"",IFERROR(SUM($E16)-SUM($F16),"")),"")) | I16: =IFERROR(IF(OR($A16="",$B16="",$B16<Parameter!$B$5,$B16>Parameter!$B$9,NOT(OR($G16="Geplant",$G16="Freigegeben"))),"",Parameter!$B$6+SUMIFS($H$5:$H$104,$B$5:$B$104,">="&Parameter!$B$5,$B$5:$B$104,"<="&$B16)),"") | J16: =IF($A16="","",IFERROR(IF(OR($B16="",$C16="",$D16="",$G16=""),"Prüfen: Pflichtangabe fehlt",IF(AND($G16<>"Geplant",$G16<>"Freigegeben",$G16<>"Erledigt",$G16<>"Zurückgestellt"),"Prüfen: Status kontrollieren",IF(COUNTIF($E16:$F16,">0")<>1,"Prüfen: genau einen Betrag erfassen",IF(AND($B16<Parameter!$B$5,OR($G16="Geplant",$G16="Freigegeben")),"Prüfen: Fälligkeit vor Stichtag",IF(AND($I16<>"",$I16<Parameter!$B$7),"Prüfen: Bestand unter Warnschwelle","OK"))))),"Prüfen: Eingaben kontrollieren"))
H17: =IF($A17="","",IF(OR($G17="Geplant",$G17="Freigegeben"),IF(COUNT($E17:$F17)=0,"",IFERROR(SUM($E17)-SUM($F17),"")),"")) | I17: =IFERROR(IF(OR($A17="",$B17="",$B17<Parameter!$B$5,$B17>Parameter!$B$9,NOT(OR($G17="Geplant",$G17="Freigegeben"))),"",Parameter!$B$6+SUMIFS($H$5:$H$104,$B$5:$B$104,">="&Parameter!$B$5,$B$5:$B$104,"<="&$B17)),"") | J17: =IF($A17="","",IFERROR(IF(OR($B17="",$C17="",$D17="",$G17=""),"Prüfen: Pflichtangabe fehlt",IF(AND($G17<>"Geplant",$G17<>"Freigegeben",$G17<>"Erledigt",$G17<>"Zurückgestellt"),"Prüfen: Status kontrollieren",IF(COUNTIF($E17:$F17,">0")<>1,"Prüfen: genau einen Betrag erfassen",IF(AND($B17<Parameter!$B$5,OR($G17="Geplant",$G17="Freigegeben")),"Prüfen: Fälligkeit vor Stichtag",IF(AND($I17<>"",$I17<Parameter!$B$7),"Prüfen: Bestand unter Warnschwelle","OK"))))),"Prüfen: Eingaben kontrollieren"))
H18: =IF($A18="","",IF(OR($G18="Geplant",$G18="Freigegeben"),IF(COUNT($E18:$F18)=0,"",IFERROR(SUM($E18)-SUM($F18),"")),"")) | I18: =IFERROR(IF(OR($A18="",$B18="",$B18<Parameter!$B$5,$B18>Parameter!$B$9,NOT(OR($G18="Geplant",$G18="Freigegeben"))),"",Parameter!$B$6+SUMIFS($H$5:$H$104,$B$5:$B$104,">="&Parameter!$B$5,$B$5:$B$104,"<="&$B18)),"") | J18: =IF($A18="","",IFERROR(IF(OR($B18="",$C18="",$D18="",$G18=""),"Prüfen: Pflichtangabe fehlt",IF(AND($G18<>"Geplant",$G18<>"Freigegeben",$G18<>"Erledigt",$G18<>"Zurückgestellt"),"Prüfen: Status kontrollieren",IF(COUNTIF($E18:$F18,">0")<>1,"Prüfen: genau einen Betrag erfassen",IF(AND($B18<Parameter!$B$5,OR($G18="Geplant",$G18="Freigegeben")),"Prüfen: Fälligkeit vor Stichtag",IF(AND($I18<>"",$I18<Parameter!$B$7),"Prüfen: Bestand unter Warnschwelle","OK"))))),"Prüfen: Eingaben kontrollieren"))
H19: =IF($A19="","",IF(OR($G19="Geplant",$G19="Freigegeben"),IF(COUNT($E19:$F19)=0,"",IFERROR(SUM($E19)-SUM($F19),"")),"")) | I19: =IFERROR(IF(OR($A19="",$B19="",$B19<Parameter!$B$5,$B19>Parameter!$B$9,NOT(OR($G19="Geplant",$G19="Freigegeben"))),"",Parameter!$B$6+SUMIFS($H$5:$H$104,$B$5:$B$104,">="&Parameter!$B$5,$B$5:$B$104,"<="&$B19)),"") | J19: =IF($A19="","",IFERROR(IF(OR($B19="",$C19="",$D19="",$G19=""),"Prüfen: Pflichtangabe fehlt",IF(AND($G19<>"Geplant",$G19<>"Freigegeben",$G19<>"Erledigt",$G19<>"Zurückgestellt"),"Prüfen: Status kontrollieren",IF(COUNTIF($E19:$F19,">0")<>1,"Prüfen: genau einen Betrag erfassen",IF(AND($B19<Parameter!$B$5,OR($G19="Geplant",$G19="Freigegeben")),"Prüfen: Fälligkeit vor Stichtag",IF(AND($I19<>"",$I19<Parameter!$B$7),"Prüfen: Bestand unter Warnschwelle","OK"))))),"Prüfen: Eingaben kontrollieren"))
H20: =IF($A20="","",IF(OR($G20="Geplant",$G20="Freigegeben"),IF(COUNT($E20:$F20)=0,"",IFERROR(SUM($E20)-SUM($F20),"")),"")) | I20: =IFERROR(IF(OR($A20="",$B20="",$B20<Parameter!$B$5,$B20>Parameter!$B$9,NOT(OR($G20="Geplant",$G20="Freigegeben"))),"",Parameter!$B$6+SUMIFS($H$5:$H$104,$B$5:$B$104,">="&Parameter!$B$5,$B$5:$B$104,"<="&$B20)),"") | J20: =IF($A20="","",IFERROR(IF(OR($B20="",$C20="",$D20="",$G20=""),"Prüfen: Pflichtangabe fehlt",IF(AND($G20<>"Geplant",$G20<>"Freigegeben",$G20<>"Erledigt",$G20<>"Zurückgestellt"),"Prüfen: Status kontrollieren",IF(COUNTIF($E20:$F20,">0")<>1,"Prüfen: genau einen Betrag erfassen",IF(AND($B20<Parameter!$B$5,OR($G20="Geplant",$G20="Freigegeben")),"Prüfen: Fälligkeit vor Stichtag",IF(AND($I20<>"",$I20<Parameter!$B$7),"Prüfen: Bestand unter Warnschwelle","OK"))))),"Prüfen: Eingaben kontrollieren"))
H21: =IF($A21="","",IF(OR($G21="Geplant",$G21="Freigegeben"),IF(COUNT($E21:$F21)=0,"",IFERROR(SUM($E21)-SUM($F21),"")),"")) | I21: =IFERROR(IF(OR($A21="",$B21="",$B21<Parameter!$B$5,$B21>Parameter!$B$9,NOT(OR($G21="Geplant",$G21="Freigegeben"))),"",Parameter!$B$6+SUMIFS($H$5:$H$104,$B$5:$B$104,">="&Parameter!$B$5,$B$5:$B$104,"<="&$B21)),"") | J21: =IF($A21="","",IFERROR(IF(OR($B21="",$C21="",$D21="",$G21=""),"Prüfen: Pflichtangabe fehlt",IF(AND($G21<>"Geplant",$G21<>"Freigegeben",$G21<>"Erledigt",$G21<>"Zurückgestellt"),"Prüfen: Status kontrollieren",IF(COUNTIF($E21:$F21,">0")<>1,"Prüfen: genau einen Betrag erfassen",IF(AND($B21<Parameter!$B$5,OR($G21="Geplant",$G21="Freigegeben")),"Prüfen: Fälligkeit vor Stichtag",IF(AND($I21<>"",$I21<Parameter!$B$7),"Prüfen: Bestand unter Warnschwelle","OK"))))),"Prüfen: Eingaben kontrollieren"))
H22: =IF($A22="","",IF(OR($G22="Geplant",$G22="Freigegeben"),IF(COUNT($E22:$F22)=0,"",IFERROR(SUM($E22)-SUM($F22),"")),"")) | I22: =IFERROR(IF(OR($A22="",$B22="",$B22<Parameter!$B$5,$B22>Parameter!$B$9,NOT(OR($G22="Geplant",$G22="Freigegeben"))),"",Parameter!$B$6+SUMIFS($H$5:$H$104,$B$5:$B$104,">="&Parameter!$B$5,$B$5:$B$104,"<="&$B22)),"") | J22: =IF($A22="","",IFERROR(IF(OR($B22="",$C22="",$D22="",$G22=""),"Prüfen: Pflichtangabe fehlt",IF(AND($G22<>"Geplant",$G22<>"Freigegeben",$G22<>"Erledigt",$G22<>"Zurückgestellt"),"Prüfen: Status kontrollieren",IF(COUNTIF($E22:$F22,">0")<>1,"Prüfen: genau einen Betrag erfassen",IF(AND($B22<Parameter!$B$5,OR($G22="Geplant",$G22="Freigegeben")),"Prüfen: Fälligkeit vor Stichtag",IF(AND($I22<>"",$I22<Parameter!$B$7),"Prüfen: Bestand unter Warnschwelle","OK"))))),"Prüfen: Eingaben kontrollieren"))
H23: =IF($A23="","",IF(OR($G23="Geplant",$G23="Freigegeben"),IF(COUNT($E23:$F23)=0,"",IFERROR(SUM($E23)-SUM($F23),"")),"")) | I23: =IFERROR(IF(OR($A23="",$B23="",$B23<Parameter!$B$5,$B23>Parameter!$B$9,NOT(OR($G23="Geplant",$G23="Freigegeben"))),"",Parameter!$B$6+SUMIFS($H$5:$H$104,$B$5:$B$104,">="&Parameter!$B$5,$B$5:$B$104,"<="&$B23)),"") | J23: =IF($A23="","",IFERROR(IF(OR($B23="",$C23="",$D23="",$G23=""),"Prüfen: Pflichtangabe fehlt",IF(AND($G23<>"Geplant",$G23<>"Freigegeben",$G23<>"Erledigt",$G23<>"Zurückgestellt"),"Prüfen: Status kontrollieren",IF(COUNTIF($E23:$F23,">0")<>1,"Prüfen: genau einen Betrag erfassen",IF(AND($B23<Parameter!$B$5,OR($G23="Geplant",$G23="Freigegeben")),"Prüfen: Fälligkeit vor Stichtag",IF(AND($I23<>"",$I23<Parameter!$B$7),"Prüfen: Bestand unter Warnschwelle","OK"))))),"Prüfen: Eingaben kontrollieren"))
H24: =IF($A24="","",IF(OR($G24="Geplant",$G24="Freigegeben"),IF(COUNT($E24:$F24)=0,"",IFERROR(SUM($E24)-SUM($F24),"")),"")) | I24: =IFERROR(IF(OR($A24="",$B24="",$B24<Parameter!$B$5,$B24>Parameter!$B$9,NOT(OR($G24="Geplant",$G24="Freigegeben"))),"",Parameter!$B$6+SUMIFS($H$5:$H$104,$B$5:$B$104,">="&Parameter!$B$5,$B$5:$B$104,"<="&$B24)),"") | J24: =IF($A24="","",IFERROR(IF(OR($B24="",$C24="",$D24="",$G24=""),"Prüfen: Pflichtangabe fehlt",IF(AND($G24<>"Geplant",$G24<>"Freigegeben",$G24<>"Erledigt",$G24<>"Zurückgestellt"),"Prüfen: Status kontrollieren",IF(COUNTIF($E24:$F24,">0")<>1,"Prüfen: genau einen Betrag erfassen",IF(AND($B24<Parameter!$B$5,OR($G24="Geplant",$G24="Freigegeben")),"Prüfen: Fälligkeit vor Stichtag",IF(AND($I24<>"",$I24<Parameter!$B$7),"Prüfen: Bestand unter Warnschwelle","OK"))))),"Prüfen: Eingaben kontrollieren"))
H25: =IF($A25="","",IF(OR($G25="Geplant",$G25="Freigegeben"),IF(COUNT($E25:$F25)=0,"",IFERROR(SUM($E25)-SUM($F25),"")),"")) | I25: =IFERROR(IF(OR($A25="",$B25="",$B25<Parameter!$B$5,$B25>Parameter!$B$9,NOT(OR($G25="Geplant",$G25="Freigegeben"))),"",Parameter!$B$6+SUMIFS($H$5:$H$104,$B$5:$B$104,">="&Parameter!$B$5,$B$5:$B$104,"<="&$B25)),"") | J25: =IF($A25="","",IFERROR(IF(OR($B25="",$C25="",$D25="",$G25=""),"Prüfen: Pflichtangabe fehlt",IF(AND($G25<>"Geplant",$G25<>"Freigegeben",$G25<>"Erledigt",$G25<>"Zurückgestellt"),"Prüfen: Status kontrollieren",IF(COUNTIF($E25:$F25,">0")<>1,"Prüfen: genau einen Betrag erfassen",IF(AND($B25<Parameter!$B$5,OR($G25="Geplant",$G25="Freigegeben")),"Prüfen: Fälligkeit vor Stichtag",IF(AND($I25<>"",$I25<Parameter!$B$7),"Prüfen: Bestand unter Warnschwelle","OK"))))),"Prüfen: Eingaben kontrollieren"))
H26: =IF($A26="","",IF(OR($G26="Geplant",$G26="Freigegeben"),IF(COUNT($E26:$F26)=0,"",IFERROR(SUM($E26)-SUM($F26),"")),"")) | I26: =IFERROR(IF(OR($A26="",$B26="",$B26<Parameter!$B$5,$B26>Parameter!$B$9,NOT(OR($G26="Geplant",$G26="Freigegeben"))),"",Parameter!$B$6+SUMIFS($H$5:$H$104,$B$5:$B$104,">="&Parameter!$B$5,$B$5:$B$104,"<="&$B26)),"") | J26: =IF($A26="","",IFERROR(IF(OR($B26="",$C26="",$D26="",$G26=""),"Prüfen: Pflichtangabe fehlt",IF(AND($G26<>"Geplant",$G26<>"Freigegeben",$G26<>"Erledigt",$G26<>"Zurückgestellt"),"Prüfen: Status kontrollieren",IF(COUNTIF($E26:$F26,">0")<>1,"Prüfen: genau einen Betrag erfassen",IF(AND($B26<Parameter!$B$5,OR($G26="Geplant",$G26="Freigegeben")),"Prüfen: Fälligkeit vor Stichtag",IF(AND($I26<>"",$I26<Parameter!$B$7),"Prüfen: Bestand unter Warnschwelle","OK"))))),"Prüfen: Eingaben kontrollieren"))
... H104: =IF($A104="","",IF(OR($G104="Geplant",$G104="Freigegeben"),IF(COUNT($E104:$F104)=0,"",IFERROR(SUM($E104)-SUM($F104),"")),"")) | I104: =IFERROR(IF(OR($A104="",$B104="",$B104<Parameter!$B$5,$B104>Parameter!$B$9,NOT(OR($G104="Geplant",$G104="Freigegeben"))),"",Parameter!$B$6+SUMIFS($H$5:$H$104,$B$5:$B$104,">="&Parameter!$B$5,$B$5:$B$104,"<="&$B104)),"") | J104: =IF($A104="","",IFERROR(IF(OR($B104="",$C104="",$D104="",$G104=""),"Prüfen: Pflichtangabe fehlt",IF(AND($G104<>"Geplant",$G104<>"Freigegeben",$G104<>"Erledigt",$G104<>"Zurückgestellt"),"Prüfen: Status kontrollieren",IF(COUNTIF($E104:$F104,">0")<>1,"Prüfen: genau einen Betrag erfassen",IF(AND($B104<Parameter!$B$5,OR($G104="Geplant",$G104="Freigegeben")),"Prüfen: Fälligkeit vor Stichtag",IF(AND($I104<>"",$I104<Parameter!$B$7),"Prüfen: Bestand unter Warnschwelle","OK"))))),"Prüfen: Eingaben kontrollieren"))

Sheet Parameter
A1: Parameter und stabile Statuswerte
A2: Grün markierte Annahmen sind veränderbar. Die Werte dienen ausschließlich der betrieblichen Cashflow-Prognose dieser Arbeitsmappe.
A4: Annahme | B4: Wert | C4: Einheit / Hinweis | D4: Stabiler Statuswert | E4: Wirkung in der Prognose
A5: Stichtag | B5: 46274 | C5: TT.MM.JJJJ | D5: Geplant | E5: berücksichtigt
A6: Anfangsbestand | B6: 12000 | C6: € zum Stichtag | D6: Freigegeben | E6: berücksichtigt
A7: Warnschwelle | B7: 7000 | C7: €; manuelle Prüfung bei Unterschreitung | D7: Erledigt | E7: nicht berücksichtigt
A8: Planungshorizont | B8: 60 | C8: Tage | D8: Zurückgestellt | E8: nicht berücksichtigt
A9: Planende | B9: =IF(OR($B$5="",$B$8=""),"",$B$5+$B$8) | C9: berechnet
