Workbook

Sheet Übersicht
A1: Jahresergebnis Reinigungsfirma – Übersicht
J2: Monat | K2: Ergebnis
A3: Kennzahl | B3: Berechneter Wert | J3: =IF(Parameter!$B$4="","",DATE(Parameter!$B$4,1,1)) | K3: =IF($J3="","",IF(COUNTIFS('Monatswerte'!$A$5:$A$104,">="&$J3,'Monatswerte'!$A$5:$A$104,"<"&DATE(YEAR($J3),MONTH($J3)+1,1))=0,"",SUMIFS('Monatswerte'!$I$5:$I$104,'Monatswerte'!$A$5:$A$104,">="&$J3,'Monatswerte'!$A$5:$A$104,"<"&DATE(YEAR($J3),MONTH($J3)+1,1))))
A4: Erfasste Monate | B4: =IF(COUNT($K$3:$K$14)=0,"",COUNT($K$3:$K$14)) | J4: =IF(Parameter!$B$4="","",DATE(Parameter!$B$4,2,1)) | K4: =IF($J4="","",IF(COUNTIFS('Monatswerte'!$A$5:$A$104,">="&$J4,'Monatswerte'!$A$5:$A$104,"<"&DATE(YEAR($J4),MONTH($J4)+1,1))=0,"",SUMIFS('Monatswerte'!$I$5:$I$104,'Monatswerte'!$A$5:$A$104,">="&$J4,'Monatswerte'!$A$5:$A$104,"<"&DATE(YEAR($J4),MONTH($J4)+1,1))))
A5: Gesamterlöse | B5: =IF(COUNT('Monatswerte'!$A$5:$A$104)=0,"",SUM('Monatswerte'!$G$5:$G$104)) | J5: =IF(Parameter!$B$4="","",DATE(Parameter!$B$4,3,1)) | K5: =IF($J5="","",IF(COUNTIFS('Monatswerte'!$A$5:$A$104,">="&$J5,'Monatswerte'!$A$5:$A$104,"<"&DATE(YEAR($J5),MONTH($J5)+1,1))=0,"",SUMIFS('Monatswerte'!$I$5:$I$104,'Monatswerte'!$A$5:$A$104,">="&$J5,'Monatswerte'!$A$5:$A$104,"<"&DATE(YEAR($J5),MONTH($J5)+1,1))))
A6: Gesamtkosten | B6: =IF(COUNT('Monatswerte'!$A$5:$A$104)=0,"",SUM('Monatswerte'!$H$5:$H$104)) | J6: =IF(Parameter!$B$4="","",DATE(Parameter!$B$4,4,1)) | K6: =IF($J6="","",IF(COUNTIFS('Monatswerte'!$A$5:$A$104,">="&$J6,'Monatswerte'!$A$5:$A$104,"<"&DATE(YEAR($J6),MONTH($J6)+1,1))=0,"",SUMIFS('Monatswerte'!$I$5:$I$104,'Monatswerte'!$A$5:$A$104,">="&$J6,'Monatswerte'!$A$5:$A$104,"<"&DATE(YEAR($J6),MONTH($J6)+1,1))))
A7: Jahresergebnis | B7: =IF(COUNT('Monatswerte'!$A$5:$A$104)=0,"",SUM('Monatswerte'!$I$5:$I$104)) | J7: =IF(Parameter!$B$4="","",DATE(Parameter!$B$4,5,1)) | K7: =IF($J7="","",IF(COUNTIFS('Monatswerte'!$A$5:$A$104,">="&$J7,'Monatswerte'!$A$5:$A$104,"<"&DATE(YEAR($J7),MONTH($J7)+1,1))=0,"",SUMIFS('Monatswerte'!$I$5:$I$104,'Monatswerte'!$A$5:$A$104,">="&$J7,'Monatswerte'!$A$5:$A$104,"<"&DATE(YEAR($J7),MONTH($J7)+1,1))))
A8: Ergebnismarge | B8: =IFERROR(IF(B5="","",B7/B5),"") | J8: =IF(Parameter!$B$4="","",DATE(Parameter!$B$4,6,1)) | K8: =IF($J8="","",IF(COUNTIFS('Monatswerte'!$A$5:$A$104,">="&$J8,'Monatswerte'!$A$5:$A$104,"<"&DATE(YEAR($J8),MONTH($J8)+1,1))=0,"",SUMIFS('Monatswerte'!$I$5:$I$104,'Monatswerte'!$A$5:$A$104,">="&$J8,'Monatswerte'!$A$5:$A$104,"<"&DATE(YEAR($J8),MONTH($J8)+1,1))))
A9: Abweichung Ergebnisziel | B9: =IF(OR(B7="",Parameter!$B$6=""),"",B7-Parameter!$B$6) | J9: =IF(Parameter!$B$4="","",DATE(Parameter!$B$4,7,1)) | K9: =IF($J9="","",IF(COUNTIFS('Monatswerte'!$A$5:$A$104,">="&$J9,'Monatswerte'!$A$5:$A$104,"<"&DATE(YEAR($J9),MONTH($J9)+1,1))=0,"",SUMIFS('Monatswerte'!$I$5:$I$104,'Monatswerte'!$A$5:$A$104,">="&$J9,'Monatswerte'!$A$5:$A$104,"<"&DATE(YEAR($J9),MONTH($J9)+1,1))))
A10: Abweichung Margenziel | B10: =IF(OR(B8="",Parameter!$B$7=""),"",B8-Parameter!$B$7) | J10: =IF(Parameter!$B$4="","",DATE(Parameter!$B$4,8,1)) | K10: =IF($J10="","",IF(COUNTIFS('Monatswerte'!$A$5:$A$104,">="&$J10,'Monatswerte'!$A$5:$A$104,"<"&DATE(YEAR($J10),MONTH($J10)+1,1))=0,"",SUMIFS('Monatswerte'!$I$5:$I$104,'Monatswerte'!$A$5:$A$104,">="&$J10,'Monatswerte'!$A$5:$A$104,"<"&DATE(YEAR($J10),MONTH($J10)+1,1))))
A11: Stärkster Monat | B11: =IF(COUNT($K$3:$K$14)=0,"",IFERROR(INDEX($J$3:$J$14,MATCH(MAX($K$3:$K$14),$K$3:$K$14,0)),"")) | J11: =IF(Parameter!$B$4="","",DATE(Parameter!$B$4,9,1)) | K11: =IF($J11="","",IF(COUNTIFS('Monatswerte'!$A$5:$A$104,">="&$J11,'Monatswerte'!$A$5:$A$104,"<"&DATE(YEAR($J11),MONTH($J11)+1,1))=0,"",SUMIFS('Monatswerte'!$I$5:$I$104,'Monatswerte'!$A$5:$A$104,">="&$J11,'Monatswerte'!$A$5:$A$104,"<"&DATE(YEAR($J11),MONTH($J11)+1,1))))
A12: Ergebnis stärkster Monat | B12: =IF(COUNT($K$3:$K$14)=0,"",MAX($K$3:$K$14)) | J12: =IF(Parameter!$B$4="","",DATE(Parameter!$B$4,10,1)) | K12: =IF($J12="","",IF(COUNTIFS('Monatswerte'!$A$5:$A$104,">="&$J12,'Monatswerte'!$A$5:$A$104,"<"&DATE(YEAR($J12),MONTH($J12)+1,1))=0,"",SUMIFS('Monatswerte'!$I$5:$I$104,'Monatswerte'!$A$5:$A$104,">="&$J12,'Monatswerte'!$A$5:$A$104,"<"&DATE(YEAR($J12),MONTH($J12)+1,1))))
A13: Schwächster Monat | B13: =IF(COUNT($K$3:$K$14)=0,"",IFERROR(INDEX($J$3:$J$14,MATCH(MIN($K$3:$K$14),$K$3:$K$14,0)),"")) | J13: =IF(Parameter!$B$4="","",DATE(Parameter!$B$4,11,1)) | K13: =IF($J13="","",IF(COUNTIFS('Monatswerte'!$A$5:$A$104,">="&$J13,'Monatswerte'!$A$5:$A$104,"<"&DATE(YEAR($J13),MONTH($J13)+1,1))=0,"",SUMIFS('Monatswerte'!$I$5:$I$104,'Monatswerte'!$A$5:$A$104,">="&$J13,'Monatswerte'!$A$5:$A$104,"<"&DATE(YEAR($J13),MONTH($J13)+1,1))))
A14: Ergebnis schwächster Monat | B14: =IF(COUNT($K$3:$K$14)=0,"",MIN($K$3:$K$14)) | J14: =IF(Parameter!$B$4="","",DATE(Parameter!$B$4,12,1)) | K14: =IF($J14="","",IF(COUNTIFS('Monatswerte'!$A$5:$A$104,">="&$J14,'Monatswerte'!$A$5:$A$104,"<"&DATE(YEAR($J14),MONTH($J14)+1,1))=0,"",SUMIFS('Monatswerte'!$I$5:$I$104,'Monatswerte'!$A$5:$A$104,">="&$J14,'Monatswerte'!$A$5:$A$104,"<"&DATE(YEAR($J14),MONTH($J14)+1,1))))
A15: Prüffälle | B15: =IF(COUNT('Monatswerte'!$A$5:$A$104)=0,"",COUNTIF('Monatswerte'!$L$5:$L$104,"Manuell prüfen:*"))
A16: Entscheidungssignal | B16: =IF(OR(B7="",B8="",Parameter!$B$6="",Parameter!$B$7=""),"",IF(AND(B7>=Parameter!$B$6,B8>=Parameter!$B$7,B15=0),"Ziel erreicht","Planung manuell prüfen"))

Sheet Monatswerte
A1: Monatswerte für das interne Jahresergebnis
A2: Grün markierte Zellen sind Eingaben. Formeln und Prüfhinweise sind für 100 Monatszeilen vorbereitet; alle Beispiele sind fiktiv.
A4: Monat | B4: Erlöse Unterhaltsreinigung (€) | C4: Erlöse Sonderreinigung (€) | D4: Materialkosten (€) | E4: Personalkosten (€) | F4: Sonstige Kosten (€) | G4: Gesamterlöse (€) | H4: Gesamtkosten (€) | I4: Ergebnis (€) | J4: Ergebnismarge | K4: Status | L4: Prüfhinweis
A5: 46023 | B5: 148000 | C5: 18000 | D5: 19000 | E5: 101000 | F5: 23000 | G5: =IF(A5="","",SUM(B5:C5)) | H5: =IF(A5="","",SUM(D5:F5)) | I5: =IF(OR(G5="",H5=""),"",G5-H5) | J5: =IFERROR(IF(A5="","",I5/G5),"") | K5: Freigegeben | L5: =IF(A5="","",IF(COUNTIF($A$5:$A$104,A5)>1,"Manuell prüfen: Monat doppelt",IF(COUNTA(B5:F5)<5,"Manuell prüfen: Werte",IF(OR(K5="",K5="Vorläufig"),"Manuell prüfen: Status",IF(Parameter!$B$5="","Manuell prüfen: Parameter",IF(IFERROR(J5,0)<Parameter!$B$5,"Manuell prüfen: Marge","Ohne Auffälligkeit"))))))
A6: 46054 | B6: 146000 | C6: 15000 | D6: 18500 | E6: 99500 | F6: 22500 | G6: =IF(A6="","",SUM(B6:C6)) | H6: =IF(A6="","",SUM(D6:F6)) | I6: =IF(OR(G6="",H6=""),"",G6-H6) | J6: =IFERROR(IF(A6="","",I6/G6),"") | K6: Freigegeben | L6: =IF(A6="","",IF(COUNTIF($A$5:$A$104,A6)>1,"Manuell prüfen: Monat doppelt",IF(COUNTA(B6:F6)<5,"Manuell prüfen: Werte",IF(OR(K6="",K6="Vorläufig"),"Manuell prüfen: Status",IF(Parameter!$B$5="","Manuell prüfen: Parameter",IF(IFERROR(J6,0)<Parameter!$B$5,"Manuell prüfen: Marge","Ohne Auffälligkeit"))))))
A7: 46082 | B7: 151000 | C7: 22000 | D7: 20500 | E7: 103000 | F7: 23000 | G7: =IF(A7="","",SUM(B7:C7)) | H7: =IF(A7="","",SUM(D7:F7)) | I7: =IF(OR(G7="",H7=""),"",G7-H7) | J7: =IFERROR(IF(A7="","",I7/G7),"") | K7: Freigegeben | L7: =IF(A7="","",IF(COUNTIF($A$5:$A$104,A7)>1,"Manuell prüfen: Monat doppelt",IF(COUNTA(B7:F7)<5,"Manuell prüfen: Werte",IF(OR(K7="",K7="Vorläufig"),"Manuell prüfen: Status",IF(Parameter!$B$5="","Manuell prüfen: Parameter",IF(IFERROR(J7,0)<Parameter!$B$5,"Manuell prüfen: Marge","Ohne Auffälligkeit"))))))
A8: 46113 | B8: 150000 | C8: 14000 | D8: 19000 | E8: 102000 | F8: 23500 | G8: =IF(A8="","",SUM(B8:C8)) | H8: =IF(A8="","",SUM(D8:F8)) | I8: =IF(OR(G8="",H8=""),"",G8-H8) | J8: =IFERROR(IF(A8="","",I8/G8),"") | K8: Freigegeben | L8: =IF(A8="","",IF(COUNTIF($A$5:$A$104,A8)>1,"Manuell prüfen: Monat doppelt",IF(COUNTA(B8:F8)<5,"Manuell prüfen: Werte",IF(OR(K8="",K8="Vorläufig"),"Manuell prüfen: Status",IF(Parameter!$B$5="","Manuell prüfen: Parameter",IF(IFERROR(J8,0)<Parameter!$B$5,"Manuell prüfen: Marge","Ohne Auffälligkeit"))))))
A9: 46143 | B9: 153000 | C9: 25000 | D9: 21500 | E9: 104000 | F9: 24000 | G9: =IF(A9="","",SUM(B9:C9)) | H9: =IF(A9="","",SUM(D9:F9)) | I9: =IF(OR(G9="",H9=""),"",G9-H9) | J9: =IFERROR(IF(A9="","",I9/G9),"") | K9: Freigegeben | L9: =IF(A9="","",IF(COUNTIF($A$5:$A$104,A9)>1,"Manuell prüfen: Monat doppelt",IF(COUNTA(B9:F9)<5,"Manuell prüfen: Werte",IF(OR(K9="",K9="Vorläufig"),"Manuell prüfen: Status",IF(Parameter!$B$5="","Manuell prüfen: Parameter",IF(IFERROR(J9,0)<Parameter!$B$5,"Manuell prüfen: Marge","Ohne Auffälligkeit"))))))
A10: 46174 | B10: 155000 | C10: 30000 | D10: 23000 | E10: 106000 | F10: 25000 | G10: =IF(A10="","",SUM(B10:C10)) | H10: =IF(A10="","",SUM(D10:F10)) | I10: =IF(OR(G10="",H10=""),"",G10-H10) | J10: =IFERROR(IF(A10="","",I10/G10),"") | K10: Freigegeben | L10: =IF(A10="","",IF(COUNTIF($A$5:$A$104,A10)>1,"Manuell prüfen: Monat doppelt",IF(COUNTA(B10:F10)<5,"Manuell prüfen: Werte",IF(OR(K10="",K10="Vorläufig"),"Manuell prüfen: Status",IF(Parameter!$B$5="","Manuell prüfen: Parameter",IF(IFERROR(J10,0)<Parameter!$B$5,"Manuell prüfen: Marge","Ohne Auffälligkeit"))))))
A11: 46204 | B11: 154000 | C11: 12000 | D11: 19500 | E11: 105000 | F11: 24000 | G11: =IF(A11="","",SUM(B11:C11)) | H11: =IF(A11="","",SUM(D11:F11)) | I11: =IF(OR(G11="",H11=""),"",G11-H11) | J11: =IFERROR(IF(A11="","",I11/G11),"") | K11: Geprüft | L11: =IF(A11="","",IF(COUNTIF($A$5:$A$104,A11)>1,"Manuell prüfen: Monat doppelt",IF(COUNTA(B11:F11)<5,"Manuell prüfen: Werte",IF(OR(K11="",K11="Vorläufig"),"Manuell prüfen: Status",IF(Parameter!$B$5="","Manuell prüfen: Parameter",IF(IFERROR(J11,0)<Parameter!$B$5,"Manuell prüfen: Marge","Ohne Auffälligkeit"))))))
A12: 46235 | B12: 152000 | C12: 10000 | D12: 18500 | E12: 104000 | F12: 23500 | G12: =IF(A12="","",SUM(B12:C12)) | H12: =IF(A12="","",SUM(D12:F12)) | I12: =IF(OR(G12="",H12=""),"",G12-H12) | J12: =IFERROR(IF(A12="","",I12/G12),"") | K12: Geprüft | L12: =IF(A12="","",IF(COUNTIF($A$5:$A$104,A12)>1,"Manuell prüfen: Monat doppelt",IF(COUNTA(B12:F12)<5,"Manuell prüfen: Werte",IF(OR(K12="",K12="Vorläufig"),"Manuell prüfen: Status",IF(Parameter!$B$5="","Manuell prüfen: Parameter",IF(IFERROR(J12,0)<Parameter!$B$5,"Manuell prüfen: Marge","Ohne Auffälligkeit"))))))
A13: 46266 | B13: 156000 | C13: 20000 | D13: 20500 | E13: 106000 | F13: 24000 | G13: =IF(A13="","",SUM(B13:C13)) | H13: =IF(A13="","",SUM(D13:F13)) | I13: =IF(OR(G13="",H13=""),"",G13-H13) | J13: =IFERROR(IF(A13="","",I13/G13),"") | K13: Geprüft | L13: =IF(A13="","",IF(COUNTIF($A$5:$A$104,A13)>1,"Manuell prüfen: Monat doppelt",IF(COUNTA(B13:F13)<5,"Manuell prüfen: Werte",IF(OR(K13="",K13="Vorläufig"),"Manuell prüfen: Status",IF(Parameter!$B$5="","Manuell prüfen: Parameter",IF(IFERROR(J13,0)<Parameter!$B$5,"Manuell prüfen: Marge","Ohne Auffälligkeit"))))))
A14: 46296 | B14: 158000 | C14: 28000 | D14: 22500 | E14: 108000 | F14: 25000 | G14: =IF(A14="","",SUM(B14:C14)) | H14: =IF(A14="","",SUM(D14:F14)) | I14: =IF(OR(G14="",H14=""),"",G14-H14) | J14: =IFERROR(IF(A14="","",I14/G14),"") | K14: Vorläufig | L14: =IF(A14="","",IF(COUNTIF($A$5:$A$104,A14)>1,"Manuell prüfen: Monat doppelt",IF(COUNTA(B14:F14)<5,"Manuell prüfen: Werte",IF(OR(K14="",K14="Vorläufig"),"Manuell prüfen: Status",IF(Parameter!$B$5="","Manuell prüfen: Parameter",IF(IFERROR(J14,0)<Parameter!$B$5,"Manuell prüfen: Marge","Ohne Auffälligkeit"))))))
A15: 46327 | B15: 160000 | C15: 35000 | D15: 25000 | E15: 109000 | F15: 26000 | G15: =IF(A15="","",SUM(B15:C15)) | H15: =IF(A15="","",SUM(D15:F15)) | I15: =IF(OR(G15="",H15=""),"",G15-H15) | J15: =IFERROR(IF(A15="","",I15/G15),"") | K15: Vorläufig | L15: =IF(A15="","",IF(COUNTIF($A$5:$A$104,A15)>1,"Manuell prüfen: Monat doppelt",IF(COUNTA(B15:F15)<5,"Manuell prüfen: Werte",IF(OR(K15="",K15="Vorläufig"),"Manuell prüfen: Status",IF(Parameter!$B$5="","Manuell prüfen: Parameter",IF(IFERROR(J15,0)<Parameter!$B$5,"Manuell prüfen: Marge","Ohne Auffälligkeit"))))))
A16: 46357 | B16: 162000 | C16: 42000 | D16: 27500 | E16: 111000 | F16: 27000 | G16: =IF(A16="","",SUM(B16:C16)) | H16: =IF(A16="","",SUM(D16:F16)) | I16: =IF(OR(G16="",H16=""),"",G16-H16) | J16: =IFERROR(IF(A16="","",I16/G16),"") | K16: Vorläufig | L16: =IF(A16="","",IF(COUNTIF($A$5:$A$104,A16)>1,"Manuell prüfen: Monat doppelt",IF(COUNTA(B16:F16)<5,"Manuell prüfen: Werte",IF(OR(K16="",K16="Vorläufig"),"Manuell prüfen: Status",IF(Parameter!$B$5="","Manuell prüfen: Parameter",IF(IFERROR(J16,0)<Parameter!$B$5,"Manuell prüfen: Marge","Ohne Auffälligkeit"))))))
G17: =IF(A17="","",SUM(B17:C17)) | H17: =IF(A17="","",SUM(D17:F17)) | I17: =IF(OR(G17="",H17=""),"",G17-H17) | J17: =IFERROR(IF(A17="","",I17/G17),"") | L17: =IF(A17="","",IF(COUNTIF($A$5:$A$104,A17)>1,"Manuell prüfen: Monat doppelt",IF(COUNTA(B17:F17)<5,"Manuell prüfen: Werte",IF(OR(K17="",K17="Vorläufig"),"Manuell prüfen: Status",IF(Parameter!$B$5="","Manuell prüfen: Parameter",IF(IFERROR(J17,0)<Parameter!$B$5,"Manuell prüfen: Marge","Ohne Auffälligkeit"))))))
G18: =IF(A18="","",SUM(B18:C18)) | H18: =IF(A18="","",SUM(D18:F18)) | I18: =IF(OR(G18="",H18=""),"",G18-H18) | J18: =IFERROR(IF(A18="","",I18/G18),"") | L18: =IF(A18="","",IF(COUNTIF($A$5:$A$104,A18)>1,"Manuell prüfen: Monat doppelt",IF(COUNTA(B18:F18)<5,"Manuell prüfen: Werte",IF(OR(K18="",K18="Vorläufig"),"Manuell prüfen: Status",IF(Parameter!$B$5="","Manuell prüfen: Parameter",IF(IFERROR(J18,0)<Parameter!$B$5,"Manuell prüfen: Marge","Ohne Auffälligkeit"))))))
G19: =IF(A19="","",SUM(B19:C19)) | H19: =IF(A19="","",SUM(D19:F19)) | I19: =IF(OR(G19="",H19=""),"",G19-H19) | J19: =IFERROR(IF(A19="","",I19/G19),"") | L19: =IF(A19="","",IF(COUNTIF($A$5:$A$104,A19)>1,"Manuell prüfen: Monat doppelt",IF(COUNTA(B19:F19)<5,"Manuell prüfen: Werte",IF(OR(K19="",K19="Vorläufig"),"Manuell prüfen: Status",IF(Parameter!$B$5="","Manuell prüfen: Parameter",IF(IFERROR(J19,0)<Parameter!$B$5,"Manuell prüfen: Marge","Ohne Auffälligkeit"))))))
G20: =IF(A20="","",SUM(B20:C20)) | H20: =IF(A20="","",SUM(D20:F20)) | I20: =IF(OR(G20="",H20=""),"",G20-H20) | J20: =IFERROR(IF(A20="","",I20/G20),"") | L20: =IF(A20="","",IF(COUNTIF($A$5:$A$104,A20)>1,"Manuell prüfen: Monat doppelt",IF(COUNTA(B20:F20)<5,"Manuell prüfen: Werte",IF(OR(K20="",K20="Vorläufig"),"Manuell prüfen: Status",IF(Parameter!$B$5="","Manuell prüfen: Parameter",IF(IFERROR(J20,0)<Parameter!$B$5,"Manuell prüfen: Marge","Ohne Auffälligkeit"))))))
G21: =IF(A21="","",SUM(B21:C21)) | H21: =IF(A21="","",SUM(D21:F21)) | I21: =IF(OR(G21="",H21=""),"",G21-H21) | J21: =IFERROR(IF(A21="","",I21/G21),"") | L21: =IF(A21="","",IF(COUNTIF($A$5:$A$104,A21)>1,"Manuell prüfen: Monat doppelt",IF(COUNTA(B21:F21)<5,"Manuell prüfen: Werte",IF(OR(K21="",K21="Vorläufig"),"Manuell prüfen: Status",IF(Parameter!$B$5="","Manuell prüfen: Parameter",IF(IFERROR(J21,0)<Parameter!$B$5,"Manuell prüfen: Marge","Ohne Auffälligkeit"))))))
G22: =IF(A22="","",SUM(B22:C22)) | H22: =IF(A22="","",SUM(D22:F22)) | I22: =IF(OR(G22="",H22=""),"",G22-H22) | J22: =IFERROR(IF(A22="","",I22/G22),"") | L22: =IF(A22="","",IF(COUNTIF($A$5:$A$104,A22)>1,"Manuell prüfen: Monat doppelt",IF(COUNTA(B22:F22)<5,"Manuell prüfen: Werte",IF(OR(K22="",K22="Vorläufig"),"Manuell prüfen: Status",IF(Parameter!$B$5="","Manuell prüfen: Parameter",IF(IFERROR(J22,0)<Parameter!$B$5,"Manuell prüfen: Marge","Ohne Auffälligkeit"))))))
G23: =IF(A23="","",SUM(B23:C23)) | H23: =IF(A23="","",SUM(D23:F23)) | I23: =IF(OR(G23="",H23=""),"",G23-H23) | J23: =IFERROR(IF(A23="","",I23/G23),"") | L23: =IF(A23="","",IF(COUNTIF($A$5:$A$104,A23)>1,"Manuell prüfen: Monat doppelt",IF(COUNTA(B23:F23)<5,"Manuell prüfen: Werte",IF(OR(K23="",K23="Vorläufig"),"Manuell prüfen: Status",IF(Parameter!$B$5="","Manuell prüfen: Parameter",IF(IFERROR(J23,0)<Parameter!$B$5,"Manuell prüfen: Marge","Ohne Auffälligkeit"))))))
G24: =IF(A24="","",SUM(B24:C24)) | H24: =IF(A24="","",SUM(D24:F24)) | I24: =IF(OR(G24="",H24=""),"",G24-H24) | J24: =IFERROR(IF(A24="","",I24/G24),"") | L24: =IF(A24="","",IF(COUNTIF($A$5:$A$104,A24)>1,"Manuell prüfen: Monat doppelt",IF(COUNTA(B24:F24)<5,"Manuell prüfen: Werte",IF(OR(K24="",K24="Vorläufig"),"Manuell prüfen: Status",IF(Parameter!$B$5="","Manuell prüfen: Parameter",IF(IFERROR(J24,0)<Parameter!$B$5,"Manuell prüfen: Marge","Ohne Auffälligkeit"))))))
G25: =IF(A25="","",SUM(B25:C25)) | H25: =IF(A25="","",SUM(D25:F25)) | I25: =IF(OR(G25="",H25=""),"",G25-H25) | J25: =IFERROR(IF(A25="","",I25/G25),"") | L25: =IF(A25="","",IF(COUNTIF($A$5:$A$104,A25)>1,"Manuell prüfen: Monat doppelt",IF(COUNTA(B25:F25)<5,"Manuell prüfen: Werte",IF(OR(K25="",K25="Vorläufig"),"Manuell prüfen: Status",IF(Parameter!$B$5="","Manuell prüfen: Parameter",IF(IFERROR(J25,0)<Parameter!$B$5,"Manuell prüfen: Marge","Ohne Auffälligkeit"))))))
G26: =IF(A26="","",SUM(B26:C26)) | H26: =IF(A26="","",SUM(D26:F26)) | I26: =IF(OR(G26="",H26=""),"",G26-H26) | J26: =IFERROR(IF(A26="","",I26/G26),"") | L26: =IF(A26="","",IF(COUNTIF($A$5:$A$104,A26)>1,"Manuell prüfen: Monat doppelt",IF(COUNTA(B26:F26)<5,"Manuell prüfen: Werte",IF(OR(K26="",K26="Vorläufig"),"Manuell prüfen: Status",IF(Parameter!$B$5="","Manuell prüfen: Parameter",IF(IFERROR(J26,0)<Parameter!$B$5,"Manuell prüfen: Marge","Ohne Auffälligkeit"))))))
G27: =IF(A27="","",SUM(B27:C27)) | H27: =IF(A27="","",SUM(D27:F27)) | I27: =IF(OR(G27="",H27=""),"",G27-H27) | J27: =IFERROR(IF(A27="","",I27/G27),"") | L27: =IF(A27="","",IF(COUNTIF($A$5:$A$104,A27)>1,"Manuell prüfen: Monat doppelt",IF(COUNTA(B27:F27)<5,"Manuell prüfen: Werte",IF(OR(K27="",K27="Vorläufig"),"Manuell prüfen: Status",IF(Parameter!$B$5="","Manuell prüfen: Parameter",IF(IFERROR(J27,0)<Parameter!$B$5,"Manuell prüfen: Marge","Ohne Auffälligkeit"))))))
G28: =IF(A28="","",SUM(B28:C28)) | H28: =IF(A28="","",SUM(D28:F28)) | I28: =IF(OR(G28="",H28=""),"",G28-H28) | J28: =IFERROR(IF(A28="","",I28/G28),"") | L28: =IF(A28="","",IF(COUNTIF($A$5:$A$104,A28)>1,"Manuell prüfen: Monat doppelt",IF(COUNTA(B28:F28)<5,"Manuell prüfen: Werte",IF(OR(K28="",K28="Vorläufig"),"Manuell prüfen: Status",IF(Parameter!$B$5="","Manuell prüfen: Parameter",IF(IFERROR(J28,0)<Parameter!$B$5,"Manuell prüfen: Marge","Ohne Auffälligkeit"))))))
... G104: =IF(A104="","",SUM(B104:C104)) | H104: =IF(A104="","",SUM(D104:F104)) | I104: =IF(OR(G104="",H104=""),"",G104-H104) | J104: =IFERROR(IF(A104="","",I104/G104),"") | L104: =IF(A104="","",IF(COUNTIF($A$5:$A$104,A104)>1,"Manuell prüfen: Monat doppelt",IF(COUNTA(B104:F104)<5,"Manuell prüfen: Werte",IF(OR(K104="",K104="Vorläufig"),"Manuell prüfen: Status",IF(Parameter!$B$5="","Manuell prüfen: Parameter",IF(IFERROR(J104,0)<Parameter!$B$5,"Manuell prüfen: Marge","Ohne Auffälligkeit"))))))

Sheet Parameter
A1: Parameter und stabile Statuswerte
A2: Grün markierte Werte sind anpassbar. Alle Beispielwerte sind fiktiv und dienen nur der internen Planung.
A3: Annahme | B3: Wert | C3: Einheit | D3: Verwendung
A4: Auswertungsjahr | B4: 2026 | C4: Jahr | D4: Begrenzt die zulässigen Monatsdaten.
A5: Prüfgrenze Monatsmarge | B5: 0.1 | C5: % | D5: Unterhalb dieser Grenze erscheint ein manueller Prüfhinweis.
A6: Ziel Jahresergebnis | B6: 300000 | C6: € | D6: Dient dem internen Vergleich in der Übersicht.
A7: Ziel Jahresmarge | B7: 0.14 | C7: % | D7: Dient dem internen Vergleich in der Übersicht.
A10: Statuswert | B10: Interne Bedeutung
A11: Vorläufig | B11: Werte sind noch manuell zu prüfen.
A12: Geprüft | B12: Werte wurden intern geprüft.
A13: Freigegeben | B13: Werte wurden intern abgeschlossen.
