Workbook

Sheet Übersicht
A1: Kostenstellenrechnung Reinigungsobjekte
A2: Auswertung des gewählten Zeitraums; sämtliche Objekt- und Buchungsbeispiele sind fiktiv.
A3: Zeitraum von | B3: =IF(Parameter!$B$3="","",Parameter!$B$3) | C3: Zeitraum bis | D3: =IF(Parameter!$B$4="","",Parameter!$B$4) | E3: Aktive Objekte | F3: =COUNTIFS(Objekte!$A$4:$A$103,"<>",Objekte!$G$4:$G$103,"Aktiv") | G3: Objekte prüfen | H3: =COUNTIF($I$8:$I$107,"Prüfen")
A4: Gesamterlöse | B4: =IF(OR(Parameter!$B$3="",Parameter!$B$4=""),"",SUM($E$8:$E$107)) | C4: Gesamtkosten | D4: =IF(OR(Parameter!$B$3="",Parameter!$B$4=""),"",SUM($F$8:$F$107)) | E4: Gesamtergebnis | F4: =IF(OR($B$4="",$D$4=""),"",$B$4-$D$4) | G4: Ergebnismarge | H4: =IFERROR($F$4/$B$4,"")
A6: Objektvergleich im Auswertungszeitraum
A7: Objekt-ID | B7: Kundenobjekt | C7: Zuständigkeit | D7: Zielmarge | E7: Erlöse | F7: Kosten | G7: Ergebnis | H7: Marge | I7: Entscheidungshinweis
A8: =IF(OR(Objekte!A4="",Objekte!G4<>"Aktiv"),"",Objekte!A4) | B8: =IF($A8="","",Objekte!B4) | C8: =IF($A8="","",Objekte!C4) | D8: =IF($A8="","",Objekte!E4) | E8: =IF(OR($A8="",Parameter!$B$3="",Parameter!$B$4=""),"",SUMIFS(Buchungen!$I$4:$I$103,Buchungen!$C$4:$C$103,$A8,Buchungen!$D$4:$D$103,"Erlös",Buchungen!$J$4:$J$103,Parameter!$B$5,Buchungen!$B$4:$B$103,">="&Parameter!$B$3,Buchungen!$B$4:$B$103,"<="&Parameter!$B$4,Buchungen!$K$4:$K$103,"")) | F8: =IF(OR($A8="",Parameter!$B$3="",Parameter!$B$4=""),"",SUMIFS(Buchungen!$I$4:$I$103,Buchungen!$C$4:$C$103,$A8,Buchungen!$D$4:$D$103,"Kosten",Buchungen!$J$4:$J$103,Parameter!$B$5,Buchungen!$B$4:$B$103,">="&Parameter!$B$3,Buchungen!$B$4:$B$103,"<="&Parameter!$B$4,Buchungen!$K$4:$K$103,"")) | G8: =IF(OR($A8="",$E8="",$F8=""),"",$E8-$F8) | H8: =IFERROR($G8/$E8,"") | I8: =IF($A8="","",IF($E8=0,"Prüfen",IF($H8<$D8,"Prüfen","Im Ziel")))
A9: =IF(OR(Objekte!A5="",Objekte!G5<>"Aktiv"),"",Objekte!A5) | B9: =IF($A9="","",Objekte!B5) | C9: =IF($A9="","",Objekte!C5) | D9: =IF($A9="","",Objekte!E5) | E9: =IF(OR($A9="",Parameter!$B$3="",Parameter!$B$4=""),"",SUMIFS(Buchungen!$I$4:$I$103,Buchungen!$C$4:$C$103,$A9,Buchungen!$D$4:$D$103,"Erlös",Buchungen!$J$4:$J$103,Parameter!$B$5,Buchungen!$B$4:$B$103,">="&Parameter!$B$3,Buchungen!$B$4:$B$103,"<="&Parameter!$B$4,Buchungen!$K$4:$K$103,"")) | F9: =IF(OR($A9="",Parameter!$B$3="",Parameter!$B$4=""),"",SUMIFS(Buchungen!$I$4:$I$103,Buchungen!$C$4:$C$103,$A9,Buchungen!$D$4:$D$103,"Kosten",Buchungen!$J$4:$J$103,Parameter!$B$5,Buchungen!$B$4:$B$103,">="&Parameter!$B$3,Buchungen!$B$4:$B$103,"<="&Parameter!$B$4,Buchungen!$K$4:$K$103,"")) | G9: =IF(OR($A9="",$E9="",$F9=""),"",$E9-$F9) | H9: =IFERROR($G9/$E9,"") | I9: =IF($A9="","",IF($E9=0,"Prüfen",IF($H9<$D9,"Prüfen","Im Ziel")))
A10: =IF(OR(Objekte!A6="",Objekte!G6<>"Aktiv"),"",Objekte!A6) | B10: =IF($A10="","",Objekte!B6) | C10: =IF($A10="","",Objekte!C6) | D10: =IF($A10="","",Objekte!E6) | E10: =IF(OR($A10="",Parameter!$B$3="",Parameter!$B$4=""),"",SUMIFS(Buchungen!$I$4:$I$103,Buchungen!$C$4:$C$103,$A10,Buchungen!$D$4:$D$103,"Erlös",Buchungen!$J$4:$J$103,Parameter!$B$5,Buchungen!$B$4:$B$103,">="&Parameter!$B$3,Buchungen!$B$4:$B$103,"<="&Parameter!$B$4,Buchungen!$K$4:$K$103,"")) | F10: =IF(OR($A10="",Parameter!$B$3="",Parameter!$B$4=""),"",SUMIFS(Buchungen!$I$4:$I$103,Buchungen!$C$4:$C$103,$A10,Buchungen!$D$4:$D$103,"Kosten",Buchungen!$J$4:$J$103,Parameter!$B$5,Buchungen!$B$4:$B$103,">="&Parameter!$B$3,Buchungen!$B$4:$B$103,"<="&Parameter!$B$4,Buchungen!$K$4:$K$103,"")) | G10: =IF(OR($A10="",$E10="",$F10=""),"",$E10-$F10) | H10: =IFERROR($G10/$E10,"") | I10: =IF($A10="","",IF($E10=0,"Prüfen",IF($H10<$D10,"Prüfen","Im Ziel")))
A11: =IF(OR(Objekte!A7="",Objekte!G7<>"Aktiv"),"",Objekte!A7) | B11: =IF($A11="","",Objekte!B7) | C11: =IF($A11="","",Objekte!C7) | D11: =IF($A11="","",Objekte!E7) | E11: =IF(OR($A11="",Parameter!$B$3="",Parameter!$B$4=""),"",SUMIFS(Buchungen!$I$4:$I$103,Buchungen!$C$4:$C$103,$A11,Buchungen!$D$4:$D$103,"Erlös",Buchungen!$J$4:$J$103,Parameter!$B$5,Buchungen!$B$4:$B$103,">="&Parameter!$B$3,Buchungen!$B$4:$B$103,"<="&Parameter!$B$4,Buchungen!$K$4:$K$103,"")) | F11: =IF(OR($A11="",Parameter!$B$3="",Parameter!$B$4=""),"",SUMIFS(Buchungen!$I$4:$I$103,Buchungen!$C$4:$C$103,$A11,Buchungen!$D$4:$D$103,"Kosten",Buchungen!$J$4:$J$103,Parameter!$B$5,Buchungen!$B$4:$B$103,">="&Parameter!$B$3,Buchungen!$B$4:$B$103,"<="&Parameter!$B$4,Buchungen!$K$4:$K$103,"")) | G11: =IF(OR($A11="",$E11="",$F11=""),"",$E11-$F11) | H11: =IFERROR($G11/$E11,"") | I11: =IF($A11="","",IF($E11=0,"Prüfen",IF($H11<$D11,"Prüfen","Im Ziel")))
A12: =IF(OR(Objekte!A8="",Objekte!G8<>"Aktiv"),"",Objekte!A8) | B12: =IF($A12="","",Objekte!B8) | C12: =IF($A12="","",Objekte!C8) | D12: =IF($A12="","",Objekte!E8) | E12: =IF(OR($A12="",Parameter!$B$3="",Parameter!$B$4=""),"",SUMIFS(Buchungen!$I$4:$I$103,Buchungen!$C$4:$C$103,$A12,Buchungen!$D$4:$D$103,"Erlös",Buchungen!$J$4:$J$103,Parameter!$B$5,Buchungen!$B$4:$B$103,">="&Parameter!$B$3,Buchungen!$B$4:$B$103,"<="&Parameter!$B$4,Buchungen!$K$4:$K$103,"")) | F12: =IF(OR($A12="",Parameter!$B$3="",Parameter!$B$4=""),"",SUMIFS(Buchungen!$I$4:$I$103,Buchungen!$C$4:$C$103,$A12,Buchungen!$D$4:$D$103,"Kosten",Buchungen!$J$4:$J$103,Parameter!$B$5,Buchungen!$B$4:$B$103,">="&Parameter!$B$3,Buchungen!$B$4:$B$103,"<="&Parameter!$B$4,Buchungen!$K$4:$K$103,"")) | G12: =IF(OR($A12="",$E12="",$F12=""),"",$E12-$F12) | H12: =IFERROR($G12/$E12,"") | I12: =IF($A12="","",IF($E12=0,"Prüfen",IF($H12<$D12,"Prüfen","Im Ziel")))
A13: =IF(OR(Objekte!A9="",Objekte!G9<>"Aktiv"),"",Objekte!A9) | B13: =IF($A13="","",Objekte!B9) | C13: =IF($A13="","",Objekte!C9) | D13: =IF($A13="","",Objekte!E9) | E13: =IF(OR($A13="",Parameter!$B$3="",Parameter!$B$4=""),"",SUMIFS(Buchungen!$I$4:$I$103,Buchungen!$C$4:$C$103,$A13,Buchungen!$D$4:$D$103,"Erlös",Buchungen!$J$4:$J$103,Parameter!$B$5,Buchungen!$B$4:$B$103,">="&Parameter!$B$3,Buchungen!$B$4:$B$103,"<="&Parameter!$B$4,Buchungen!$K$4:$K$103,"")) | F13: =IF(OR($A13="",Parameter!$B$3="",Parameter!$B$4=""),"",SUMIFS(Buchungen!$I$4:$I$103,Buchungen!$C$4:$C$103,$A13,Buchungen!$D$4:$D$103,"Kosten",Buchungen!$J$4:$J$103,Parameter!$B$5,Buchungen!$B$4:$B$103,">="&Parameter!$B$3,Buchungen!$B$4:$B$103,"<="&Parameter!$B$4,Buchungen!$K$4:$K$103,"")) | G13: =IF(OR($A13="",$E13="",$F13=""),"",$E13-$F13) | H13: =IFERROR($G13/$E13,"") | I13: =IF($A13="","",IF($E13=0,"Prüfen",IF($H13<$D13,"Prüfen","Im Ziel")))
A14: =IF(OR(Objekte!A10="",Objekte!G10<>"Aktiv"),"",Objekte!A10) | B14: =IF($A14="","",Objekte!B10) | C14: =IF($A14="","",Objekte!C10) | D14: =IF($A14="","",Objekte!E10) | E14: =IF(OR($A14="",Parameter!$B$3="",Parameter!$B$4=""),"",SUMIFS(Buchungen!$I$4:$I$103,Buchungen!$C$4:$C$103,$A14,Buchungen!$D$4:$D$103,"Erlös",Buchungen!$J$4:$J$103,Parameter!$B$5,Buchungen!$B$4:$B$103,">="&Parameter!$B$3,Buchungen!$B$4:$B$103,"<="&Parameter!$B$4,Buchungen!$K$4:$K$103,"")) | F14: =IF(OR($A14="",Parameter!$B$3="",Parameter!$B$4=""),"",SUMIFS(Buchungen!$I$4:$I$103,Buchungen!$C$4:$C$103,$A14,Buchungen!$D$4:$D$103,"Kosten",Buchungen!$J$4:$J$103,Parameter!$B$5,Buchungen!$B$4:$B$103,">="&Parameter!$B$3,Buchungen!$B$4:$B$103,"<="&Parameter!$B$4,Buchungen!$K$4:$K$103,"")) | G14: =IF(OR($A14="",$E14="",$F14=""),"",$E14-$F14) | H14: =IFERROR($G14/$E14,"") | I14: =IF($A14="","",IF($E14=0,"Prüfen",IF($H14<$D14,"Prüfen","Im Ziel")))
A15: =IF(OR(Objekte!A11="",Objekte!G11<>"Aktiv"),"",Objekte!A11) | B15: =IF($A15="","",Objekte!B11) | C15: =IF($A15="","",Objekte!C11) | D15: =IF($A15="","",Objekte!E11) | E15: =IF(OR($A15="",Parameter!$B$3="",Parameter!$B$4=""),"",SUMIFS(Buchungen!$I$4:$I$103,Buchungen!$C$4:$C$103,$A15,Buchungen!$D$4:$D$103,"Erlös",Buchungen!$J$4:$J$103,Parameter!$B$5,Buchungen!$B$4:$B$103,">="&Parameter!$B$3,Buchungen!$B$4:$B$103,"<="&Parameter!$B$4,Buchungen!$K$4:$K$103,"")) | F15: =IF(OR($A15="",Parameter!$B$3="",Parameter!$B$4=""),"",SUMIFS(Buchungen!$I$4:$I$103,Buchungen!$C$4:$C$103,$A15,Buchungen!$D$4:$D$103,"Kosten",Buchungen!$J$4:$J$103,Parameter!$B$5,Buchungen!$B$4:$B$103,">="&Parameter!$B$3,Buchungen!$B$4:$B$103,"<="&Parameter!$B$4,Buchungen!$K$4:$K$103,"")) | G15: =IF(OR($A15="",$E15="",$F15=""),"",$E15-$F15) | H15: =IFERROR($G15/$E15,"") | I15: =IF($A15="","",IF($E15=0,"Prüfen",IF($H15<$D15,"Prüfen","Im Ziel")))
A16: =IF(OR(Objekte!A12="",Objekte!G12<>"Aktiv"),"",Objekte!A12) | B16: =IF($A16="","",Objekte!B12) | C16: =IF($A16="","",Objekte!C12) | D16: =IF($A16="","",Objekte!E12) | E16: =IF(OR($A16="",Parameter!$B$3="",Parameter!$B$4=""),"",SUMIFS(Buchungen!$I$4:$I$103,Buchungen!$C$4:$C$103,$A16,Buchungen!$D$4:$D$103,"Erlös",Buchungen!$J$4:$J$103,Parameter!$B$5,Buchungen!$B$4:$B$103,">="&Parameter!$B$3,Buchungen!$B$4:$B$103,"<="&Parameter!$B$4,Buchungen!$K$4:$K$103,"")) | F16: =IF(OR($A16="",Parameter!$B$3="",Parameter!$B$4=""),"",SUMIFS(Buchungen!$I$4:$I$103,Buchungen!$C$4:$C$103,$A16,Buchungen!$D$4:$D$103,"Kosten",Buchungen!$J$4:$J$103,Parameter!$B$5,Buchungen!$B$4:$B$103,">="&Parameter!$B$3,Buchungen!$B$4:$B$103,"<="&Parameter!$B$4,Buchungen!$K$4:$K$103,"")) | G16: =IF(OR($A16="",$E16="",$F16=""),"",$E16-$F16) | H16: =IFERROR($G16/$E16,"") | I16: =IF($A16="","",IF($E16=0,"Prüfen",IF($H16<$D16,"Prüfen","Im Ziel")))
A17: =IF(OR(Objekte!A13="",Objekte!G13<>"Aktiv"),"",Objekte!A13) | B17: =IF($A17="","",Objekte!B13) | C17: =IF($A17="","",Objekte!C13) | D17: =IF($A17="","",Objekte!E13) | E17: =IF(OR($A17="",Parameter!$B$3="",Parameter!$B$4=""),"",SUMIFS(Buchungen!$I$4:$I$103,Buchungen!$C$4:$C$103,$A17,Buchungen!$D$4:$D$103,"Erlös",Buchungen!$J$4:$J$103,Parameter!$B$5,Buchungen!$B$4:$B$103,">="&Parameter!$B$3,Buchungen!$B$4:$B$103,"<="&Parameter!$B$4,Buchungen!$K$4:$K$103,"")) | F17: =IF(OR($A17="",Parameter!$B$3="",Parameter!$B$4=""),"",SUMIFS(Buchungen!$I$4:$I$103,Buchungen!$C$4:$C$103,$A17,Buchungen!$D$4:$D$103,"Kosten",Buchungen!$J$4:$J$103,Parameter!$B$5,Buchungen!$B$4:$B$103,">="&Parameter!$B$3,Buchungen!$B$4:$B$103,"<="&Parameter!$B$4,Buchungen!$K$4:$K$103,"")) | G17: =IF(OR($A17="",$E17="",$F17=""),"",$E17-$F17) | H17: =IFERROR($G17/$E17,"") | I17: =IF($A17="","",IF($E17=0,"Prüfen",IF($H17<$D17,"Prüfen","Im Ziel")))
A18: =IF(OR(Objekte!A14="",Objekte!G14<>"Aktiv"),"",Objekte!A14) | B18: =IF($A18="","",Objekte!B14) | C18: =IF($A18="","",Objekte!C14) | D18: =IF($A18="","",Objekte!E14) | E18: =IF(OR($A18="",Parameter!$B$3="",Parameter!$B$4=""),"",SUMIFS(Buchungen!$I$4:$I$103,Buchungen!$C$4:$C$103,$A18,Buchungen!$D$4:$D$103,"Erlös",Buchungen!$J$4:$J$103,Parameter!$B$5,Buchungen!$B$4:$B$103,">="&Parameter!$B$3,Buchungen!$B$4:$B$103,"<="&Parameter!$B$4,Buchungen!$K$4:$K$103,"")) | F18: =IF(OR($A18="",Parameter!$B$3="",Parameter!$B$4=""),"",SUMIFS(Buchungen!$I$4:$I$103,Buchungen!$C$4:$C$103,$A18,Buchungen!$D$4:$D$103,"Kosten",Buchungen!$J$4:$J$103,Parameter!$B$5,Buchungen!$B$4:$B$103,">="&Parameter!$B$3,Buchungen!$B$4:$B$103,"<="&Parameter!$B$4,Buchungen!$K$4:$K$103,"")) | G18: =IF(OR($A18="",$E18="",$F18=""),"",$E18-$F18) | H18: =IFERROR($G18/$E18,"") | I18: =IF($A18="","",IF($E18=0,"Prüfen",IF($H18<$D18,"Prüfen","Im Ziel")))
A19: =IF(OR(Objekte!A15="",Objekte!G15<>"Aktiv"),"",Objekte!A15) | B19: =IF($A19="","",Objekte!B15) | C19: =IF($A19="","",Objekte!C15) | D19: =IF($A19="","",Objekte!E15) | E19: =IF(OR($A19="",Parameter!$B$3="",Parameter!$B$4=""),"",SUMIFS(Buchungen!$I$4:$I$103,Buchungen!$C$4:$C$103,$A19,Buchungen!$D$4:$D$103,"Erlös",Buchungen!$J$4:$J$103,Parameter!$B$5,Buchungen!$B$4:$B$103,">="&Parameter!$B$3,Buchungen!$B$4:$B$103,"<="&Parameter!$B$4,Buchungen!$K$4:$K$103,"")) | F19: =IF(OR($A19="",Parameter!$B$3="",Parameter!$B$4=""),"",SUMIFS(Buchungen!$I$4:$I$103,Buchungen!$C$4:$C$103,$A19,Buchungen!$D$4:$D$103,"Kosten",Buchungen!$J$4:$J$103,Parameter!$B$5,Buchungen!$B$4:$B$103,">="&Parameter!$B$3,Buchungen!$B$4:$B$103,"<="&Parameter!$B$4,Buchungen!$K$4:$K$103,"")) | G19: =IF(OR($A19="",$E19="",$F19=""),"",$E19-$F19) | H19: =IFERROR($G19/$E19,"") | I19: =IF($A19="","",IF($E19=0,"Prüfen",IF($H19<$D19,"Prüfen","Im Ziel")))
... A107: =IF(OR(Objekte!A103="",Objekte!G103<>"Aktiv"),"",Objekte!A103) | B107: =IF($A107="","",Objekte!B103) | C107: =IF($A107="","",Objekte!C103) | D107: =IF($A107="","",Objekte!E103) | E107: =IF(OR($A107="",Parameter!$B$3="",Parameter!$B$4=""),"",SUMIFS(Buchungen!$I$4:$I$103,Buchungen!$C$4:$C$103,$A107,Buchungen!$D$4:$D$103,"Erlös",Buchungen!$J$4:$J$103,Parameter!$B$5,Buchungen!$B$4:$B$103,">="&Parameter!$B$3,Buchungen!$B$4:$B$103,"<="&Parameter!$B$4,Buchungen!$K$4:$K$103,"")) | F107: =IF(OR($A107="",Parameter!$B$3="",Parameter!$B$4=""),"",SUMIFS(Buchungen!$I$4:$I$103,Buchungen!$C$4:$C$103,$A107,Buchungen!$D$4:$D$103,"Kosten",Buchungen!$J$4:$J$103,Parameter!$B$5,Buchungen!$B$4:$B$103,">="&Parameter!$B$3,Buchungen!$B$4:$B$103,"<="&Parameter!$B$4,Buchungen!$K$4:$K$103,"")) | G107: =IF(OR($A107="",$E107="",$F107=""),"",$E107-$F107) | H107: =IFERROR($G107/$E107,"") | I107: =IF($A107="","",IF($E107=0,"Prüfen",IF($H107<$D107,"Prüfen","Im Ziel")))

Sheet Objekte
A1: Objektstamm
A2: Grün markierte Zellen sind editierbar. Die vier ausgefüllten Kundenobjekte sind frei erfunden.
A3: Objekt-ID | B3: Kundenobjekt | C3: Zuständigkeit | D3: Fläche (m²) | E3: Zielmarge | F3: Reinigungsintervall | G3: Status
A4: OBJ-101 | B4: Büroforum Silberbogen | C4: Team Nord | D4: 1250 | E4: 0.18 | F4: werktäglich | G4: Aktiv
A5: OBJ-102 | B5: Bildungscampus Lindenquell | C5: Team Ost | D5: 2400 | E5: 0.15 | F5: 5 × wöchentlich | G5: Aktiv
A6: OBJ-103 | B6: Praxiszentrum Elbauen | C6: Team Süd | D6: 780 | E6: 0.2 | F6: werktäglich | G6: Aktiv
A7: OBJ-104 | B7: Logistikhalle Morgenrot | C7: Team West | D7: 3200 | E7: 0.12 | F7: täglich | G7: Aktiv

Sheet Buchungen
A1: Objektbezogene Erlös- und Kostenbuchungen
A2: Grüne Zellen sind Eingaben. Betrag und Prüfhinweis werden berechnet; Hinweise erfordern eine manuelle Prüfung.
A3: Vorgangs-ID | B3: Datum | C3: Objekt-ID | D3: Art | E3: Reinigungsbereich | F3: Menge | G3: Einheit | H3: Wert je Einheit | I3: Betrag | J3: Status | K3: Prüfhinweis
A4: BU-2026-001 | B4: 46267 | C4: OBJ-101 | D4: Erlös | E4: Büroflächen | F4: 1 | G4: Monat | H4: 5400 | I4: =IF(OR($F4="",$H4="",NOT(ISNUMBER($F4)),NOT(ISNUMBER($H4))),"",IFERROR($F4*$H4,"")) | J4: Gebucht | K4: =IF(COUNTA($A4:$H4,$J4)=0,"",IF($A4="","Vorgangs-ID fehlt",IF(COUNTIF($A$4:$A$103,$A4)>1,"Vorgangs-ID doppelt",IF(OR($B4="",NOT(ISNUMBER($B4))),"Datum prüfen",IF($C4="","Objekt-ID fehlt",IF(COUNTIF(Objekte!$A$4:$A$103,$C4)=0,"Objekt-ID prüfen",IF(IFERROR(VLOOKUP($C4,Objekte!$A$4:$G$103,7,FALSE),"")<>"Aktiv","Objektstatus prüfen",IF(AND($D4<>"Erlös",$D4<>"Kosten"),"Art prüfen",IF($E4="","Bereich fehlt",IF(OR($F4="",$G4="",$H4="",NOT(ISNUMBER($F4)),NOT(ISNUMBER($H4)),$F4<=0,$H4<=0),"Menge/Einheit/Wert prüfen",IF($J4="","Status fehlt","")))))))))))
A5: BU-2026-002 | B5: 46268 | C5: OBJ-101 | D5: Kosten | E5: Büroflächen | F5: 138 | G5: h | H5: 28 | I5: =IF(OR($F5="",$H5="",NOT(ISNUMBER($F5)),NOT(ISNUMBER($H5))),"",IFERROR($F5*$H5,"")) | J5: Gebucht | K5: =IF(COUNTA($A5:$H5,$J5)=0,"",IF($A5="","Vorgangs-ID fehlt",IF(COUNTIF($A$4:$A$103,$A5)>1,"Vorgangs-ID doppelt",IF(OR($B5="",NOT(ISNUMBER($B5))),"Datum prüfen",IF($C5="","Objekt-ID fehlt",IF(COUNTIF(Objekte!$A$4:$A$103,$C5)=0,"Objekt-ID prüfen",IF(IFERROR(VLOOKUP($C5,Objekte!$A$4:$G$103,7,FALSE),"")<>"Aktiv","Objektstatus prüfen",IF(AND($D5<>"Erlös",$D5<>"Kosten"),"Art prüfen",IF($E5="","Bereich fehlt",IF(OR($F5="",$G5="",$H5="",NOT(ISNUMBER($F5)),NOT(ISNUMBER($H5)),$F5<=0,$H5<=0),"Menge/Einheit/Wert prüfen",IF($J5="","Status fehlt","")))))))))))
A6: BU-2026-003 | B6: 46269 | C6: OBJ-102 | D6: Erlös | E6: Lehrbereiche | F6: 1 | G6: Monat | H6: 8900 | I6: =IF(OR($F6="",$H6="",NOT(ISNUMBER($F6)),NOT(ISNUMBER($H6))),"",IFERROR($F6*$H6,"")) | J6: Gebucht | K6: =IF(COUNTA($A6:$H6,$J6)=0,"",IF($A6="","Vorgangs-ID fehlt",IF(COUNTIF($A$4:$A$103,$A6)>1,"Vorgangs-ID doppelt",IF(OR($B6="",NOT(ISNUMBER($B6))),"Datum prüfen",IF($C6="","Objekt-ID fehlt",IF(COUNTIF(Objekte!$A$4:$A$103,$C6)=0,"Objekt-ID prüfen",IF(IFERROR(VLOOKUP($C6,Objekte!$A$4:$G$103,7,FALSE),"")<>"Aktiv","Objektstatus prüfen",IF(AND($D6<>"Erlös",$D6<>"Kosten"),"Art prüfen",IF($E6="","Bereich fehlt",IF(OR($F6="",$G6="",$H6="",NOT(ISNUMBER($F6)),NOT(ISNUMBER($H6)),$F6<=0,$H6<=0),"Menge/Einheit/Wert prüfen",IF($J6="","Status fehlt","")))))))))))
A7: BU-2026-004 | B7: 46270 | C7: OBJ-102 | D7: Kosten | E7: Lehrbereiche | F7: 300 | G7: h | H7: 27.5 | I7: =IF(OR($F7="",$H7="",NOT(ISNUMBER($F7)),NOT(ISNUMBER($H7))),"",IFERROR($F7*$H7,"")) | J7: Gebucht | K7: =IF(COUNTA($A7:$H7,$J7)=0,"",IF($A7="","Vorgangs-ID fehlt",IF(COUNTIF($A$4:$A$103,$A7)>1,"Vorgangs-ID doppelt",IF(OR($B7="",NOT(ISNUMBER($B7))),"Datum prüfen",IF($C7="","Objekt-ID fehlt",IF(COUNTIF(Objekte!$A$4:$A$103,$C7)=0,"Objekt-ID prüfen",IF(IFERROR(VLOOKUP($C7,Objekte!$A$4:$G$103,7,FALSE),"")<>"Aktiv","Objektstatus prüfen",IF(AND($D7<>"Erlös",$D7<>"Kosten"),"Art prüfen",IF($E7="","Bereich fehlt",IF(OR($F7="",$G7="",$H7="",NOT(ISNUMBER($F7)),NOT(ISNUMBER($H7)),$F7<=0,$H7<=0),"Menge/Einheit/Wert prüfen",IF($J7="","Status fehlt","")))))))))))
A8: BU-2026-005 | B8: 46271 | C8: OBJ-103 | D8: Erlös | E8: Behandlungsräume | F8: 1 | G8: Monat | H8: 4100 | I8: =IF(OR($F8="",$H8="",NOT(ISNUMBER($F8)),NOT(ISNUMBER($H8))),"",IFERROR($F8*$H8,"")) | J8: Gebucht | K8: =IF(COUNTA($A8:$H8,$J8)=0,"",IF($A8="","Vorgangs-ID fehlt",IF(COUNTIF($A$4:$A$103,$A8)>1,"Vorgangs-ID doppelt",IF(OR($B8="",NOT(ISNUMBER($B8))),"Datum prüfen",IF($C8="","Objekt-ID fehlt",IF(COUNTIF(Objekte!$A$4:$A$103,$C8)=0,"Objekt-ID prüfen",IF(IFERROR(VLOOKUP($C8,Objekte!$A$4:$G$103,7,FALSE),"")<>"Aktiv","Objektstatus prüfen",IF(AND($D8<>"Erlös",$D8<>"Kosten"),"Art prüfen",IF($E8="","Bereich fehlt",IF(OR($F8="",$G8="",$H8="",NOT(ISNUMBER($F8)),NOT(ISNUMBER($H8)),$F8<=0,$H8<=0),"Menge/Einheit/Wert prüfen",IF($J8="","Status fehlt","")))))))))))
A9: BU-2026-006 | B9: 46272 | C9: OBJ-103 | D9: Kosten | E9: Behandlungsräume | F9: 104 | G9: h | H9: 28 | I9: =IF(OR($F9="",$H9="",NOT(ISNUMBER($F9)),NOT(ISNUMBER($H9))),"",IFERROR($F9*$H9,"")) | J9: Gebucht | K9: =IF(COUNTA($A9:$H9,$J9)=0,"",IF($A9="","Vorgangs-ID fehlt",IF(COUNTIF($A$4:$A$103,$A9)>1,"Vorgangs-ID doppelt",IF(OR($B9="",NOT(ISNUMBER($B9))),"Datum prüfen",IF($C9="","Objekt-ID fehlt",IF(COUNTIF(Objekte!$A$4:$A$103,$C9)=0,"Objekt-ID prüfen",IF(IFERROR(VLOOKUP($C9,Objekte!$A$4:$G$103,7,FALSE),"")<>"Aktiv","Objektstatus prüfen",IF(AND($D9<>"Erlös",$D9<>"Kosten"),"Art prüfen",IF($E9="","Bereich fehlt",IF(OR($F9="",$G9="",$H9="",NOT(ISNUMBER($F9)),NOT(ISNUMBER($H9)),$F9<=0,$H9<=0),"Menge/Einheit/Wert prüfen",IF($J9="","Status fehlt","")))))))))))
A10: BU-2026-007 | B10: 46273 | C10: OBJ-104 | D10: Erlös | E10: Lagerflächen | F10: 1 | G10: Monat | H10: 9600 | I10: =IF(OR($F10="",$H10="",NOT(ISNUMBER($F10)),NOT(ISNUMBER($H10))),"",IFERROR($F10*$H10,"")) | J10: Gebucht | K10: =IF(COUNTA($A10:$H10,$J10)=0,"",IF($A10="","Vorgangs-ID fehlt",IF(COUNTIF($A$4:$A$103,$A10)>1,"Vorgangs-ID doppelt",IF(OR($B10="",NOT(ISNUMBER($B10))),"Datum prüfen",IF($C10="","Objekt-ID fehlt",IF(COUNTIF(Objekte!$A$4:$A$103,$C10)=0,"Objekt-ID prüfen",IF(IFERROR(VLOOKUP($C10,Objekte!$A$4:$G$103,7,FALSE),"")<>"Aktiv","Objektstatus prüfen",IF(AND($D10<>"Erlös",$D10<>"Kosten"),"Art prüfen",IF($E10="","Bereich fehlt",IF(OR($F10="",$G10="",$H10="",NOT(ISNUMBER($F10)),NOT(ISNUMBER($H10)),$F10<=0,$H10<=0),"Menge/Einheit/Wert prüfen",IF($J10="","Status fehlt","")))))))))))
A11: BU-2026-008 | B11: 46274 | C11: OBJ-104 | D11: Kosten | E11: Lagerflächen | F11: 340 | G11: h | H11: 28.5 | I11: =IF(OR($F11="",$H11="",NOT(ISNUMBER($F11)),NOT(ISNUMBER($H11))),"",IFERROR($F11*$H11,"")) | J11: Gebucht | K11: =IF(COUNTA($A11:$H11,$J11)=0,"",IF($A11="","Vorgangs-ID fehlt",IF(COUNTIF($A$4:$A$103,$A11)>1,"Vorgangs-ID doppelt",IF(OR($B11="",NOT(ISNUMBER($B11))),"Datum prüfen",IF($C11="","Objekt-ID fehlt",IF(COUNTIF(Objekte!$A$4:$A$103,$C11)=0,"Objekt-ID prüfen",IF(IFERROR(VLOOKUP($C11,Objekte!$A$4:$G$103,7,FALSE),"")<>"Aktiv","Objektstatus prüfen",IF(AND($D11<>"Erlös",$D11<>"Kosten"),"Art prüfen",IF($E11="","Bereich fehlt",IF(OR($F11="",$G11="",$H11="",NOT(ISNUMBER($F11)),NOT(ISNUMBER($H11)),$F11<=0,$H11<=0),"Menge/Einheit/Wert prüfen",IF($J11="","Status fehlt","")))))))))))
I12: =IF(OR($F12="",$H12="",NOT(ISNUMBER($F12)),NOT(ISNUMBER($H12))),"",IFERROR($F12*$H12,"")) | K12: =IF(COUNTA($A12:$H12,$J12)=0,"",IF($A12="","Vorgangs-ID fehlt",IF(COUNTIF($A$4:$A$103,$A12)>1,"Vorgangs-ID doppelt",IF(OR($B12="",NOT(ISNUMBER($B12))),"Datum prüfen",IF($C12="","Objekt-ID fehlt",IF(COUNTIF(Objekte!$A$4:$A$103,$C12)=0,"Objekt-ID prüfen",IF(IFERROR(VLOOKUP($C12,Objekte!$A$4:$G$103,7,FALSE),"")<>"Aktiv","Objektstatus prüfen",IF(AND($D12<>"Erlös",$D12<>"Kosten"),"Art prüfen",IF($E12="","Bereich fehlt",IF(OR($F12="",$G12="",$H12="",NOT(ISNUMBER($F12)),NOT(ISNUMBER($H12)),$F12<=0,$H12<=0),"Menge/Einheit/Wert prüfen",IF($J12="","Status fehlt","")))))))))))
I13: =IF(OR($F13="",$H13="",NOT(ISNUMBER($F13)),NOT(ISNUMBER($H13))),"",IFERROR($F13*$H13,"")) | K13: =IF(COUNTA($A13:$H13,$J13)=0,"",IF($A13="","Vorgangs-ID fehlt",IF(COUNTIF($A$4:$A$103,$A13)>1,"Vorgangs-ID doppelt",IF(OR($B13="",NOT(ISNUMBER($B13))),"Datum prüfen",IF($C13="","Objekt-ID fehlt",IF(COUNTIF(Objekte!$A$4:$A$103,$C13)=0,"Objekt-ID prüfen",IF(IFERROR(VLOOKUP($C13,Objekte!$A$4:$G$103,7,FALSE),"")<>"Aktiv","Objektstatus prüfen",IF(AND($D13<>"Erlös",$D13<>"Kosten"),"Art prüfen",IF($E13="","Bereich fehlt",IF(OR($F13="",$G13="",$H13="",NOT(ISNUMBER($F13)),NOT(ISNUMBER($H13)),$F13<=0,$H13<=0),"Menge/Einheit/Wert prüfen",IF($J13="","Status fehlt","")))))))))))
I14: =IF(OR($F14="",$H14="",NOT(ISNUMBER($F14)),NOT(ISNUMBER($H14))),"",IFERROR($F14*$H14,"")) | K14: =IF(COUNTA($A14:$H14,$J14)=0,"",IF($A14="","Vorgangs-ID fehlt",IF(COUNTIF($A$4:$A$103,$A14)>1,"Vorgangs-ID doppelt",IF(OR($B14="",NOT(ISNUMBER($B14))),"Datum prüfen",IF($C14="","Objekt-ID fehlt",IF(COUNTIF(Objekte!$A$4:$A$103,$C14)=0,"Objekt-ID prüfen",IF(IFERROR(VLOOKUP($C14,Objekte!$A$4:$G$103,7,FALSE),"")<>"Aktiv","Objektstatus prüfen",IF(AND($D14<>"Erlös",$D14<>"Kosten"),"Art prüfen",IF($E14="","Bereich fehlt",IF(OR($F14="",$G14="",$H14="",NOT(ISNUMBER($F14)),NOT(ISNUMBER($H14)),$F14<=0,$H14<=0),"Menge/Einheit/Wert prüfen",IF($J14="","Status fehlt","")))))))))))
I15: =IF(OR($F15="",$H15="",NOT(ISNUMBER($F15)),NOT(ISNUMBER($H15))),"",IFERROR($F15*$H15,"")) | K15: =IF(COUNTA($A15:$H15,$J15)=0,"",IF($A15="","Vorgangs-ID fehlt",IF(COUNTIF($A$4:$A$103,$A15)>1,"Vorgangs-ID doppelt",IF(OR($B15="",NOT(ISNUMBER($B15))),"Datum prüfen",IF($C15="","Objekt-ID fehlt",IF(COUNTIF(Objekte!$A$4:$A$103,$C15)=0,"Objekt-ID prüfen",IF(IFERROR(VLOOKUP($C15,Objekte!$A$4:$G$103,7,FALSE),"")<>"Aktiv","Objektstatus prüfen",IF(AND($D15<>"Erlös",$D15<>"Kosten"),"Art prüfen",IF($E15="","Bereich fehlt",IF(OR($F15="",$G15="",$H15="",NOT(ISNUMBER($F15)),NOT(ISNUMBER($H15)),$F15<=0,$H15<=0),"Menge/Einheit/Wert prüfen",IF($J15="","Status fehlt","")))))))))))
I16: =IF(OR($F16="",$H16="",NOT(ISNUMBER($F16)),NOT(ISNUMBER($H16))),"",IFERROR($F16*$H16,"")) | K16: =IF(COUNTA($A16:$H16,$J16)=0,"",IF($A16="","Vorgangs-ID fehlt",IF(COUNTIF($A$4:$A$103,$A16)>1,"Vorgangs-ID doppelt",IF(OR($B16="",NOT(ISNUMBER($B16))),"Datum prüfen",IF($C16="","Objekt-ID fehlt",IF(COUNTIF(Objekte!$A$4:$A$103,$C16)=0,"Objekt-ID prüfen",IF(IFERROR(VLOOKUP($C16,Objekte!$A$4:$G$103,7,FALSE),"")<>"Aktiv","Objektstatus prüfen",IF(AND($D16<>"Erlös",$D16<>"Kosten"),"Art prüfen",IF($E16="","Bereich fehlt",IF(OR($F16="",$G16="",$H16="",NOT(ISNUMBER($F16)),NOT(ISNUMBER($H16)),$F16<=0,$H16<=0),"Menge/Einheit/Wert prüfen",IF($J16="","Status fehlt","")))))))))))
I17: =IF(OR($F17="",$H17="",NOT(ISNUMBER($F17)),NOT(ISNUMBER($H17))),"",IFERROR($F17*$H17,"")) | K17: =IF(COUNTA($A17:$H17,$J17)=0,"",IF($A17="","Vorgangs-ID fehlt",IF(COUNTIF($A$4:$A$103,$A17)>1,"Vorgangs-ID doppelt",IF(OR($B17="",NOT(ISNUMBER($B17))),"Datum prüfen",IF($C17="","Objekt-ID fehlt",IF(COUNTIF(Objekte!$A$4:$A$103,$C17)=0,"Objekt-ID prüfen",IF(IFERROR(VLOOKUP($C17,Objekte!$A$4:$G$103,7,FALSE),"")<>"Aktiv","Objektstatus prüfen",IF(AND($D17<>"Erlös",$D17<>"Kosten"),"Art prüfen",IF($E17="","Bereich fehlt",IF(OR($F17="",$G17="",$H17="",NOT(ISNUMBER($F17)),NOT(ISNUMBER($H17)),$F17<=0,$H17<=0),"Menge/Einheit/Wert prüfen",IF($J17="","Status fehlt","")))))))))))
I18: =IF(OR($F18="",$H18="",NOT(ISNUMBER($F18)),NOT(ISNUMBER($H18))),"",IFERROR($F18*$H18,"")) | K18: =IF(COUNTA($A18:$H18,$J18)=0,"",IF($A18="","Vorgangs-ID fehlt",IF(COUNTIF($A$4:$A$103,$A18)>1,"Vorgangs-ID doppelt",IF(OR($B18="",NOT(ISNUMBER($B18))),"Datum prüfen",IF($C18="","Objekt-ID fehlt",IF(COUNTIF(Objekte!$A$4:$A$103,$C18)=0,"Objekt-ID prüfen",IF(IFERROR(VLOOKUP($C18,Objekte!$A$4:$G$103,7,FALSE),"")<>"Aktiv","Objektstatus prüfen",IF(AND($D18<>"Erlös",$D18<>"Kosten"),"Art prüfen",IF($E18="","Bereich fehlt",IF(OR($F18="",$G18="",$H18="",NOT(ISNUMBER($F18)),NOT(ISNUMBER($H18)),$F18<=0,$H18<=0),"Menge/Einheit/Wert prüfen",IF($J18="","Status fehlt","")))))))))))
I19: =IF(OR($F19="",$H19="",NOT(ISNUMBER($F19)),NOT(ISNUMBER($H19))),"",IFERROR($F19*$H19,"")) | K19: =IF(COUNTA($A19:$H19,$J19)=0,"",IF($A19="","Vorgangs-ID fehlt",IF(COUNTIF($A$4:$A$103,$A19)>1,"Vorgangs-ID doppelt",IF(OR($B19="",NOT(ISNUMBER($B19))),"Datum prüfen",IF($C19="","Objekt-ID fehlt",IF(COUNTIF(Objekte!$A$4:$A$103,$C19)=0,"Objekt-ID prüfen",IF(IFERROR(VLOOKUP($C19,Objekte!$A$4:$G$103,7,FALSE),"")<>"Aktiv","Objektstatus prüfen",IF(AND($D19<>"Erlös",$D19<>"Kosten"),"Art prüfen",IF($E19="","Bereich fehlt",IF(OR($F19="",$G19="",$H19="",NOT(ISNUMBER($F19)),NOT(ISNUMBER($H19)),$F19<=0,$H19<=0),"Menge/Einheit/Wert prüfen",IF($J19="","Status fehlt","")))))))))))
I20: =IF(OR($F20="",$H20="",NOT(ISNUMBER($F20)),NOT(ISNUMBER($H20))),"",IFERROR($F20*$H20,"")) | K20: =IF(COUNTA($A20:$H20,$J20)=0,"",IF($A20="","Vorgangs-ID fehlt",IF(COUNTIF($A$4:$A$103,$A20)>1,"Vorgangs-ID doppelt",IF(OR($B20="",NOT(ISNUMBER($B20))),"Datum prüfen",IF($C20="","Objekt-ID fehlt",IF(COUNTIF(Objekte!$A$4:$A$103,$C20)=0,"Objekt-ID prüfen",IF(IFERROR(VLOOKUP($C20,Objekte!$A$4:$G$103,7,FALSE),"")<>"Aktiv","Objektstatus prüfen",IF(AND($D20<>"Erlös",$D20<>"Kosten"),"Art prüfen",IF($E20="","Bereich fehlt",IF(OR($F20="",$G20="",$H20="",NOT(ISNUMBER($F20)),NOT(ISNUMBER($H20)),$F20<=0,$H20<=0),"Menge/Einheit/Wert prüfen",IF($J20="","Status fehlt","")))))))))))
I21: =IF(OR($F21="",$H21="",NOT(ISNUMBER($F21)),NOT(ISNUMBER($H21))),"",IFERROR($F21*$H21,"")) | K21: =IF(COUNTA($A21:$H21,$J21)=0,"",IF($A21="","Vorgangs-ID fehlt",IF(COUNTIF($A$4:$A$103,$A21)>1,"Vorgangs-ID doppelt",IF(OR($B21="",NOT(ISNUMBER($B21))),"Datum prüfen",IF($C21="","Objekt-ID fehlt",IF(COUNTIF(Objekte!$A$4:$A$103,$C21)=0,"Objekt-ID prüfen",IF(IFERROR(VLOOKUP($C21,Objekte!$A$4:$G$103,7,FALSE),"")<>"Aktiv","Objektstatus prüfen",IF(AND($D21<>"Erlös",$D21<>"Kosten"),"Art prüfen",IF($E21="","Bereich fehlt",IF(OR($F21="",$G21="",$H21="",NOT(ISNUMBER($F21)),NOT(ISNUMBER($H21)),$F21<=0,$H21<=0),"Menge/Einheit/Wert prüfen",IF($J21="","Status fehlt","")))))))))))
I22: =IF(OR($F22="",$H22="",NOT(ISNUMBER($F22)),NOT(ISNUMBER($H22))),"",IFERROR($F22*$H22,"")) | K22: =IF(COUNTA($A22:$H22,$J22)=0,"",IF($A22="","Vorgangs-ID fehlt",IF(COUNTIF($A$4:$A$103,$A22)>1,"Vorgangs-ID doppelt",IF(OR($B22="",NOT(ISNUMBER($B22))),"Datum prüfen",IF($C22="","Objekt-ID fehlt",IF(COUNTIF(Objekte!$A$4:$A$103,$C22)=0,"Objekt-ID prüfen",IF(IFERROR(VLOOKUP($C22,Objekte!$A$4:$G$103,7,FALSE),"")<>"Aktiv","Objektstatus prüfen",IF(AND($D22<>"Erlös",$D22<>"Kosten"),"Art prüfen",IF($E22="","Bereich fehlt",IF(OR($F22="",$G22="",$H22="",NOT(ISNUMBER($F22)),NOT(ISNUMBER($H22)),$F22<=0,$H22<=0),"Menge/Einheit/Wert prüfen",IF($J22="","Status fehlt","")))))))))))
I23: =IF(OR($F23="",$H23="",NOT(ISNUMBER($F23)),NOT(ISNUMBER($H23))),"",IFERROR($F23*$H23,"")) | K23: =IF(COUNTA($A23:$H23,$J23)=0,"",IF($A23="","Vorgangs-ID fehlt",IF(COUNTIF($A$4:$A$103,$A23)>1,"Vorgangs-ID doppelt",IF(OR($B23="",NOT(ISNUMBER($B23))),"Datum prüfen",IF($C23="","Objekt-ID fehlt",IF(COUNTIF(Objekte!$A$4:$A$103,$C23)=0,"Objekt-ID prüfen",IF(IFERROR(VLOOKUP($C23,Objekte!$A$4:$G$103,7,FALSE),"")<>"Aktiv","Objektstatus prüfen",IF(AND($D23<>"Erlös",$D23<>"Kosten"),"Art prüfen",IF($E23="","Bereich fehlt",IF(OR($F23="",$G23="",$H23="",NOT(ISNUMBER($F23)),NOT(ISNUMBER($H23)),$F23<=0,$H23<=0),"Menge/Einheit/Wert prüfen",IF($J23="","Status fehlt","")))))))))))
... I103: =IF(OR($F103="",$H103="",NOT(ISNUMBER($F103)),NOT(ISNUMBER($H103))),"",IFERROR($F103*$H103,"")) | K103: =IF(COUNTA($A103:$H103,$J103)=0,"",IF($A103="","Vorgangs-ID fehlt",IF(COUNTIF($A$4:$A$103,$A103)>1,"Vorgangs-ID doppelt",IF(OR($B103="",NOT(ISNUMBER($B103))),"Datum prüfen",IF($C103="","Objekt-ID fehlt",IF(COUNTIF(Objekte!$A$4:$A$103,$C103)=0,"Objekt-ID prüfen",IF(IFERROR(VLOOKUP($C103,Objekte!$A$4:$G$103,7,FALSE),"")<>"Aktiv","Objektstatus prüfen",IF(AND($D103<>"Erlös",$D103<>"Kosten"),"Art prüfen",IF($E103="","Bereich fehlt",IF(OR($F103="",$G103="",$H103="",NOT(ISNUMBER($F103)),NOT(ISNUMBER($H103)),$F103<=0,$H103<=0),"Menge/Einheit/Wert prüfen",IF($J103="","Status fehlt","")))))))))))

Sheet Parameter
A1: Parameter und stabile Auswahllisten
A2: Annahme | B2: Wert | D2: Buchungsstatus | F2: Objektstatus | H2: Buchungsart | J2: Einheit
A3: Zeitraum von | B3: 46266 | D3: Gebucht | F3: Aktiv | H3: Erlös | J3: Monat
A4: Zeitraum bis | B4: 46295 | D4: Geplant | F4: Inaktiv | H4: Kosten | J4: h
A5: Ausgewerteter Buchungsstatus | B5: Gebucht | D5: Storniert | J5: m²
J6: Stück
A7: Auswertungsregel | B7: Berücksichtigt werden aktive Objekte sowie fehlerfreie Buchungen mit dem gewählten Status und Datum im Zeitraum.
