Workbook

Sheet Übersicht
A1: Kundenbesuche – Jahresübersicht
A2: Kennzahlen aus dem Besuchsplan; Planjahr, Stichtag und interne Richtwerte stehen im Blatt Parameter.
A3: Kennzahl | B3: Wert | E3: Monat | F3: Besuche
A4: Geplante Besuche im Planjahr | B4: =COUNTIFS(Besuchsplan!$A$5:$A$104,"<>",Besuchsplan!$F$5:$F$104,">="&DATE(Parameter!$B$4,1,1),Besuchsplan!$F$5:$F$104,"<"&DATE(Parameter!$B$4+1,1,1)) | E4: Jan | F4: =COUNTIFS(Besuchsplan!$A$5:$A$104,"<>",Besuchsplan!$F$5:$F$104,">="&DATE(Parameter!$B$4,1,1),Besuchsplan!$F$5:$F$104,"<"&DATE(Parameter!$B$4,2,1))
A5: Erledigte Besuche | B5: =COUNTIFS(Besuchsplan!$A$5:$A$104,"<>",Besuchsplan!$F$5:$F$104,">="&DATE(Parameter!$B$4,1,1),Besuchsplan!$F$5:$F$104,"<"&DATE(Parameter!$B$4+1,1,1),Besuchsplan!$H$5:$H$104,"Erledigt") | E5: Feb | F5: =COUNTIFS(Besuchsplan!$A$5:$A$104,"<>",Besuchsplan!$F$5:$F$104,">="&DATE(Parameter!$B$4,2,1),Besuchsplan!$F$5:$F$104,"<"&DATE(Parameter!$B$4,3,1))
A6: Überfällige Besuche | B6: =COUNTIFS(Besuchsplan!$A$5:$A$104,"<>",Besuchsplan!$F$5:$F$104,">="&DATE(Parameter!$B$4,1,1),Besuchsplan!$F$5:$F$104,"<"&DATE(Parameter!$B$4+1,1,1),Besuchsplan!$F$5:$F$104,"<"&Parameter!$B$5,Besuchsplan!$H$5:$H$104,"<>Erledigt",Besuchsplan!$H$5:$H$104,"<>Abgesagt") | E6: Mär | F6: =COUNTIFS(Besuchsplan!$A$5:$A$104,"<>",Besuchsplan!$F$5:$F$104,">="&DATE(Parameter!$B$4,3,1),Besuchsplan!$F$5:$F$104,"<"&DATE(Parameter!$B$4,4,1))
A7: Fällig im Vorschaufenster | B7: =COUNTIFS(Besuchsplan!$A$5:$A$104,"<>",Besuchsplan!$F$5:$F$104,">="&Parameter!$B$5,Besuchsplan!$F$5:$F$104,"<="&Parameter!$B$5+Parameter!$B$6,Besuchsplan!$F$5:$F$104,"<"&DATE(Parameter!$B$4+1,1,1),Besuchsplan!$H$5:$H$104,"<>Erledigt",Besuchsplan!$H$5:$H$104,"<>Abgesagt") | E7: Apr | F7: =COUNTIFS(Besuchsplan!$A$5:$A$104,"<>",Besuchsplan!$F$5:$F$104,">="&DATE(Parameter!$B$4,4,1),Besuchsplan!$F$5:$F$104,"<"&DATE(Parameter!$B$4,5,1))
A8: Erledigungsquote | B8: =IFERROR(B5/(B4-COUNTIFS(Besuchsplan!$F$5:$F$104,">="&DATE(Parameter!$B$4,1,1),Besuchsplan!$F$5:$F$104,"<"&DATE(Parameter!$B$4+1,1,1),Besuchsplan!$H$5:$H$104,"Abgesagt")),"") | E8: Mai | F8: =COUNTIFS(Besuchsplan!$A$5:$A$104,"<>",Besuchsplan!$F$5:$F$104,">="&DATE(Parameter!$B$4,5,1),Besuchsplan!$F$5:$F$104,"<"&DATE(Parameter!$B$4,6,1))
A9: Zuständigkeit fehlt | B9: =COUNTIFS(Besuchsplan!$A$5:$A$104,"<>",Besuchsplan!$F$5:$F$104,">="&DATE(Parameter!$B$4,1,1),Besuchsplan!$F$5:$F$104,"<"&DATE(Parameter!$B$4+1,1,1),Besuchsplan!$G$5:$G$104,"") | E9: Jun | F9: =COUNTIFS(Besuchsplan!$A$5:$A$104,"<>",Besuchsplan!$F$5:$F$104,">="&DATE(Parameter!$B$4,6,1),Besuchsplan!$F$5:$F$104,"<"&DATE(Parameter!$B$4,7,1))
A10: Manuell zu prüfende Eingaben | B10: =COUNTIFS(Besuchsplan!$F$5:$F$104,">="&DATE(Parameter!$B$4,1,1),Besuchsplan!$F$5:$F$104,"<"&DATE(Parameter!$B$4+1,1,1),Besuchsplan!$J$5:$J$104,"*prüfen*") | E10: Jul | F10: =COUNTIFS(Besuchsplan!$A$5:$A$104,"<>",Besuchsplan!$F$5:$F$104,">="&DATE(Parameter!$B$4,7,1),Besuchsplan!$F$5:$F$104,"<"&DATE(Parameter!$B$4,8,1))
A11: Monate über dem Richtwert | B11: =COUNTIF($F$4:$F$15,">"&Parameter!$B$7) | E11: Aug | F11: =COUNTIFS(Besuchsplan!$A$5:$A$104,"<>",Besuchsplan!$F$5:$F$104,">="&DATE(Parameter!$B$4,8,1),Besuchsplan!$F$5:$F$104,"<"&DATE(Parameter!$B$4,9,1))
E12: Sep | F12: =COUNTIFS(Besuchsplan!$A$5:$A$104,"<>",Besuchsplan!$F$5:$F$104,">="&DATE(Parameter!$B$4,9,1),Besuchsplan!$F$5:$F$104,"<"&DATE(Parameter!$B$4,10,1))
E13: Okt | F13: =COUNTIFS(Besuchsplan!$A$5:$A$104,"<>",Besuchsplan!$F$5:$F$104,">="&DATE(Parameter!$B$4,10,1),Besuchsplan!$F$5:$F$104,"<"&DATE(Parameter!$B$4,11,1))
E14: Nov | F14: =COUNTIFS(Besuchsplan!$A$5:$A$104,"<>",Besuchsplan!$F$5:$F$104,">="&DATE(Parameter!$B$4,11,1),Besuchsplan!$F$5:$F$104,"<"&DATE(Parameter!$B$4,12,1))
E15: Dez | F15: =COUNTIFS(Besuchsplan!$A$5:$A$104,"<>",Besuchsplan!$F$5:$F$104,">="&DATE(Parameter!$B$4,12,1),Besuchsplan!$F$5:$F$104,"<"&DATE(Parameter!$B$4,13,1))

Sheet Besuchsplan
A1: Kundenbesuche – Jahresplan
A2: Grün markierte Zellen sind editierbar. Alle Kundenobjekte und Vorgänge in den Beispielzeilen sind ausdrücklich fiktiv.
A4: Besuch-ID | B4: Objekt-ID | C4: Kundenobjekt | D4: Reinigungsbereich | E4: Intervall | F4: Soll-Datum | G4: Zuständigkeit | H4: Status | I4: Ist-Datum | J4: Prüflage | K4: Tage zum Soll
A5: BES-2026-001 | B5: OBJ-101 | C5: Musterpark Bürohaus (fiktiv) | D5: Büro- und Sanitärbereiche | E5: halbjährlich | F5: 46037 | G5: Objektleitung Nord | H5: Erledigt | I5: 46038 | J5: =IF($A5="","",IF(OR($B5="",$C5="",$D5="",$E5="",$F5="",$G5="",$H5=""),"Eingaben prüfen",IF($H5="Erledigt",IF($I5="","Ist-Datum prüfen","Abgeschlossen"),IF($I5<>"","Status/Ist prüfen",IF($H5="Abgesagt","Nicht einplanen",IF($F5<Parameter!$B$5,"Überfällig",IF($F5<=Parameter!$B$5+Parameter!$B$6,"Bald fällig","Im Plan"))))))) | K5: =IF(OR($A5="",$F5="",$H5="",$H5="Erledigt",$H5="Abgesagt"),"",$F5-Parameter!$B$5)
A6: BES-2026-002 | B6: OBJ-102 | C6: Fabelhafen Lernzentrum (fiktiv) | D6: Unterrichts- und Verkehrsflächen | E6: halbjährlich | F6: 46072 | G6: Objektleitung Mitte | H6: Erledigt | I6: 46074 | J6: =IF($A6="","",IF(OR($B6="",$C6="",$D6="",$E6="",$F6="",$G6="",$H6=""),"Eingaben prüfen",IF($H6="Erledigt",IF($I6="","Ist-Datum prüfen","Abgeschlossen"),IF($I6<>"","Status/Ist prüfen",IF($H6="Abgesagt","Nicht einplanen",IF($F6<Parameter!$B$5,"Überfällig",IF($F6<=Parameter!$B$5+Parameter!$B$6,"Bald fällig","Im Plan"))))))) | K6: =IF(OR($A6="",$F6="",$H6="",$H6="Erledigt",$H6="Abgesagt"),"",$F6-Parameter!$B$5)
A7: BES-2026-003 | B7: OBJ-103 | C7: Sternbogen Werkhof (fiktiv) | D7: Werkstattnahe Sozialräume | E7: halbjährlich | F7: 46093 | G7: Disposition West | H7: Erledigt | I7: 46094 | J7: =IF($A7="","",IF(OR($B7="",$C7="",$D7="",$E7="",$F7="",$G7="",$H7=""),"Eingaben prüfen",IF($H7="Erledigt",IF($I7="","Ist-Datum prüfen","Abgeschlossen"),IF($I7<>"","Status/Ist prüfen",IF($H7="Abgesagt","Nicht einplanen",IF($F7<Parameter!$B$5,"Überfällig",IF($F7<=Parameter!$B$5+Parameter!$B$6,"Bald fällig","Im Plan"))))))) | K7: =IF(OR($A7="",$F7="",$H7="",$H7="Erledigt",$H7="Abgesagt"),"",$F7-Parameter!$B$5)
A8: BES-2026-004 | B8: OBJ-104 | C8: Wolkenhain Kulturforum (fiktiv) | D8: Foyer- und Veranstaltungsflächen | E8: halbjährlich | F8: 46128 | G8: Objektleitung Süd | H8: Erledigt | I8: 46130 | J8: =IF($A8="","",IF(OR($B8="",$C8="",$D8="",$E8="",$F8="",$G8="",$H8=""),"Eingaben prüfen",IF($H8="Erledigt",IF($I8="","Ist-Datum prüfen","Abgeschlossen"),IF($I8<>"","Status/Ist prüfen",IF($H8="Abgesagt","Nicht einplanen",IF($F8<Parameter!$B$5,"Überfällig",IF($F8<=Parameter!$B$5+Parameter!$B$6,"Bald fällig","Im Plan"))))))) | K8: =IF(OR($A8="",$F8="",$H8="",$H8="Erledigt",$H8="Abgesagt"),"",$F8-Parameter!$B$5)
A9: BES-2026-005 | B9: OBJ-101 | C9: Musterpark Bürohaus (fiktiv) | D9: Büro- und Sanitärbereiche | E9: halbjährlich | F9: 46219 | G9: Objektleitung Nord | H9: Erledigt | I9: 46220 | J9: =IF($A9="","",IF(OR($B9="",$C9="",$D9="",$E9="",$F9="",$G9="",$H9=""),"Eingaben prüfen",IF($H9="Erledigt",IF($I9="","Ist-Datum prüfen","Abgeschlossen"),IF($I9<>"","Status/Ist prüfen",IF($H9="Abgesagt","Nicht einplanen",IF($F9<Parameter!$B$5,"Überfällig",IF($F9<=Parameter!$B$5+Parameter!$B$6,"Bald fällig","Im Plan"))))))) | K9: =IF(OR($A9="",$F9="",$H9="",$H9="Erledigt",$H9="Abgesagt"),"",$F9-Parameter!$B$5)
A10: BES-2026-006 | B10: OBJ-102 | C10: Fabelhafen Lernzentrum (fiktiv) | D10: Unterrichts- und Verkehrsflächen | E10: halbjährlich | F10: 46254 | G10: Objektleitung Mitte | H10: Offen | J10: =IF($A10="","",IF(OR($B10="",$C10="",$D10="",$E10="",$F10="",$G10="",$H10=""),"Eingaben prüfen",IF($H10="Erledigt",IF($I10="","Ist-Datum prüfen","Abgeschlossen"),IF($I10<>"","Status/Ist prüfen",IF($H10="Abgesagt","Nicht einplanen",IF($F10<Parameter!$B$5,"Überfällig",IF($F10<=Parameter!$B$5+Parameter!$B$6,"Bald fällig","Im Plan"))))))) | K10: =IF(OR($A10="",$F10="",$H10="",$H10="Erledigt",$H10="Abgesagt"),"",$F10-Parameter!$B$5)
A11: BES-2026-007 | B11: OBJ-103 | C11: Sternbogen Werkhof (fiktiv) | D11: Werkstattnahe Sozialräume | E11: halbjährlich | F11: 46282 | G11: Disposition West | H11: Geplant | J11: =IF($A11="","",IF(OR($B11="",$C11="",$D11="",$E11="",$F11="",$G11="",$H11=""),"Eingaben prüfen",IF($H11="Erledigt",IF($I11="","Ist-Datum prüfen","Abgeschlossen"),IF($I11<>"","Status/Ist prüfen",IF($H11="Abgesagt","Nicht einplanen",IF($F11<Parameter!$B$5,"Überfällig",IF($F11<=Parameter!$B$5+Parameter!$B$6,"Bald fällig","Im Plan"))))))) | K11: =IF(OR($A11="",$F11="",$H11="",$H11="Erledigt",$H11="Abgesagt"),"",$F11-Parameter!$B$5)
A12: BES-2026-008 | B12: OBJ-104 | C12: Wolkenhain Kulturforum (fiktiv) | D12: Foyer- und Veranstaltungsflächen | E12: halbjährlich | F12: 46310 | G12: Objektleitung Süd | H12: Geplant | J12: =IF($A12="","",IF(OR($B12="",$C12="",$D12="",$E12="",$F12="",$G12="",$H12=""),"Eingaben prüfen",IF($H12="Erledigt",IF($I12="","Ist-Datum prüfen","Abgeschlossen"),IF($I12<>"","Status/Ist prüfen",IF($H12="Abgesagt","Nicht einplanen",IF($F12<Parameter!$B$5,"Überfällig",IF($F12<=Parameter!$B$5+Parameter!$B$6,"Bald fällig","Im Plan"))))))) | K12: =IF(OR($A12="",$F12="",$H12="",$H12="Erledigt",$H12="Abgesagt"),"",$F12-Parameter!$B$5)
A13: BES-2026-009 | B13: OBJ-105 | C13: Kieselweg Servicehaus (fiktiv) | D13: Empfangs- und Gemeinschaftsflächen | E13: jährlich | F13: 46338 | G13: Disposition Ost | H13: Geplant | J13: =IF($A13="","",IF(OR($B13="",$C13="",$D13="",$E13="",$F13="",$G13="",$H13=""),"Eingaben prüfen",IF($H13="Erledigt",IF($I13="","Ist-Datum prüfen","Abgeschlossen"),IF($I13<>"","Status/Ist prüfen",IF($H13="Abgesagt","Nicht einplanen",IF($F13<Parameter!$B$5,"Überfällig",IF($F13<=Parameter!$B$5+Parameter!$B$6,"Bald fällig","Im Plan"))))))) | K13: =IF(OR($A13="",$F13="",$H13="",$H13="Erledigt",$H13="Abgesagt"),"",$F13-Parameter!$B$5)
A14: BES-2026-010 | B14: OBJ-106 | C14: Lichtbogen Atelierhaus (fiktiv) | D14: Atelier- und Nebenflächen | E14: jährlich | F14: 46366 | G14: Objektleitung Mitte | H14: Geplant | J14: =IF($A14="","",IF(OR($B14="",$C14="",$D14="",$E14="",$F14="",$G14="",$H14=""),"Eingaben prüfen",IF($H14="Erledigt",IF($I14="","Ist-Datum prüfen","Abgeschlossen"),IF($I14<>"","Status/Ist prüfen",IF($H14="Abgesagt","Nicht einplanen",IF($F14<Parameter!$B$5,"Überfällig",IF($F14<=Parameter!$B$5+Parameter!$B$6,"Bald fällig","Im Plan"))))))) | K14: =IF(OR($A14="",$F14="",$H14="",$H14="Erledigt",$H14="Abgesagt"),"",$F14-Parameter!$B$5)
J15: =IF($A15="","",IF(OR($B15="",$C15="",$D15="",$E15="",$F15="",$G15="",$H15=""),"Eingaben prüfen",IF($H15="Erledigt",IF($I15="","Ist-Datum prüfen","Abgeschlossen"),IF($I15<>"","Status/Ist prüfen",IF($H15="Abgesagt","Nicht einplanen",IF($F15<Parameter!$B$5,"Überfällig",IF($F15<=Parameter!$B$5+Parameter!$B$6,"Bald fällig","Im Plan"))))))) | K15: =IF(OR($A15="",$F15="",$H15="",$H15="Erledigt",$H15="Abgesagt"),"",$F15-Parameter!$B$5)
J16: =IF($A16="","",IF(OR($B16="",$C16="",$D16="",$E16="",$F16="",$G16="",$H16=""),"Eingaben prüfen",IF($H16="Erledigt",IF($I16="","Ist-Datum prüfen","Abgeschlossen"),IF($I16<>"","Status/Ist prüfen",IF($H16="Abgesagt","Nicht einplanen",IF($F16<Parameter!$B$5,"Überfällig",IF($F16<=Parameter!$B$5+Parameter!$B$6,"Bald fällig","Im Plan"))))))) | K16: =IF(OR($A16="",$F16="",$H16="",$H16="Erledigt",$H16="Abgesagt"),"",$F16-Parameter!$B$5)
J17: =IF($A17="","",IF(OR($B17="",$C17="",$D17="",$E17="",$F17="",$G17="",$H17=""),"Eingaben prüfen",IF($H17="Erledigt",IF($I17="","Ist-Datum prüfen","Abgeschlossen"),IF($I17<>"","Status/Ist prüfen",IF($H17="Abgesagt","Nicht einplanen",IF($F17<Parameter!$B$5,"Überfällig",IF($F17<=Parameter!$B$5+Parameter!$B$6,"Bald fällig","Im Plan"))))))) | K17: =IF(OR($A17="",$F17="",$H17="",$H17="Erledigt",$H17="Abgesagt"),"",$F17-Parameter!$B$5)
J18: =IF($A18="","",IF(OR($B18="",$C18="",$D18="",$E18="",$F18="",$G18="",$H18=""),"Eingaben prüfen",IF($H18="Erledigt",IF($I18="","Ist-Datum prüfen","Abgeschlossen"),IF($I18<>"","Status/Ist prüfen",IF($H18="Abgesagt","Nicht einplanen",IF($F18<Parameter!$B$5,"Überfällig",IF($F18<=Parameter!$B$5+Parameter!$B$6,"Bald fällig","Im Plan"))))))) | K18: =IF(OR($A18="",$F18="",$H18="",$H18="Erledigt",$H18="Abgesagt"),"",$F18-Parameter!$B$5)
J19: =IF($A19="","",IF(OR($B19="",$C19="",$D19="",$E19="",$F19="",$G19="",$H19=""),"Eingaben prüfen",IF($H19="Erledigt",IF($I19="","Ist-Datum prüfen","Abgeschlossen"),IF($I19<>"","Status/Ist prüfen",IF($H19="Abgesagt","Nicht einplanen",IF($F19<Parameter!$B$5,"Überfällig",IF($F19<=Parameter!$B$5+Parameter!$B$6,"Bald fällig","Im Plan"))))))) | K19: =IF(OR($A19="",$F19="",$H19="",$H19="Erledigt",$H19="Abgesagt"),"",$F19-Parameter!$B$5)
J20: =IF($A20="","",IF(OR($B20="",$C20="",$D20="",$E20="",$F20="",$G20="",$H20=""),"Eingaben prüfen",IF($H20="Erledigt",IF($I20="","Ist-Datum prüfen","Abgeschlossen"),IF($I20<>"","Status/Ist prüfen",IF($H20="Abgesagt","Nicht einplanen",IF($F20<Parameter!$B$5,"Überfällig",IF($F20<=Parameter!$B$5+Parameter!$B$6,"Bald fällig","Im Plan"))))))) | K20: =IF(OR($A20="",$F20="",$H20="",$H20="Erledigt",$H20="Abgesagt"),"",$F20-Parameter!$B$5)
J21: =IF($A21="","",IF(OR($B21="",$C21="",$D21="",$E21="",$F21="",$G21="",$H21=""),"Eingaben prüfen",IF($H21="Erledigt",IF($I21="","Ist-Datum prüfen","Abgeschlossen"),IF($I21<>"","Status/Ist prüfen",IF($H21="Abgesagt","Nicht einplanen",IF($F21<Parameter!$B$5,"Überfällig",IF($F21<=Parameter!$B$5+Parameter!$B$6,"Bald fällig","Im Plan"))))))) | K21: =IF(OR($A21="",$F21="",$H21="",$H21="Erledigt",$H21="Abgesagt"),"",$F21-Parameter!$B$5)
J22: =IF($A22="","",IF(OR($B22="",$C22="",$D22="",$E22="",$F22="",$G22="",$H22=""),"Eingaben prüfen",IF($H22="Erledigt",IF($I22="","Ist-Datum prüfen","Abgeschlossen"),IF($I22<>"","Status/Ist prüfen",IF($H22="Abgesagt","Nicht einplanen",IF($F22<Parameter!$B$5,"Überfällig",IF($F22<=Parameter!$B$5+Parameter!$B$6,"Bald fällig","Im Plan"))))))) | K22: =IF(OR($A22="",$F22="",$H22="",$H22="Erledigt",$H22="Abgesagt"),"",$F22-Parameter!$B$5)
J23: =IF($A23="","",IF(OR($B23="",$C23="",$D23="",$E23="",$F23="",$G23="",$H23=""),"Eingaben prüfen",IF($H23="Erledigt",IF($I23="","Ist-Datum prüfen","Abgeschlossen"),IF($I23<>"","Status/Ist prüfen",IF($H23="Abgesagt","Nicht einplanen",IF($F23<Parameter!$B$5,"Überfällig",IF($F23<=Parameter!$B$5+Parameter!$B$6,"Bald fällig","Im Plan"))))))) | K23: =IF(OR($A23="",$F23="",$H23="",$H23="Erledigt",$H23="Abgesagt"),"",$F23-Parameter!$B$5)
J24: =IF($A24="","",IF(OR($B24="",$C24="",$D24="",$E24="",$F24="",$G24="",$H24=""),"Eingaben prüfen",IF($H24="Erledigt",IF($I24="","Ist-Datum prüfen","Abgeschlossen"),IF($I24<>"","Status/Ist prüfen",IF($H24="Abgesagt","Nicht einplanen",IF($F24<Parameter!$B$5,"Überfällig",IF($F24<=Parameter!$B$5+Parameter!$B$6,"Bald fällig","Im Plan"))))))) | K24: =IF(OR($A24="",$F24="",$H24="",$H24="Erledigt",$H24="Abgesagt"),"",$F24-Parameter!$B$5)
J25: =IF($A25="","",IF(OR($B25="",$C25="",$D25="",$E25="",$F25="",$G25="",$H25=""),"Eingaben prüfen",IF($H25="Erledigt",IF($I25="","Ist-Datum prüfen","Abgeschlossen"),IF($I25<>"","Status/Ist prüfen",IF($H25="Abgesagt","Nicht einplanen",IF($F25<Parameter!$B$5,"Überfällig",IF($F25<=Parameter!$B$5+Parameter!$B$6,"Bald fällig","Im Plan"))))))) | K25: =IF(OR($A25="",$F25="",$H25="",$H25="Erledigt",$H25="Abgesagt"),"",$F25-Parameter!$B$5)
J26: =IF($A26="","",IF(OR($B26="",$C26="",$D26="",$E26="",$F26="",$G26="",$H26=""),"Eingaben prüfen",IF($H26="Erledigt",IF($I26="","Ist-Datum prüfen","Abgeschlossen"),IF($I26<>"","Status/Ist prüfen",IF($H26="Abgesagt","Nicht einplanen",IF($F26<Parameter!$B$5,"Überfällig",IF($F26<=Parameter!$B$5+Parameter!$B$6,"Bald fällig","Im Plan"))))))) | K26: =IF(OR($A26="",$F26="",$H26="",$H26="Erledigt",$H26="Abgesagt"),"",$F26-Parameter!$B$5)
... J104: =IF($A104="","",IF(OR($B104="",$C104="",$D104="",$E104="",$F104="",$G104="",$H104=""),"Eingaben prüfen",IF($H104="Erledigt",IF($I104="","Ist-Datum prüfen","Abgeschlossen"),IF($I104<>"","Status/Ist prüfen",IF($H104="Abgesagt","Nicht einplanen",IF($F104<Parameter!$B$5,"Überfällig",IF($F104<=Parameter!$B$5+Parameter!$B$6,"Bald fällig","Im Plan"))))))) | K104: =IF(OR($A104="",$F104="",$H104="",$H104="Erledigt",$H104="Abgesagt"),"",$F104-Parameter!$B$5)

Sheet Parameter
A1: Parameter und stabile Statuswerte
A3: Parameter | B3: Wert | C3: Einheit | D3: Hinweis
A4: Planjahr | B4: 2026 | C4: Jahr | D4: Bestimmt den Zeitraum der Übersicht.
A5: Stichtag | B5: 46275 | C5: Datum | D5: Manuell änderbarer Auswertungsstand.
A6: Vorschaufenster | B6: 30 | C6: Tage | D6: Zeitraum für bald fällige Besuche.
A7: Monatsrichtwert | B7: 2 | C7: Besuche | D7: Interne Planungshilfe, keine Kapazitätszusage.
A10: Statuswert | B10: Betriebliche Bedeutung
A11: Geplant | B11: Termin ist vorgemerkt.
A12: Offen | B12: Termin ist noch nicht abgeschlossen.
A13: Erledigt | B13: Besuch wurde durchgeführt; Ist-Datum eintragen.
A14: Abgesagt | B14: Termin wird nicht weiter eingeplant.
A16: Hinweis | B16: Grenzwerte und Status werden intern gepflegt. Die Mappe löst keine externe Terminübermittlung oder automatische Benachrichtigung aus.
