Workbook

Sheet Übersicht
A1: Übersicht Kundenzufriedenheit
A2: Kennzahlen aus den erfassten Bewertungen für den im Blatt Parameter gewählten Zeitraum.
A3: Kennzahl | B3: Wert
A4: Auswertungszeitraum | B4: =IF(OR('Parameter'!$B$4="",'Parameter'!$B$5=""),"",TEXT('Parameter'!$B$4,"dd.mm.yyyy")&" bis "&TEXT('Parameter'!$B$5,"dd.mm.yyyy"))
A5: Bewertungen mit Wert | B5: =COUNTIFS('Bewertungen'!$B$4:$B$103,">="&'Parameter'!$B$4,'Bewertungen'!$B$4:$B$103,"<="&'Parameter'!$B$5,'Bewertungen'!$H$4:$H$103,">=1")
A6: Durchschnitt ungewichtet | B6: =IFERROR(AVERAGEIFS('Bewertungen'!$H$4:$H$103,'Bewertungen'!$B$4:$B$103,">="&'Parameter'!$B$4,'Bewertungen'!$B$4:$B$103,"<="&'Parameter'!$B$5,'Bewertungen'!$H$4:$H$103,">=1"),"")
A7: Durchschnitt gewichtet | B7: =IFERROR(SUMIFS('Bewertungen'!$J$4:$J$103,'Bewertungen'!$B$4:$B$103,">="&'Parameter'!$B$4,'Bewertungen'!$B$4:$B$103,"<="&'Parameter'!$B$5,'Bewertungen'!$H$4:$H$103,">=1")/SUMIFS('Bewertungen'!$I$4:$I$103,'Bewertungen'!$B$4:$B$103,">="&'Parameter'!$B$4,'Bewertungen'!$B$4:$B$103,"<="&'Parameter'!$B$5,'Bewertungen'!$H$4:$H$103,">=1"),"")
A8: Bewertungen unter Prüfgrenze | B8: =COUNTIFS('Bewertungen'!$B$4:$B$103,">="&'Parameter'!$B$4,'Bewertungen'!$B$4:$B$103,"<="&'Parameter'!$B$5,'Bewertungen'!$H$4:$H$103,">=1",'Bewertungen'!$H$4:$H$103,"<"&'Parameter'!$B$6)
A9: Offene Prüffälle | B9: =COUNTIFS('Bewertungen'!$B$4:$B$103,">="&'Parameter'!$B$4,'Bewertungen'!$B$4:$B$103,"<="&'Parameter'!$B$5,'Bewertungen'!$H$4:$H$103,">=1",'Bewertungen'!$H$4:$H$103,"<"&'Parameter'!$B$6,'Bewertungen'!$K$4:$K$103,"<>Erledigt",'Bewertungen'!$K$4:$K$103,"<>Keine Maßnahme")
A10: Erledigte Prüffälle | B10: =COUNTIFS('Bewertungen'!$B$4:$B$103,">="&'Parameter'!$B$4,'Bewertungen'!$B$4:$B$103,"<="&'Parameter'!$B$5,'Bewertungen'!$H$4:$H$103,">=1",'Bewertungen'!$H$4:$H$103,"<"&'Parameter'!$B$6,'Bewertungen'!$K$4:$K$103,"Erledigt")
A11: Abschlussanteil aktiver Prüffälle | B11: =IFERROR($B$10/($B$9+$B$10),"")
A12: Abstand zum Zielwert | B12: =IF($B$7="","",$B$7-'Parameter'!$B$7)
A14: Objektvergleich im Auswertungszeitraum
A15: Objektkennung | B15: Fiktiver Kurzname | C15: Bewertungen | D15: Ø ungewichtet | E15: Ø gewichtet | F15: Unter Grenze | G15: Offene Prüffälle
A16: ='Parameter'!$H$4 | B16: ='Parameter'!$I$4 | C16: =IF($A16="","",COUNTIFS('Bewertungen'!$C$4:$C$103,$A16,'Bewertungen'!$B$4:$B$103,">="&'Parameter'!$B$4,'Bewertungen'!$B$4:$B$103,"<="&'Parameter'!$B$5,'Bewertungen'!$H$4:$H$103,">=1")) | D16: =IF($C16=0,"",IFERROR(AVERAGEIFS('Bewertungen'!$H$4:$H$103,'Bewertungen'!$C$4:$C$103,$A16,'Bewertungen'!$B$4:$B$103,">="&'Parameter'!$B$4,'Bewertungen'!$B$4:$B$103,"<="&'Parameter'!$B$5,'Bewertungen'!$H$4:$H$103,">=1"),"")) | E16: =IF($C16=0,"",IFERROR(SUMIFS('Bewertungen'!$J$4:$J$103,'Bewertungen'!$C$4:$C$103,$A16,'Bewertungen'!$B$4:$B$103,">="&'Parameter'!$B$4,'Bewertungen'!$B$4:$B$103,"<="&'Parameter'!$B$5,'Bewertungen'!$H$4:$H$103,">=1")/SUMIFS('Bewertungen'!$I$4:$I$103,'Bewertungen'!$C$4:$C$103,$A16,'Bewertungen'!$B$4:$B$103,">="&'Parameter'!$B$4,'Bewertungen'!$B$4:$B$103,"<="&'Parameter'!$B$5,'Bewertungen'!$H$4:$H$103,">=1"),"")) | F16: =IF($C16=0,"",COUNTIFS('Bewertungen'!$C$4:$C$103,$A16,'Bewertungen'!$B$4:$B$103,">="&'Parameter'!$B$4,'Bewertungen'!$B$4:$B$103,"<="&'Parameter'!$B$5,'Bewertungen'!$H$4:$H$103,">=1",'Bewertungen'!$H$4:$H$103,"<"&'Parameter'!$B$6)) | G16: =IF($C16=0,"",COUNTIFS('Bewertungen'!$C$4:$C$103,$A16,'Bewertungen'!$B$4:$B$103,">="&'Parameter'!$B$4,'Bewertungen'!$B$4:$B$103,"<="&'Parameter'!$B$5,'Bewertungen'!$H$4:$H$103,">=1",'Bewertungen'!$H$4:$H$103,"<"&'Parameter'!$B$6,'Bewertungen'!$K$4:$K$103,"<>Erledigt",'Bewertungen'!$K$4:$K$103,"<>Keine Maßnahme"))
A17: ='Parameter'!$H$5 | B17: ='Parameter'!$I$5 | C17: =IF($A17="","",COUNTIFS('Bewertungen'!$C$4:$C$103,$A17,'Bewertungen'!$B$4:$B$103,">="&'Parameter'!$B$4,'Bewertungen'!$B$4:$B$103,"<="&'Parameter'!$B$5,'Bewertungen'!$H$4:$H$103,">=1")) | D17: =IF($C17=0,"",IFERROR(AVERAGEIFS('Bewertungen'!$H$4:$H$103,'Bewertungen'!$C$4:$C$103,$A17,'Bewertungen'!$B$4:$B$103,">="&'Parameter'!$B$4,'Bewertungen'!$B$4:$B$103,"<="&'Parameter'!$B$5,'Bewertungen'!$H$4:$H$103,">=1"),"")) | E17: =IF($C17=0,"",IFERROR(SUMIFS('Bewertungen'!$J$4:$J$103,'Bewertungen'!$C$4:$C$103,$A17,'Bewertungen'!$B$4:$B$103,">="&'Parameter'!$B$4,'Bewertungen'!$B$4:$B$103,"<="&'Parameter'!$B$5,'Bewertungen'!$H$4:$H$103,">=1")/SUMIFS('Bewertungen'!$I$4:$I$103,'Bewertungen'!$C$4:$C$103,$A17,'Bewertungen'!$B$4:$B$103,">="&'Parameter'!$B$4,'Bewertungen'!$B$4:$B$103,"<="&'Parameter'!$B$5,'Bewertungen'!$H$4:$H$103,">=1"),"")) | F17: =IF($C17=0,"",COUNTIFS('Bewertungen'!$C$4:$C$103,$A17,'Bewertungen'!$B$4:$B$103,">="&'Parameter'!$B$4,'Bewertungen'!$B$4:$B$103,"<="&'Parameter'!$B$5,'Bewertungen'!$H$4:$H$103,">=1",'Bewertungen'!$H$4:$H$103,"<"&'Parameter'!$B$6)) | G17: =IF($C17=0,"",COUNTIFS('Bewertungen'!$C$4:$C$103,$A17,'Bewertungen'!$B$4:$B$103,">="&'Parameter'!$B$4,'Bewertungen'!$B$4:$B$103,"<="&'Parameter'!$B$5,'Bewertungen'!$H$4:$H$103,">=1",'Bewertungen'!$H$4:$H$103,"<"&'Parameter'!$B$6,'Bewertungen'!$K$4:$K$103,"<>Erledigt",'Bewertungen'!$K$4:$K$103,"<>Keine Maßnahme"))
A18: ='Parameter'!$H$6 | B18: ='Parameter'!$I$6 | C18: =IF($A18="","",COUNTIFS('Bewertungen'!$C$4:$C$103,$A18,'Bewertungen'!$B$4:$B$103,">="&'Parameter'!$B$4,'Bewertungen'!$B$4:$B$103,"<="&'Parameter'!$B$5,'Bewertungen'!$H$4:$H$103,">=1")) | D18: =IF($C18=0,"",IFERROR(AVERAGEIFS('Bewertungen'!$H$4:$H$103,'Bewertungen'!$C$4:$C$103,$A18,'Bewertungen'!$B$4:$B$103,">="&'Parameter'!$B$4,'Bewertungen'!$B$4:$B$103,"<="&'Parameter'!$B$5,'Bewertungen'!$H$4:$H$103,">=1"),"")) | E18: =IF($C18=0,"",IFERROR(SUMIFS('Bewertungen'!$J$4:$J$103,'Bewertungen'!$C$4:$C$103,$A18,'Bewertungen'!$B$4:$B$103,">="&'Parameter'!$B$4,'Bewertungen'!$B$4:$B$103,"<="&'Parameter'!$B$5,'Bewertungen'!$H$4:$H$103,">=1")/SUMIFS('Bewertungen'!$I$4:$I$103,'Bewertungen'!$C$4:$C$103,$A18,'Bewertungen'!$B$4:$B$103,">="&'Parameter'!$B$4,'Bewertungen'!$B$4:$B$103,"<="&'Parameter'!$B$5,'Bewertungen'!$H$4:$H$103,">=1"),"")) | F18: =IF($C18=0,"",COUNTIFS('Bewertungen'!$C$4:$C$103,$A18,'Bewertungen'!$B$4:$B$103,">="&'Parameter'!$B$4,'Bewertungen'!$B$4:$B$103,"<="&'Parameter'!$B$5,'Bewertungen'!$H$4:$H$103,">=1",'Bewertungen'!$H$4:$H$103,"<"&'Parameter'!$B$6)) | G18: =IF($C18=0,"",COUNTIFS('Bewertungen'!$C$4:$C$103,$A18,'Bewertungen'!$B$4:$B$103,">="&'Parameter'!$B$4,'Bewertungen'!$B$4:$B$103,"<="&'Parameter'!$B$5,'Bewertungen'!$H$4:$H$103,">=1",'Bewertungen'!$H$4:$H$103,"<"&'Parameter'!$B$6,'Bewertungen'!$K$4:$K$103,"<>Erledigt",'Bewertungen'!$K$4:$K$103,"<>Keine Maßnahme"))
A19: ='Parameter'!$H$7 | B19: ='Parameter'!$I$7 | C19: =IF($A19="","",COUNTIFS('Bewertungen'!$C$4:$C$103,$A19,'Bewertungen'!$B$4:$B$103,">="&'Parameter'!$B$4,'Bewertungen'!$B$4:$B$103,"<="&'Parameter'!$B$5,'Bewertungen'!$H$4:$H$103,">=1")) | D19: =IF($C19=0,"",IFERROR(AVERAGEIFS('Bewertungen'!$H$4:$H$103,'Bewertungen'!$C$4:$C$103,$A19,'Bewertungen'!$B$4:$B$103,">="&'Parameter'!$B$4,'Bewertungen'!$B$4:$B$103,"<="&'Parameter'!$B$5,'Bewertungen'!$H$4:$H$103,">=1"),"")) | E19: =IF($C19=0,"",IFERROR(SUMIFS('Bewertungen'!$J$4:$J$103,'Bewertungen'!$C$4:$C$103,$A19,'Bewertungen'!$B$4:$B$103,">="&'Parameter'!$B$4,'Bewertungen'!$B$4:$B$103,"<="&'Parameter'!$B$5,'Bewertungen'!$H$4:$H$103,">=1")/SUMIFS('Bewertungen'!$I$4:$I$103,'Bewertungen'!$C$4:$C$103,$A19,'Bewertungen'!$B$4:$B$103,">="&'Parameter'!$B$4,'Bewertungen'!$B$4:$B$103,"<="&'Parameter'!$B$5,'Bewertungen'!$H$4:$H$103,">=1"),"")) | F19: =IF($C19=0,"",COUNTIFS('Bewertungen'!$C$4:$C$103,$A19,'Bewertungen'!$B$4:$B$103,">="&'Parameter'!$B$4,'Bewertungen'!$B$4:$B$103,"<="&'Parameter'!$B$5,'Bewertungen'!$H$4:$H$103,">=1",'Bewertungen'!$H$4:$H$103,"<"&'Parameter'!$B$6)) | G19: =IF($C19=0,"",COUNTIFS('Bewertungen'!$C$4:$C$103,$A19,'Bewertungen'!$B$4:$B$103,">="&'Parameter'!$B$4,'Bewertungen'!$B$4:$B$103,"<="&'Parameter'!$B$5,'Bewertungen'!$H$4:$H$103,">=1",'Bewertungen'!$H$4:$H$103,"<"&'Parameter'!$B$6,'Bewertungen'!$K$4:$K$103,"<>Erledigt",'Bewertungen'!$K$4:$K$103,"<>Keine Maßnahme"))

Sheet Bewertungen
A1: Kundenzufriedenheit Gebäudereinigung Excel
A2: Fiktive Beispieldaten | D2: Grün = editierbare Eingabe | H2: Formelhinweise fordern nur eine manuelle Prüfung an
A3: Bewertungs-ID | B3: Bewertungsdatum | C3: Objektkennung | D3: Reinigungsbereich | E3: Kriterium | F3: Intervall | G3: Zuständigkeit | H3: Bewertung 1–5 | I3: Gewicht | J3: Gewichtete Punkte | K3: Maßnahmenstatus | L3: Prüfhinweis | N3: Frühestes Datum | O3: Spätestes Datum
A4: BW-0001 | B4: 46268 | C4: FIK-101 | D4: Eingangsbereich | E4: Sauberkeit | F4: täglich | G4: Objektleitung Nord | H4: 4.5 | I4: =IF($A4="","",IFERROR(VLOOKUP($E4,'Parameter'!$E$4:$F$9,2,FALSE),"")) | J4: =IF(OR($A4="",$H4="",$I4=""),"",$H4*$I4) | K4: Keine Maßnahme | L4: =IF($A4="","",IF(OR($B4="",$C4="",$D4="",$E4="",$F4="",$G4="",$H4=""),"Eingabe prüfen",IF($I4="","Kriterium prüfen",IF(AND($H4<'Parameter'!$B$6,$K4<>"Erledigt",$K4<>"Keine Maßnahme"),"Manuell prüfen","Kein Hinweis")))) | N4: ='Parameter'!$B$8 | O4: ='Parameter'!$B$9
A5: BW-0002 | B5: 46261 | C5: FIK-101 | D5: Sanitärbereich | E5: Zuverlässigkeit | F5: täglich | G5: Objektleitung Nord | H5: 2.5 | I5: =IF($A5="","",IFERROR(VLOOKUP($E5,'Parameter'!$E$4:$F$9,2,FALSE),"")) | J5: =IF(OR($A5="",$H5="",$I5=""),"",$H5*$I5) | K5: In Prüfung | L5: =IF($A5="","",IF(OR($B5="",$C5="",$D5="",$E5="",$F5="",$G5="",$H5=""),"Eingabe prüfen",IF($I5="","Kriterium prüfen",IF(AND($H5<'Parameter'!$B$6,$K5<>"Erledigt",$K5<>"Keine Maßnahme"),"Manuell prüfen","Kein Hinweis"))))
A6: BW-0003 | B6: 46254 | C6: FIK-101 | D6: Büroräume | E6: Kommunikation | F6: wöchentlich | G6: Objektleitung Nord | H6: 3.5 | I6: =IF($A6="","",IFERROR(VLOOKUP($E6,'Parameter'!$E$4:$F$9,2,FALSE),"")) | J6: =IF(OR($A6="",$H6="",$I6=""),"",$H6*$I6) | K6: Keine Maßnahme | L6: =IF($A6="","",IF(OR($B6="",$C6="",$D6="",$E6="",$F6="",$G6="",$H6=""),"Eingabe prüfen",IF($I6="","Kriterium prüfen",IF(AND($H6<'Parameter'!$B$6,$K6<>"Erledigt",$K6<>"Keine Maßnahme"),"Manuell prüfen","Kein Hinweis"))))
A7: BW-0004 | B7: 46265 | C7: FIK-102 | D7: Unterrichtsräume | E7: Sauberkeit | F7: täglich | G7: Disposition Mitte | H7: 4 | I7: =IF($A7="","",IFERROR(VLOOKUP($E7,'Parameter'!$E$4:$F$9,2,FALSE),"")) | J7: =IF(OR($A7="",$H7="",$I7=""),"",$H7*$I7) | K7: Keine Maßnahme | L7: =IF($A7="","",IF(OR($B7="",$C7="",$D7="",$E7="",$F7="",$G7="",$H7=""),"Eingabe prüfen",IF($I7="","Kriterium prüfen",IF(AND($H7<'Parameter'!$B$6,$K7<>"Erledigt",$K7<>"Keine Maßnahme"),"Manuell prüfen","Kein Hinweis"))))
A8: BW-0005 | B8: 46248 | C8: FIK-102 | D8: Sanitärbereich | E8: Materialversorgung | F8: täglich | G8: Disposition Mitte | H8: 2 | I8: =IF($A8="","",IFERROR(VLOOKUP($E8,'Parameter'!$E$4:$F$9,2,FALSE),"")) | J8: =IF(OR($A8="",$H8="",$I8=""),"",$H8*$I8) | K8: Offen | L8: =IF($A8="","",IF(OR($B8="",$C8="",$D8="",$E8="",$F8="",$G8="",$H8=""),"Eingabe prüfen",IF($I8="","Kriterium prüfen",IF(AND($H8<'Parameter'!$B$6,$K8<>"Erledigt",$K8<>"Keine Maßnahme"),"Manuell prüfen","Kein Hinweis"))))
A9: BW-0006 | B9: 46240 | C9: FIK-102 | D9: Treppenhaus | E9: Auftreten | F9: wöchentlich | G9: Disposition Mitte | H9: 4.5 | I9: =IF($A9="","",IFERROR(VLOOKUP($E9,'Parameter'!$E$4:$F$9,2,FALSE),"")) | J9: =IF(OR($A9="",$H9="",$I9=""),"",$H9*$I9) | K9: Keine Maßnahme | L9: =IF($A9="","",IF(OR($B9="",$C9="",$D9="",$E9="",$F9="",$G9="",$H9=""),"Eingabe prüfen",IF($I9="","Kriterium prüfen",IF(AND($H9<'Parameter'!$B$6,$K9<>"Erledigt",$K9<>"Keine Maßnahme"),"Manuell prüfen","Kein Hinweis"))))
A10: BW-0007 | B10: 46270 | C10: FIK-103 | D10: Empfang | E10: Reaktionszeit | F10: täglich | G10: Objektleitung Süd | H10: 3 | I10: =IF($A10="","",IFERROR(VLOOKUP($E10,'Parameter'!$E$4:$F$9,2,FALSE),"")) | J10: =IF(OR($A10="",$H10="",$I10=""),"",$H10*$I10) | K10: In Prüfung | L10: =IF($A10="","",IF(OR($B10="",$C10="",$D10="",$E10="",$F10="",$G10="",$H10=""),"Eingabe prüfen",IF($I10="","Kriterium prüfen",IF(AND($H10<'Parameter'!$B$6,$K10<>"Erledigt",$K10<>"Keine Maßnahme"),"Manuell prüfen","Kein Hinweis"))))
A11: BW-0008 | B11: 46257 | C11: FIK-103 | D11: Behandlungsräume | E11: Sauberkeit | F11: täglich | G11: Objektleitung Süd | H11: 4 | I11: =IF($A11="","",IFERROR(VLOOKUP($E11,'Parameter'!$E$4:$F$9,2,FALSE),"")) | J11: =IF(OR($A11="",$H11="",$I11=""),"",$H11*$I11) | K11: Erledigt | L11: =IF($A11="","",IF(OR($B11="",$C11="",$D11="",$E11="",$F11="",$G11="",$H11=""),"Eingabe prüfen",IF($I11="","Kriterium prüfen",IF(AND($H11<'Parameter'!$B$6,$K11<>"Erledigt",$K11<>"Keine Maßnahme"),"Manuell prüfen","Kein Hinweis"))))
A12: BW-0009 | B12: 46231 | C12: FIK-104 | D12: Lagergang | E12: Zuverlässigkeit | F12: 3× wöchentlich | G12: Disposition West | H12: 2.5 | I12: =IF($A12="","",IFERROR(VLOOKUP($E12,'Parameter'!$E$4:$F$9,2,FALSE),"")) | J12: =IF(OR($A12="",$H12="",$I12=""),"",$H12*$I12) | K12: Erledigt | L12: =IF($A12="","",IF(OR($B12="",$C12="",$D12="",$E12="",$F12="",$G12="",$H12=""),"Eingabe prüfen",IF($I12="","Kriterium prüfen",IF(AND($H12<'Parameter'!$B$6,$K12<>"Erledigt",$K12<>"Keine Maßnahme"),"Manuell prüfen","Kein Hinweis"))))
A13: BW-0010 | B13: 46215 | C13: FIK-104 | D13: Sozialräume | E13: Kommunikation | F13: wöchentlich | G13: Disposition West | H13: 3.5 | I13: =IF($A13="","",IFERROR(VLOOKUP($E13,'Parameter'!$E$4:$F$9,2,FALSE),"")) | J13: =IF(OR($A13="",$H13="",$I13=""),"",$H13*$I13) | K13: Keine Maßnahme | L13: =IF($A13="","",IF(OR($B13="",$C13="",$D13="",$E13="",$F13="",$G13="",$H13=""),"Eingabe prüfen",IF($I13="","Kriterium prüfen",IF(AND($H13<'Parameter'!$B$6,$K13<>"Erledigt",$K13<>"Keine Maßnahme"),"Manuell prüfen","Kein Hinweis"))))
I14: =IF($A14="","",IFERROR(VLOOKUP($E14,'Parameter'!$E$4:$F$9,2,FALSE),"")) | J14: =IF(OR($A14="",$H14="",$I14=""),"",$H14*$I14) | L14: =IF($A14="","",IF(OR($B14="",$C14="",$D14="",$E14="",$F14="",$G14="",$H14=""),"Eingabe prüfen",IF($I14="","Kriterium prüfen",IF(AND($H14<'Parameter'!$B$6,$K14<>"Erledigt",$K14<>"Keine Maßnahme"),"Manuell prüfen","Kein Hinweis"))))
I15: =IF($A15="","",IFERROR(VLOOKUP($E15,'Parameter'!$E$4:$F$9,2,FALSE),"")) | J15: =IF(OR($A15="",$H15="",$I15=""),"",$H15*$I15) | L15: =IF($A15="","",IF(OR($B15="",$C15="",$D15="",$E15="",$F15="",$G15="",$H15=""),"Eingabe prüfen",IF($I15="","Kriterium prüfen",IF(AND($H15<'Parameter'!$B$6,$K15<>"Erledigt",$K15<>"Keine Maßnahme"),"Manuell prüfen","Kein Hinweis"))))
I16: =IF($A16="","",IFERROR(VLOOKUP($E16,'Parameter'!$E$4:$F$9,2,FALSE),"")) | J16: =IF(OR($A16="",$H16="",$I16=""),"",$H16*$I16) | L16: =IF($A16="","",IF(OR($B16="",$C16="",$D16="",$E16="",$F16="",$G16="",$H16=""),"Eingabe prüfen",IF($I16="","Kriterium prüfen",IF(AND($H16<'Parameter'!$B$6,$K16<>"Erledigt",$K16<>"Keine Maßnahme"),"Manuell prüfen","Kein Hinweis"))))
I17: =IF($A17="","",IFERROR(VLOOKUP($E17,'Parameter'!$E$4:$F$9,2,FALSE),"")) | J17: =IF(OR($A17="",$H17="",$I17=""),"",$H17*$I17) | L17: =IF($A17="","",IF(OR($B17="",$C17="",$D17="",$E17="",$F17="",$G17="",$H17=""),"Eingabe prüfen",IF($I17="","Kriterium prüfen",IF(AND($H17<'Parameter'!$B$6,$K17<>"Erledigt",$K17<>"Keine Maßnahme"),"Manuell prüfen","Kein Hinweis"))))
I18: =IF($A18="","",IFERROR(VLOOKUP($E18,'Parameter'!$E$4:$F$9,2,FALSE),"")) | J18: =IF(OR($A18="",$H18="",$I18=""),"",$H18*$I18) | L18: =IF($A18="","",IF(OR($B18="",$C18="",$D18="",$E18="",$F18="",$G18="",$H18=""),"Eingabe prüfen",IF($I18="","Kriterium prüfen",IF(AND($H18<'Parameter'!$B$6,$K18<>"Erledigt",$K18<>"Keine Maßnahme"),"Manuell prüfen","Kein Hinweis"))))
I19: =IF($A19="","",IFERROR(VLOOKUP($E19,'Parameter'!$E$4:$F$9,2,FALSE),"")) | J19: =IF(OR($A19="",$H19="",$I19=""),"",$H19*$I19) | L19: =IF($A19="","",IF(OR($B19="",$C19="",$D19="",$E19="",$F19="",$G19="",$H19=""),"Eingabe prüfen",IF($I19="","Kriterium prüfen",IF(AND($H19<'Parameter'!$B$6,$K19<>"Erledigt",$K19<>"Keine Maßnahme"),"Manuell prüfen","Kein Hinweis"))))
I20: =IF($A20="","",IFERROR(VLOOKUP($E20,'Parameter'!$E$4:$F$9,2,FALSE),"")) | J20: =IF(OR($A20="",$H20="",$I20=""),"",$H20*$I20) | L20: =IF($A20="","",IF(OR($B20="",$C20="",$D20="",$E20="",$F20="",$G20="",$H20=""),"Eingabe prüfen",IF($I20="","Kriterium prüfen",IF(AND($H20<'Parameter'!$B$6,$K20<>"Erledigt",$K20<>"Keine Maßnahme"),"Manuell prüfen","Kein Hinweis"))))
I21: =IF($A21="","",IFERROR(VLOOKUP($E21,'Parameter'!$E$4:$F$9,2,FALSE),"")) | J21: =IF(OR($A21="",$H21="",$I21=""),"",$H21*$I21) | L21: =IF($A21="","",IF(OR($B21="",$C21="",$D21="",$E21="",$F21="",$G21="",$H21=""),"Eingabe prüfen",IF($I21="","Kriterium prüfen",IF(AND($H21<'Parameter'!$B$6,$K21<>"Erledigt",$K21<>"Keine Maßnahme"),"Manuell prüfen","Kein Hinweis"))))
I22: =IF($A22="","",IFERROR(VLOOKUP($E22,'Parameter'!$E$4:$F$9,2,FALSE),"")) | J22: =IF(OR($A22="",$H22="",$I22=""),"",$H22*$I22) | L22: =IF($A22="","",IF(OR($B22="",$C22="",$D22="",$E22="",$F22="",$G22="",$H22=""),"Eingabe prüfen",IF($I22="","Kriterium prüfen",IF(AND($H22<'Parameter'!$B$6,$K22<>"Erledigt",$K22<>"Keine Maßnahme"),"Manuell prüfen","Kein Hinweis"))))
I23: =IF($A23="","",IFERROR(VLOOKUP($E23,'Parameter'!$E$4:$F$9,2,FALSE),"")) | J23: =IF(OR($A23="",$H23="",$I23=""),"",$H23*$I23) | L23: =IF($A23="","",IF(OR($B23="",$C23="",$D23="",$E23="",$F23="",$G23="",$H23=""),"Eingabe prüfen",IF($I23="","Kriterium prüfen",IF(AND($H23<'Parameter'!$B$6,$K23<>"Erledigt",$K23<>"Keine Maßnahme"),"Manuell prüfen","Kein Hinweis"))))
I24: =IF($A24="","",IFERROR(VLOOKUP($E24,'Parameter'!$E$4:$F$9,2,FALSE),"")) | J24: =IF(OR($A24="",$H24="",$I24=""),"",$H24*$I24) | L24: =IF($A24="","",IF(OR($B24="",$C24="",$D24="",$E24="",$F24="",$G24="",$H24=""),"Eingabe prüfen",IF($I24="","Kriterium prüfen",IF(AND($H24<'Parameter'!$B$6,$K24<>"Erledigt",$K24<>"Keine Maßnahme"),"Manuell prüfen","Kein Hinweis"))))
I25: =IF($A25="","",IFERROR(VLOOKUP($E25,'Parameter'!$E$4:$F$9,2,FALSE),"")) | J25: =IF(OR($A25="",$H25="",$I25=""),"",$H25*$I25) | L25: =IF($A25="","",IF(OR($B25="",$C25="",$D25="",$E25="",$F25="",$G25="",$H25=""),"Eingabe prüfen",IF($I25="","Kriterium prüfen",IF(AND($H25<'Parameter'!$B$6,$K25<>"Erledigt",$K25<>"Keine Maßnahme"),"Manuell prüfen","Kein Hinweis"))))
... I103: =IF($A103="","",IFERROR(VLOOKUP($E103,'Parameter'!$E$4:$F$9,2,FALSE),"")) | J103: =IF(OR($A103="",$H103="",$I103=""),"",$H103*$I103) | L103: =IF($A103="","",IF(OR($B103="",$C103="",$D103="",$E103="",$F103="",$G103="",$H103=""),"Eingabe prüfen",IF($I103="","Kriterium prüfen",IF(AND($H103<'Parameter'!$B$6,$K103<>"Erledigt",$K103<>"Keine Maßnahme"),"Manuell prüfen","Kein Hinweis"))))

Sheet Parameter
A1: Parameter und sichtbare Annahmen
A2: Alle Werte und Objekte sind fiktiv. Grün markierte Zellen sind änderbare betriebliche Eingaben; sie stellen keine rechtliche oder vertragliche Vorgabe dar.
A3: Annahme | B3: Wert | D3: Stabile Statuswerte | E3: Kriterium | F3: Gewichtungsfaktor | H3: Objektkennung | I3: Fiktiver Kurzname
A4: Auswertungsbeginn | B4: 46186 | D4: Offen | E4: Sauberkeit | F4: 1.3 | H4: FIK-101 | I4: Fiktivobjekt Nordbogen
A5: Auswertungsende | B5: 46275 | D5: In Prüfung | E5: Zuverlässigkeit | F5: 1.2 | H5: FIK-102 | I5: Fiktivobjekt Grünquell
A6: Prüfgrenze Bewertung | B6: 3 | D6: Erledigt | E6: Kommunikation | F6: 1 | H6: FIK-103 | I6: Fiktivobjekt Südlicht
A7: Zielwert Bewertung | B7: 4.2 | D7: Keine Maßnahme | E7: Auftreten | F7: 0.8 | H7: FIK-104 | I7: Fiktivobjekt Westtor
A8: Frühestes Eingabedatum | B8: 44450 | E8: Materialversorgung | F8: 0.9
A9: Spätestes Eingabedatum | B9: 46275 | E9: Reaktionszeit | F9: 1.1
