Workbook

Sheet Übersicht
A1: Materialkosten pro Reinigungsobjekt
A2: Auswertung der fiktiven Eingaben. Beträge und Prüfhinweise werden aus Verbrauch und den sichtbaren Parametern berechnet.
A3: Kennzahl | B3: Wert
A4: Erfasste Vorgänge | B4: =IF(COUNTIF('Verbrauch'!$A$5:$A$104,"<>")=0,"",COUNTIF('Verbrauch'!$A$5:$A$104,"<>"))
A5: Materialkosten gesamt | B5: =IF($B$4="","",SUM('Verbrauch'!$J$5:$J$104))
A6: Davon Status „Gebucht“ | B6: =IF($B$4="","",SUMIF('Verbrauch'!$N$5:$N$104,"Gebucht",'Verbrauch'!$J$5:$J$104))
A7: Noch nicht gebuchter Betrag | B7: =IF($B$4="","",SUMIF('Verbrauch'!$N$5:$N$104,"Erfasst",'Verbrauch'!$J$5:$J$104)+SUMIF('Verbrauch'!$N$5:$N$104,"Geprüft",'Verbrauch'!$J$5:$J$104))
A8: Manuelle Prüfhinweise | B8: =IF($B$4="","",COUNTIF('Verbrauch'!$O$5:$O$104,"*prüfen"))
A9: Durchschnitt je Vorgang | B9: =IFERROR($B$5/$B$4,"")
A10: Höchster Einzelvorgang | B10: =IF($B$4="","",MAX('Verbrauch'!$J$5:$J$104))
A13: Objekt-ID | B13: Fiktives Reinigungsobjekt | C13: Materialkosten | D13: Anteil gesamt | E13: Offene Vorgänge | F13: Prüfhinweise
A14: =IF('Parameter'!$D$5="","",'Parameter'!$D$5) | B14: =IF($A14="","",'Parameter'!$E$5) | C14: =IF($A14="","",IF(COUNTIF('Verbrauch'!$C$5:$C$104,$A14)=0,"",SUMIF('Verbrauch'!$C$5:$C$104,$A14,'Verbrauch'!$J$5:$J$104))) | D14: =IF($C14="","",IFERROR($C14/$B$5,"")) | E14: =IF($A14="","",IF(COUNTIF('Verbrauch'!$C$5:$C$104,$A14)=0,"",COUNTIFS('Verbrauch'!$C$5:$C$104,$A14,'Verbrauch'!$N$5:$N$104,"<>Gebucht"))) | F14: =IF($A14="","",IF(COUNTIF('Verbrauch'!$C$5:$C$104,$A14)=0,"",COUNTIFS('Verbrauch'!$C$5:$C$104,$A14,'Verbrauch'!$O$5:$O$104,"*prüfen")))
A15: =IF('Parameter'!$D$6="","",'Parameter'!$D$6) | B15: =IF($A15="","",'Parameter'!$E$6) | C15: =IF($A15="","",IF(COUNTIF('Verbrauch'!$C$5:$C$104,$A15)=0,"",SUMIF('Verbrauch'!$C$5:$C$104,$A15,'Verbrauch'!$J$5:$J$104))) | D15: =IF($C15="","",IFERROR($C15/$B$5,"")) | E15: =IF($A15="","",IF(COUNTIF('Verbrauch'!$C$5:$C$104,$A15)=0,"",COUNTIFS('Verbrauch'!$C$5:$C$104,$A15,'Verbrauch'!$N$5:$N$104,"<>Gebucht"))) | F15: =IF($A15="","",IF(COUNTIF('Verbrauch'!$C$5:$C$104,$A15)=0,"",COUNTIFS('Verbrauch'!$C$5:$C$104,$A15,'Verbrauch'!$O$5:$O$104,"*prüfen")))
A16: =IF('Parameter'!$D$7="","",'Parameter'!$D$7) | B16: =IF($A16="","",'Parameter'!$E$7) | C16: =IF($A16="","",IF(COUNTIF('Verbrauch'!$C$5:$C$104,$A16)=0,"",SUMIF('Verbrauch'!$C$5:$C$104,$A16,'Verbrauch'!$J$5:$J$104))) | D16: =IF($C16="","",IFERROR($C16/$B$5,"")) | E16: =IF($A16="","",IF(COUNTIF('Verbrauch'!$C$5:$C$104,$A16)=0,"",COUNTIFS('Verbrauch'!$C$5:$C$104,$A16,'Verbrauch'!$N$5:$N$104,"<>Gebucht"))) | F16: =IF($A16="","",IF(COUNTIF('Verbrauch'!$C$5:$C$104,$A16)=0,"",COUNTIFS('Verbrauch'!$C$5:$C$104,$A16,'Verbrauch'!$O$5:$O$104,"*prüfen")))
A17: =IF('Parameter'!$D$8="","",'Parameter'!$D$8) | B17: =IF($A17="","",'Parameter'!$E$8) | C17: =IF($A17="","",IF(COUNTIF('Verbrauch'!$C$5:$C$104,$A17)=0,"",SUMIF('Verbrauch'!$C$5:$C$104,$A17,'Verbrauch'!$J$5:$J$104))) | D17: =IF($C17="","",IFERROR($C17/$B$5,"")) | E17: =IF($A17="","",IF(COUNTIF('Verbrauch'!$C$5:$C$104,$A17)=0,"",COUNTIFS('Verbrauch'!$C$5:$C$104,$A17,'Verbrauch'!$N$5:$N$104,"<>Gebucht"))) | F17: =IF($A17="","",IF(COUNTIF('Verbrauch'!$C$5:$C$104,$A17)=0,"",COUNTIFS('Verbrauch'!$C$5:$C$104,$A17,'Verbrauch'!$O$5:$O$104,"*prüfen")))
A18: =IF('Parameter'!$D$9="","",'Parameter'!$D$9) | B18: =IF($A18="","",'Parameter'!$E$9) | C18: =IF($A18="","",IF(COUNTIF('Verbrauch'!$C$5:$C$104,$A18)=0,"",SUMIF('Verbrauch'!$C$5:$C$104,$A18,'Verbrauch'!$J$5:$J$104))) | D18: =IF($C18="","",IFERROR($C18/$B$5,"")) | E18: =IF($A18="","",IF(COUNTIF('Verbrauch'!$C$5:$C$104,$A18)=0,"",COUNTIFS('Verbrauch'!$C$5:$C$104,$A18,'Verbrauch'!$N$5:$N$104,"<>Gebucht"))) | F18: =IF($A18="","",IF(COUNTIF('Verbrauch'!$C$5:$C$104,$A18)=0,"",COUNTIFS('Verbrauch'!$C$5:$C$104,$A18,'Verbrauch'!$O$5:$O$104,"*prüfen")))
A19: =IF('Parameter'!$D$10="","",'Parameter'!$D$10) | B19: =IF($A19="","",'Parameter'!$E$10) | C19: =IF($A19="","",IF(COUNTIF('Verbrauch'!$C$5:$C$104,$A19)=0,"",SUMIF('Verbrauch'!$C$5:$C$104,$A19,'Verbrauch'!$J$5:$J$104))) | D19: =IF($C19="","",IFERROR($C19/$B$5,"")) | E19: =IF($A19="","",IF(COUNTIF('Verbrauch'!$C$5:$C$104,$A19)=0,"",COUNTIFS('Verbrauch'!$C$5:$C$104,$A19,'Verbrauch'!$N$5:$N$104,"<>Gebucht"))) | F19: =IF($A19="","",IF(COUNTIF('Verbrauch'!$C$5:$C$104,$A19)=0,"",COUNTIFS('Verbrauch'!$C$5:$C$104,$A19,'Verbrauch'!$O$5:$O$104,"*prüfen")))
A20: =IF('Parameter'!$D$11="","",'Parameter'!$D$11) | B20: =IF($A20="","",'Parameter'!$E$11) | C20: =IF($A20="","",IF(COUNTIF('Verbrauch'!$C$5:$C$104,$A20)=0,"",SUMIF('Verbrauch'!$C$5:$C$104,$A20,'Verbrauch'!$J$5:$J$104))) | D20: =IF($C20="","",IFERROR($C20/$B$5,"")) | E20: =IF($A20="","",IF(COUNTIF('Verbrauch'!$C$5:$C$104,$A20)=0,"",COUNTIFS('Verbrauch'!$C$5:$C$104,$A20,'Verbrauch'!$N$5:$N$104,"<>Gebucht"))) | F20: =IF($A20="","",IF(COUNTIF('Verbrauch'!$C$5:$C$104,$A20)=0,"",COUNTIFS('Verbrauch'!$C$5:$C$104,$A20,'Verbrauch'!$O$5:$O$104,"*prüfen")))
A21: =IF('Parameter'!$D$12="","",'Parameter'!$D$12) | B21: =IF($A21="","",'Parameter'!$E$12) | C21: =IF($A21="","",IF(COUNTIF('Verbrauch'!$C$5:$C$104,$A21)=0,"",SUMIF('Verbrauch'!$C$5:$C$104,$A21,'Verbrauch'!$J$5:$J$104))) | D21: =IF($C21="","",IFERROR($C21/$B$5,"")) | E21: =IF($A21="","",IF(COUNTIF('Verbrauch'!$C$5:$C$104,$A21)=0,"",COUNTIFS('Verbrauch'!$C$5:$C$104,$A21,'Verbrauch'!$N$5:$N$104,"<>Gebucht"))) | F21: =IF($A21="","",IF(COUNTIF('Verbrauch'!$C$5:$C$104,$A21)=0,"",COUNTIFS('Verbrauch'!$C$5:$C$104,$A21,'Verbrauch'!$O$5:$O$104,"*prüfen")))
A22: =IF('Parameter'!$D$13="","",'Parameter'!$D$13) | B22: =IF($A22="","",'Parameter'!$E$13) | C22: =IF($A22="","",IF(COUNTIF('Verbrauch'!$C$5:$C$104,$A22)=0,"",SUMIF('Verbrauch'!$C$5:$C$104,$A22,'Verbrauch'!$J$5:$J$104))) | D22: =IF($C22="","",IFERROR($C22/$B$5,"")) | E22: =IF($A22="","",IF(COUNTIF('Verbrauch'!$C$5:$C$104,$A22)=0,"",COUNTIFS('Verbrauch'!$C$5:$C$104,$A22,'Verbrauch'!$N$5:$N$104,"<>Gebucht"))) | F22: =IF($A22="","",IF(COUNTIF('Verbrauch'!$C$5:$C$104,$A22)=0,"",COUNTIFS('Verbrauch'!$C$5:$C$104,$A22,'Verbrauch'!$O$5:$O$104,"*prüfen")))
A23: =IF('Parameter'!$D$14="","",'Parameter'!$D$14) | B23: =IF($A23="","",'Parameter'!$E$14) | C23: =IF($A23="","",IF(COUNTIF('Verbrauch'!$C$5:$C$104,$A23)=0,"",SUMIF('Verbrauch'!$C$5:$C$104,$A23,'Verbrauch'!$J$5:$J$104))) | D23: =IF($C23="","",IFERROR($C23/$B$5,"")) | E23: =IF($A23="","",IF(COUNTIF('Verbrauch'!$C$5:$C$104,$A23)=0,"",COUNTIFS('Verbrauch'!$C$5:$C$104,$A23,'Verbrauch'!$N$5:$N$104,"<>Gebucht"))) | F23: =IF($A23="","",IF(COUNTIF('Verbrauch'!$C$5:$C$104,$A23)=0,"",COUNTIFS('Verbrauch'!$C$5:$C$104,$A23,'Verbrauch'!$O$5:$O$104,"*prüfen")))
A24: =IF('Parameter'!$D$15="","",'Parameter'!$D$15) | B24: =IF($A24="","",'Parameter'!$E$15) | C24: =IF($A24="","",IF(COUNTIF('Verbrauch'!$C$5:$C$104,$A24)=0,"",SUMIF('Verbrauch'!$C$5:$C$104,$A24,'Verbrauch'!$J$5:$J$104))) | D24: =IF($C24="","",IFERROR($C24/$B$5,"")) | E24: =IF($A24="","",IF(COUNTIF('Verbrauch'!$C$5:$C$104,$A24)=0,"",COUNTIFS('Verbrauch'!$C$5:$C$104,$A24,'Verbrauch'!$N$5:$N$104,"<>Gebucht"))) | F24: =IF($A24="","",IF(COUNTIF('Verbrauch'!$C$5:$C$104,$A24)=0,"",COUNTIFS('Verbrauch'!$C$5:$C$104,$A24,'Verbrauch'!$O$5:$O$104,"*prüfen")))
A25: =IF('Parameter'!$D$16="","",'Parameter'!$D$16) | B25: =IF($A25="","",'Parameter'!$E$16) | C25: =IF($A25="","",IF(COUNTIF('Verbrauch'!$C$5:$C$104,$A25)=0,"",SUMIF('Verbrauch'!$C$5:$C$104,$A25,'Verbrauch'!$J$5:$J$104))) | D25: =IF($C25="","",IFERROR($C25/$B$5,"")) | E25: =IF($A25="","",IF(COUNTIF('Verbrauch'!$C$5:$C$104,$A25)=0,"",COUNTIFS('Verbrauch'!$C$5:$C$104,$A25,'Verbrauch'!$N$5:$N$104,"<>Gebucht"))) | F25: =IF($A25="","",IF(COUNTIF('Verbrauch'!$C$5:$C$104,$A25)=0,"",COUNTIFS('Verbrauch'!$C$5:$C$104,$A25,'Verbrauch'!$O$5:$O$104,"*prüfen")))
A26: =IF('Parameter'!$D$17="","",'Parameter'!$D$17) | B26: =IF($A26="","",'Parameter'!$E$17) | C26: =IF($A26="","",IF(COUNTIF('Verbrauch'!$C$5:$C$104,$A26)=0,"",SUMIF('Verbrauch'!$C$5:$C$104,$A26,'Verbrauch'!$J$5:$J$104))) | D26: =IF($C26="","",IFERROR($C26/$B$5,"")) | E26: =IF($A26="","",IF(COUNTIF('Verbrauch'!$C$5:$C$104,$A26)=0,"",COUNTIFS('Verbrauch'!$C$5:$C$104,$A26,'Verbrauch'!$N$5:$N$104,"<>Gebucht"))) | F26: =IF($A26="","",IF(COUNTIF('Verbrauch'!$C$5:$C$104,$A26)=0,"",COUNTIFS('Verbrauch'!$C$5:$C$104,$A26,'Verbrauch'!$O$5:$O$104,"*prüfen")))
A27: =IF('Parameter'!$D$18="","",'Parameter'!$D$18) | B27: =IF($A27="","",'Parameter'!$E$18) | C27: =IF($A27="","",IF(COUNTIF('Verbrauch'!$C$5:$C$104,$A27)=0,"",SUMIF('Verbrauch'!$C$5:$C$104,$A27,'Verbrauch'!$J$5:$J$104))) | D27: =IF($C27="","",IFERROR($C27/$B$5,"")) | E27: =IF($A27="","",IF(COUNTIF('Verbrauch'!$C$5:$C$104,$A27)=0,"",COUNTIFS('Verbrauch'!$C$5:$C$104,$A27,'Verbrauch'!$N$5:$N$104,"<>Gebucht"))) | F27: =IF($A27="","",IF(COUNTIF('Verbrauch'!$C$5:$C$104,$A27)=0,"",COUNTIFS('Verbrauch'!$C$5:$C$104,$A27,'Verbrauch'!$O$5:$O$104,"*prüfen")))
A28: =IF('Parameter'!$D$19="","",'Parameter'!$D$19) | B28: =IF($A28="","",'Parameter'!$E$19) | C28: =IF($A28="","",IF(COUNTIF('Verbrauch'!$C$5:$C$104,$A28)=0,"",SUMIF('Verbrauch'!$C$5:$C$104,$A28,'Verbrauch'!$J$5:$J$104))) | D28: =IF($C28="","",IFERROR($C28/$B$5,"")) | E28: =IF($A28="","",IF(COUNTIF('Verbrauch'!$C$5:$C$104,$A28)=0,"",COUNTIFS('Verbrauch'!$C$5:$C$104,$A28,'Verbrauch'!$N$5:$N$104,"<>Gebucht"))) | F28: =IF($A28="","",IF(COUNTIF('Verbrauch'!$C$5:$C$104,$A28)=0,"",COUNTIFS('Verbrauch'!$C$5:$C$104,$A28,'Verbrauch'!$O$5:$O$104,"*prüfen")))
A29: =IF('Parameter'!$D$20="","",'Parameter'!$D$20) | B29: =IF($A29="","",'Parameter'!$E$20) | C29: =IF($A29="","",IF(COUNTIF('Verbrauch'!$C$5:$C$104,$A29)=0,"",SUMIF('Verbrauch'!$C$5:$C$104,$A29,'Verbrauch'!$J$5:$J$104))) | D29: =IF($C29="","",IFERROR($C29/$B$5,"")) | E29: =IF($A29="","",IF(COUNTIF('Verbrauch'!$C$5:$C$104,$A29)=0,"",COUNTIFS('Verbrauch'!$C$5:$C$104,$A29,'Verbrauch'!$N$5:$N$104,"<>Gebucht"))) | F29: =IF($A29="","",IF(COUNTIF('Verbrauch'!$C$5:$C$104,$A29)=0,"",COUNTIFS('Verbrauch'!$C$5:$C$104,$A29,'Verbrauch'!$O$5:$O$104,"*prüfen")))
A30: =IF('Parameter'!$D$21="","",'Parameter'!$D$21) | B30: =IF($A30="","",'Parameter'!$E$21) | C30: =IF($A30="","",IF(COUNTIF('Verbrauch'!$C$5:$C$104,$A30)=0,"",SUMIF('Verbrauch'!$C$5:$C$104,$A30,'Verbrauch'!$J$5:$J$104))) | D30: =IF($C30="","",IFERROR($C30/$B$5,"")) | E30: =IF($A30="","",IF(COUNTIF('Verbrauch'!$C$5:$C$104,$A30)=0,"",COUNTIFS('Verbrauch'!$C$5:$C$104,$A30,'Verbrauch'!$N$5:$N$104,"<>Gebucht"))) | F30: =IF($A30="","",IF(COUNTIF('Verbrauch'!$C$5:$C$104,$A30)=0,"",COUNTIFS('Verbrauch'!$C$5:$C$104,$A30,'Verbrauch'!$O$5:$O$104,"*prüfen")))
A31: =IF('Parameter'!$D$22="","",'Parameter'!$D$22) | B31: =IF($A31="","",'Parameter'!$E$22) | C31: =IF($A31="","",IF(COUNTIF('Verbrauch'!$C$5:$C$104,$A31)=0,"",SUMIF('Verbrauch'!$C$5:$C$104,$A31,'Verbrauch'!$J$5:$J$104))) | D31: =IF($C31="","",IFERROR($C31/$B$5,"")) | E31: =IF($A31="","",IF(COUNTIF('Verbrauch'!$C$5:$C$104,$A31)=0,"",COUNTIFS('Verbrauch'!$C$5:$C$104,$A31,'Verbrauch'!$N$5:$N$104,"<>Gebucht"))) | F31: =IF($A31="","",IF(COUNTIF('Verbrauch'!$C$5:$C$104,$A31)=0,"",COUNTIFS('Verbrauch'!$C$5:$C$104,$A31,'Verbrauch'!$O$5:$O$104,"*prüfen")))
A32: =IF('Parameter'!$D$23="","",'Parameter'!$D$23) | B32: =IF($A32="","",'Parameter'!$E$23) | C32: =IF($A32="","",IF(COUNTIF('Verbrauch'!$C$5:$C$104,$A32)=0,"",SUMIF('Verbrauch'!$C$5:$C$104,$A32,'Verbrauch'!$J$5:$J$104))) | D32: =IF($C32="","",IFERROR($C32/$B$5,"")) | E32: =IF($A32="","",IF(COUNTIF('Verbrauch'!$C$5:$C$104,$A32)=0,"",COUNTIFS('Verbrauch'!$C$5:$C$104,$A32,'Verbrauch'!$N$5:$N$104,"<>Gebucht"))) | F32: =IF($A32="","",IF(COUNTIF('Verbrauch'!$C$5:$C$104,$A32)=0,"",COUNTIFS('Verbrauch'!$C$5:$C$104,$A32,'Verbrauch'!$O$5:$O$104,"*prüfen")))
A33: =IF('Parameter'!$D$24="","",'Parameter'!$D$24) | B33: =IF($A33="","",'Parameter'!$E$24) | C33: =IF($A33="","",IF(COUNTIF('Verbrauch'!$C$5:$C$104,$A33)=0,"",SUMIF('Verbrauch'!$C$5:$C$104,$A33,'Verbrauch'!$J$5:$J$104))) | D33: =IF($C33="","",IFERROR($C33/$B$5,"")) | E33: =IF($A33="","",IF(COUNTIF('Verbrauch'!$C$5:$C$104,$A33)=0,"",COUNTIFS('Verbrauch'!$C$5:$C$104,$A33,'Verbrauch'!$N$5:$N$104,"<>Gebucht"))) | F33: =IF($A33="","",IF(COUNTIF('Verbrauch'!$C$5:$C$104,$A33)=0,"",COUNTIFS('Verbrauch'!$C$5:$C$104,$A33,'Verbrauch'!$O$5:$O$104,"*prüfen")))
A34: =IF('Parameter'!$D$25="","",'Parameter'!$D$25) | B34: =IF($A34="","",'Parameter'!$E$25) | C34: =IF($A34="","",IF(COUNTIF('Verbrauch'!$C$5:$C$104,$A34)=0,"",SUMIF('Verbrauch'!$C$5:$C$104,$A34,'Verbrauch'!$J$5:$J$104))) | D34: =IF($C34="","",IFERROR($C34/$B$5,"")) | E34: =IF($A34="","",IF(COUNTIF('Verbrauch'!$C$5:$C$104,$A34)=0,"",COUNTIFS('Verbrauch'!$C$5:$C$104,$A34,'Verbrauch'!$N$5:$N$104,"<>Gebucht"))) | F34: =IF($A34="","",IF(COUNTIF('Verbrauch'!$C$5:$C$104,$A34)=0,"",COUNTIFS('Verbrauch'!$C$5:$C$104,$A34,'Verbrauch'!$O$5:$O$104,"*prüfen")))
A35: =IF('Parameter'!$D$26="","",'Parameter'!$D$26) | B35: =IF($A35="","",'Parameter'!$E$26) | C35: =IF($A35="","",IF(COUNTIF('Verbrauch'!$C$5:$C$104,$A35)=0,"",SUMIF('Verbrauch'!$C$5:$C$104,$A35,'Verbrauch'!$J$5:$J$104))) | D35: =IF($C35="","",IFERROR($C35/$B$5,"")) | E35: =IF($A35="","",IF(COUNTIF('Verbrauch'!$C$5:$C$104,$A35)=0,"",COUNTIFS('Verbrauch'!$C$5:$C$104,$A35,'Verbrauch'!$N$5:$N$104,"<>Gebucht"))) | F35: =IF($A35="","",IF(COUNTIF('Verbrauch'!$C$5:$C$104,$A35)=0,"",COUNTIFS('Verbrauch'!$C$5:$C$104,$A35,'Verbrauch'!$O$5:$O$104,"*prüfen")))
A36: =IF('Parameter'!$D$27="","",'Parameter'!$D$27) | B36: =IF($A36="","",'Parameter'!$E$27) | C36: =IF($A36="","",IF(COUNTIF('Verbrauch'!$C$5:$C$104,$A36)=0,"",SUMIF('Verbrauch'!$C$5:$C$104,$A36,'Verbrauch'!$J$5:$J$104))) | D36: =IF($C36="","",IFERROR($C36/$B$5,"")) | E36: =IF($A36="","",IF(COUNTIF('Verbrauch'!$C$5:$C$104,$A36)=0,"",COUNTIFS('Verbrauch'!$C$5:$C$104,$A36,'Verbrauch'!$N$5:$N$104,"<>Gebucht"))) | F36: =IF($A36="","",IF(COUNTIF('Verbrauch'!$C$5:$C$104,$A36)=0,"",COUNTIFS('Verbrauch'!$C$5:$C$104,$A36,'Verbrauch'!$O$5:$O$104,"*prüfen")))
A37: =IF('Parameter'!$D$28="","",'Parameter'!$D$28) | B37: =IF($A37="","",'Parameter'!$E$28) | C37: =IF($A37="","",IF(COUNTIF('Verbrauch'!$C$5:$C$104,$A37)=0,"",SUMIF('Verbrauch'!$C$5:$C$104,$A37,'Verbrauch'!$J$5:$J$104))) | D37: =IF($C37="","",IFERROR($C37/$B$5,"")) | E37: =IF($A37="","",IF(COUNTIF('Verbrauch'!$C$5:$C$104,$A37)=0,"",COUNTIFS('Verbrauch'!$C$5:$C$104,$A37,'Verbrauch'!$N$5:$N$104,"<>Gebucht"))) | F37: =IF($A37="","",IF(COUNTIF('Verbrauch'!$C$5:$C$104,$A37)=0,"",COUNTIFS('Verbrauch'!$C$5:$C$104,$A37,'Verbrauch'!$O$5:$O$104,"*prüfen")))
A38: =IF('Parameter'!$D$29="","",'Parameter'!$D$29) | B38: =IF($A38="","",'Parameter'!$E$29) | C38: =IF($A38="","",IF(COUNTIF('Verbrauch'!$C$5:$C$104,$A38)=0,"",SUMIF('Verbrauch'!$C$5:$C$104,$A38,'Verbrauch'!$J$5:$J$104))) | D38: =IF($C38="","",IFERROR($C38/$B$5,"")) | E38: =IF($A38="","",IF(COUNTIF('Verbrauch'!$C$5:$C$104,$A38)=0,"",COUNTIFS('Verbrauch'!$C$5:$C$104,$A38,'Verbrauch'!$N$5:$N$104,"<>Gebucht"))) | F38: =IF($A38="","",IF(COUNTIF('Verbrauch'!$C$5:$C$104,$A38)=0,"",COUNTIFS('Verbrauch'!$C$5:$C$104,$A38,'Verbrauch'!$O$5:$O$104,"*prüfen")))
A39: =IF('Parameter'!$D$30="","",'Parameter'!$D$30) | B39: =IF($A39="","",'Parameter'!$E$30) | C39: =IF($A39="","",IF(COUNTIF('Verbrauch'!$C$5:$C$104,$A39)=0,"",SUMIF('Verbrauch'!$C$5:$C$104,$A39,'Verbrauch'!$J$5:$J$104))) | D39: =IF($C39="","",IFERROR($C39/$B$5,"")) | E39: =IF($A39="","",IF(COUNTIF('Verbrauch'!$C$5:$C$104,$A39)=0,"",COUNTIFS('Verbrauch'!$C$5:$C$104,$A39,'Verbrauch'!$N$5:$N$104,"<>Gebucht"))) | F39: =IF($A39="","",IF(COUNTIF('Verbrauch'!$C$5:$C$104,$A39)=0,"",COUNTIFS('Verbrauch'!$C$5:$C$104,$A39,'Verbrauch'!$O$5:$O$104,"*prüfen")))
A40: =IF('Parameter'!$D$31="","",'Parameter'!$D$31) | B40: =IF($A40="","",'Parameter'!$E$31) | C40: =IF($A40="","",IF(COUNTIF('Verbrauch'!$C$5:$C$104,$A40)=0,"",SUMIF('Verbrauch'!$C$5:$C$104,$A40,'Verbrauch'!$J$5:$J$104))) | D40: =IF($C40="","",IFERROR($C40/$B$5,"")) | E40: =IF($A40="","",IF(COUNTIF('Verbrauch'!$C$5:$C$104,$A40)=0,"",COUNTIFS('Verbrauch'!$C$5:$C$104,$A40,'Verbrauch'!$N$5:$N$104,"<>Gebucht"))) | F40: =IF($A40="","",IF(COUNTIF('Verbrauch'!$C$5:$C$104,$A40)=0,"",COUNTIFS('Verbrauch'!$C$5:$C$104,$A40,'Verbrauch'!$O$5:$O$104,"*prüfen")))
A41: =IF('Parameter'!$D$32="","",'Parameter'!$D$32) | B41: =IF($A41="","",'Parameter'!$E$32) | C41: =IF($A41="","",IF(COUNTIF('Verbrauch'!$C$5:$C$104,$A41)=0,"",SUMIF('Verbrauch'!$C$5:$C$104,$A41,'Verbrauch'!$J$5:$J$104))) | D41: =IF($C41="","",IFERROR($C41/$B$5,"")) | E41: =IF($A41="","",IF(COUNTIF('Verbrauch'!$C$5:$C$104,$A41)=0,"",COUNTIFS('Verbrauch'!$C$5:$C$104,$A41,'Verbrauch'!$N$5:$N$104,"<>Gebucht"))) | F41: =IF($A41="","",IF(COUNTIF('Verbrauch'!$C$5:$C$104,$A41)=0,"",COUNTIFS('Verbrauch'!$C$5:$C$104,$A41,'Verbrauch'!$O$5:$O$104,"*prüfen")))
A42: =IF('Parameter'!$D$33="","",'Parameter'!$D$33) | B42: =IF($A42="","",'Parameter'!$E$33) | C42: =IF($A42="","",IF(COUNTIF('Verbrauch'!$C$5:$C$104,$A42)=0,"",SUMIF('Verbrauch'!$C$5:$C$104,$A42,'Verbrauch'!$J$5:$J$104))) | D42: =IF($C42="","",IFERROR($C42/$B$5,"")) | E42: =IF($A42="","",IF(COUNTIF('Verbrauch'!$C$5:$C$104,$A42)=0,"",COUNTIFS('Verbrauch'!$C$5:$C$104,$A42,'Verbrauch'!$N$5:$N$104,"<>Gebucht"))) | F42: =IF($A42="","",IF(COUNTIF('Verbrauch'!$C$5:$C$104,$A42)=0,"",COUNTIFS('Verbrauch'!$C$5:$C$104,$A42,'Verbrauch'!$O$5:$O$104,"*prüfen")))
...

Sheet Verbrauch
A1: Materialverbrauch je Reinigungsobjekt
A2: Grün = Eingabe. Objekt- und Material-IDs müssen im Blatt Parameter vorhanden sein. Prüfhinweise fordern ausschließlich eine manuelle Prüfung.
A4: Vorgangs-ID | B4: Datum | C4: Objekt-ID | D4: Material-ID | E4: Reinigungsbereich | F4: Intervall | G4: Menge | H4: Einheit | I4: Einzelpreis | J4: Materialkosten | K4: Objektfläche | L4: Zuständigkeit | M4: Kosten je 100 m² | N4: Status | O4: Prüfhinweis
A5: V-2026-001 | B5: 46239 | C5: O-101 | D5: M-201 | E5: Büroflächen | F5: täglich | G5: 12.5 | H5: =IF(OR($A5="",$D5=""),"",IFERROR(VLOOKUP($D5,'Parameter'!$I$5:$L$104,3,FALSE),"")) | I5: =IF(OR($A5="",$D5=""),"",IFERROR(VLOOKUP($D5,'Parameter'!$I$5:$L$104,4,FALSE),"")) | J5: =IF(OR($A5="",$G5="",$I5=""),"",IFERROR($G5*$I5,"")) | K5: =IF(OR($A5="",$C5=""),"",IFERROR(VLOOKUP($C5,'Parameter'!$D$5:$G$104,3,FALSE),"")) | L5: =IF(OR($A5="",$C5=""),"",IFERROR(VLOOKUP($C5,'Parameter'!$D$5:$G$104,4,FALSE),"")) | M5: =IF(OR($A5="",$J5="",$K5=""),"",IFERROR($J5/$K5*100,"")) | N5: Gebucht | O5: =IF($A5="","",IF(OR($C5="",$D5="",$G5="",$N5=""),"Eingaben prüfen",IF(OR($H5="",$I5="",$K5="",$L5=""),"Stammdaten prüfen",IF(OR($J5>'Parameter'!$B$10,$M5>'Parameter'!$B$11),"Manuell prüfen","Unauffällig"))))
A6: V-2026-002 | B6: 46243 | C6: O-101 | D6: M-204 | E6: Teeküchen | F6: wöchentlich | G6: 200 | H6: =IF(OR($A6="",$D6=""),"",IFERROR(VLOOKUP($D6,'Parameter'!$I$5:$L$104,3,FALSE),"")) | I6: =IF(OR($A6="",$D6=""),"",IFERROR(VLOOKUP($D6,'Parameter'!$I$5:$L$104,4,FALSE),"")) | J6: =IF(OR($A6="",$G6="",$I6=""),"",IFERROR($G6*$I6,"")) | K6: =IF(OR($A6="",$C6=""),"",IFERROR(VLOOKUP($C6,'Parameter'!$D$5:$G$104,3,FALSE),"")) | L6: =IF(OR($A6="",$C6=""),"",IFERROR(VLOOKUP($C6,'Parameter'!$D$5:$G$104,4,FALSE),"")) | M6: =IF(OR($A6="",$J6="",$K6=""),"",IFERROR($J6/$K6*100,"")) | N6: Gebucht | O6: =IF($A6="","",IF(OR($C6="",$D6="",$G6="",$N6=""),"Eingaben prüfen",IF(OR($H6="",$I6="",$K6="",$L6=""),"Stammdaten prüfen",IF(OR($J6>'Parameter'!$B$10,$M6>'Parameter'!$B$11),"Manuell prüfen","Unauffällig"))))
A7: V-2026-003 | B7: 46247 | C7: O-102 | D7: M-202 | E7: Sanitärbereich | F7: täglich | G7: 8 | H7: =IF(OR($A7="",$D7=""),"",IFERROR(VLOOKUP($D7,'Parameter'!$I$5:$L$104,3,FALSE),"")) | I7: =IF(OR($A7="",$D7=""),"",IFERROR(VLOOKUP($D7,'Parameter'!$I$5:$L$104,4,FALSE),"")) | J7: =IF(OR($A7="",$G7="",$I7=""),"",IFERROR($G7*$I7,"")) | K7: =IF(OR($A7="",$C7=""),"",IFERROR(VLOOKUP($C7,'Parameter'!$D$5:$G$104,3,FALSE),"")) | L7: =IF(OR($A7="",$C7=""),"",IFERROR(VLOOKUP($C7,'Parameter'!$D$5:$G$104,4,FALSE),"")) | M7: =IF(OR($A7="",$J7="",$K7=""),"",IFERROR($J7/$K7*100,"")) | N7: Geprüft | O7: =IF($A7="","",IF(OR($C7="",$D7="",$G7="",$N7=""),"Eingaben prüfen",IF(OR($H7="",$I7="",$K7="",$L7=""),"Stammdaten prüfen",IF(OR($J7>'Parameter'!$B$10,$M7>'Parameter'!$B$11),"Manuell prüfen","Unauffällig"))))
A8: V-2026-004 | B8: 46251 | C8: O-102 | D8: M-205 | E8: Büroflächen | F8: 2× wöchentlich | G8: 20 | H8: =IF(OR($A8="",$D8=""),"",IFERROR(VLOOKUP($D8,'Parameter'!$I$5:$L$104,3,FALSE),"")) | I8: =IF(OR($A8="",$D8=""),"",IFERROR(VLOOKUP($D8,'Parameter'!$I$5:$L$104,4,FALSE),"")) | J8: =IF(OR($A8="",$G8="",$I8=""),"",IFERROR($G8*$I8,"")) | K8: =IF(OR($A8="",$C8=""),"",IFERROR(VLOOKUP($C8,'Parameter'!$D$5:$G$104,3,FALSE),"")) | L8: =IF(OR($A8="",$C8=""),"",IFERROR(VLOOKUP($C8,'Parameter'!$D$5:$G$104,4,FALSE),"")) | M8: =IF(OR($A8="",$J8="",$K8=""),"",IFERROR($J8/$K8*100,"")) | N8: Gebucht | O8: =IF($A8="","",IF(OR($C8="",$D8="",$G8="",$N8=""),"Eingaben prüfen",IF(OR($H8="",$I8="",$K8="",$L8=""),"Stammdaten prüfen",IF(OR($J8>'Parameter'!$B$10,$M8>'Parameter'!$B$11),"Manuell prüfen","Unauffällig"))))
A9: V-2026-005 | B9: 46255 | C9: O-103 | D9: M-203 | E9: Glasflächen | F9: monatlich | G9: 10 | H9: =IF(OR($A9="",$D9=""),"",IFERROR(VLOOKUP($D9,'Parameter'!$I$5:$L$104,3,FALSE),"")) | I9: =IF(OR($A9="",$D9=""),"",IFERROR(VLOOKUP($D9,'Parameter'!$I$5:$L$104,4,FALSE),"")) | J9: =IF(OR($A9="",$G9="",$I9=""),"",IFERROR($G9*$I9,"")) | K9: =IF(OR($A9="",$C9=""),"",IFERROR(VLOOKUP($C9,'Parameter'!$D$5:$G$104,3,FALSE),"")) | L9: =IF(OR($A9="",$C9=""),"",IFERROR(VLOOKUP($C9,'Parameter'!$D$5:$G$104,4,FALSE),"")) | M9: =IF(OR($A9="",$J9="",$K9=""),"",IFERROR($J9/$K9*100,"")) | N9: Erfasst | O9: =IF($A9="","",IF(OR($C9="",$D9="",$G9="",$N9=""),"Eingaben prüfen",IF(OR($H9="",$I9="",$K9="",$L9=""),"Stammdaten prüfen",IF(OR($J9>'Parameter'!$B$10,$M9>'Parameter'!$B$11),"Manuell prüfen","Unauffällig"))))
A10: V-2026-006 | B10: 46259 | C10: O-103 | D10: M-201 | E10: Verkehrsflächen | F10: täglich | G10: 15 | H10: =IF(OR($A10="",$D10=""),"",IFERROR(VLOOKUP($D10,'Parameter'!$I$5:$L$104,3,FALSE),"")) | I10: =IF(OR($A10="",$D10=""),"",IFERROR(VLOOKUP($D10,'Parameter'!$I$5:$L$104,4,FALSE),"")) | J10: =IF(OR($A10="",$G10="",$I10=""),"",IFERROR($G10*$I10,"")) | K10: =IF(OR($A10="",$C10=""),"",IFERROR(VLOOKUP($C10,'Parameter'!$D$5:$G$104,3,FALSE),"")) | L10: =IF(OR($A10="",$C10=""),"",IFERROR(VLOOKUP($C10,'Parameter'!$D$5:$G$104,4,FALSE),"")) | M10: =IF(OR($A10="",$J10="",$K10=""),"",IFERROR($J10/$K10*100,"")) | N10: Gebucht | O10: =IF($A10="","",IF(OR($C10="",$D10="",$G10="",$N10=""),"Eingaben prüfen",IF(OR($H10="",$I10="",$K10="",$L10=""),"Stammdaten prüfen",IF(OR($J10>'Parameter'!$B$10,$M10>'Parameter'!$B$11),"Manuell prüfen","Unauffällig"))))
A11: V-2026-007 | B11: 46263 | C11: O-104 | D11: M-204 | E11: Abfallstationen | F11: täglich | G11: 350 | H11: =IF(OR($A11="",$D11=""),"",IFERROR(VLOOKUP($D11,'Parameter'!$I$5:$L$104,3,FALSE),"")) | I11: =IF(OR($A11="",$D11=""),"",IFERROR(VLOOKUP($D11,'Parameter'!$I$5:$L$104,4,FALSE),"")) | J11: =IF(OR($A11="",$G11="",$I11=""),"",IFERROR($G11*$I11,"")) | K11: =IF(OR($A11="",$C11=""),"",IFERROR(VLOOKUP($C11,'Parameter'!$D$5:$G$104,3,FALSE),"")) | L11: =IF(OR($A11="",$C11=""),"",IFERROR(VLOOKUP($C11,'Parameter'!$D$5:$G$104,4,FALSE),"")) | M11: =IF(OR($A11="",$J11="",$K11=""),"",IFERROR($J11/$K11*100,"")) | N11: Geprüft | O11: =IF($A11="","",IF(OR($C11="",$D11="",$G11="",$N11=""),"Eingaben prüfen",IF(OR($H11="",$I11="",$K11="",$L11=""),"Stammdaten prüfen",IF(OR($J11>'Parameter'!$B$10,$M11>'Parameter'!$B$11),"Manuell prüfen","Unauffällig"))))
A12: V-2026-008 | B12: 46266 | C12: O-104 | D12: M-202 | E12: Sanitärbereich | F12: täglich | G12: 11 | H12: =IF(OR($A12="",$D12=""),"",IFERROR(VLOOKUP($D12,'Parameter'!$I$5:$L$104,3,FALSE),"")) | I12: =IF(OR($A12="",$D12=""),"",IFERROR(VLOOKUP($D12,'Parameter'!$I$5:$L$104,4,FALSE),"")) | J12: =IF(OR($A12="",$G12="",$I12=""),"",IFERROR($G12*$I12,"")) | K12: =IF(OR($A12="",$C12=""),"",IFERROR(VLOOKUP($C12,'Parameter'!$D$5:$G$104,3,FALSE),"")) | L12: =IF(OR($A12="",$C12=""),"",IFERROR(VLOOKUP($C12,'Parameter'!$D$5:$G$104,4,FALSE),"")) | M12: =IF(OR($A12="",$J12="",$K12=""),"",IFERROR($J12/$K12*100,"")) | N12: Gebucht | O12: =IF($A12="","",IF(OR($C12="",$D12="",$G12="",$N12=""),"Eingaben prüfen",IF(OR($H12="",$I12="",$K12="",$L12=""),"Stammdaten prüfen",IF(OR($J12>'Parameter'!$B$10,$M12>'Parameter'!$B$11),"Manuell prüfen","Unauffällig"))))
A13: V-2026-009 | B13: 46269 | C13: O-105 | D13: M-206 | E13: Teeküchen | F13: wöchentlich | G13: 6 | H13: =IF(OR($A13="",$D13=""),"",IFERROR(VLOOKUP($D13,'Parameter'!$I$5:$L$104,3,FALSE),"")) | I13: =IF(OR($A13="",$D13=""),"",IFERROR(VLOOKUP($D13,'Parameter'!$I$5:$L$104,4,FALSE),"")) | J13: =IF(OR($A13="",$G13="",$I13=""),"",IFERROR($G13*$I13,"")) | K13: =IF(OR($A13="",$C13=""),"",IFERROR(VLOOKUP($C13,'Parameter'!$D$5:$G$104,3,FALSE),"")) | L13: =IF(OR($A13="",$C13=""),"",IFERROR(VLOOKUP($C13,'Parameter'!$D$5:$G$104,4,FALSE),"")) | M13: =IF(OR($A13="",$J13="",$K13=""),"",IFERROR($J13/$K13*100,"")) | N13: Erfasst | O13: =IF($A13="","",IF(OR($C13="",$D13="",$G13="",$N13=""),"Eingaben prüfen",IF(OR($H13="",$I13="",$K13="",$L13=""),"Stammdaten prüfen",IF(OR($J13>'Parameter'!$B$10,$M13>'Parameter'!$B$11),"Manuell prüfen","Unauffällig"))))
A14: V-2026-010 | B14: 46272 | C14: O-105 | D14: M-205 | E14: Büroflächen | F14: 2× wöchentlich | G14: 16 | H14: =IF(OR($A14="",$D14=""),"",IFERROR(VLOOKUP($D14,'Parameter'!$I$5:$L$104,3,FALSE),"")) | I14: =IF(OR($A14="",$D14=""),"",IFERROR(VLOOKUP($D14,'Parameter'!$I$5:$L$104,4,FALSE),"")) | J14: =IF(OR($A14="",$G14="",$I14=""),"",IFERROR($G14*$I14,"")) | K14: =IF(OR($A14="",$C14=""),"",IFERROR(VLOOKUP($C14,'Parameter'!$D$5:$G$104,3,FALSE),"")) | L14: =IF(OR($A14="",$C14=""),"",IFERROR(VLOOKUP($C14,'Parameter'!$D$5:$G$104,4,FALSE),"")) | M14: =IF(OR($A14="",$J14="",$K14=""),"",IFERROR($J14/$K14*100,"")) | N14: Gebucht | O14: =IF($A14="","",IF(OR($C14="",$D14="",$G14="",$N14=""),"Eingaben prüfen",IF(OR($H14="",$I14="",$K14="",$L14=""),"Stammdaten prüfen",IF(OR($J14>'Parameter'!$B$10,$M14>'Parameter'!$B$11),"Manuell prüfen","Unauffällig"))))
H15: =IF(OR($A15="",$D15=""),"",IFERROR(VLOOKUP($D15,'Parameter'!$I$5:$L$104,3,FALSE),"")) | I15: =IF(OR($A15="",$D15=""),"",IFERROR(VLOOKUP($D15,'Parameter'!$I$5:$L$104,4,FALSE),"")) | J15: =IF(OR($A15="",$G15="",$I15=""),"",IFERROR($G15*$I15,"")) | K15: =IF(OR($A15="",$C15=""),"",IFERROR(VLOOKUP($C15,'Parameter'!$D$5:$G$104,3,FALSE),"")) | L15: =IF(OR($A15="",$C15=""),"",IFERROR(VLOOKUP($C15,'Parameter'!$D$5:$G$104,4,FALSE),"")) | M15: =IF(OR($A15="",$J15="",$K15=""),"",IFERROR($J15/$K15*100,"")) | O15: =IF($A15="","",IF(OR($C15="",$D15="",$G15="",$N15=""),"Eingaben prüfen",IF(OR($H15="",$I15="",$K15="",$L15=""),"Stammdaten prüfen",IF(OR($J15>'Parameter'!$B$10,$M15>'Parameter'!$B$11),"Manuell prüfen","Unauffällig"))))
H16: =IF(OR($A16="",$D16=""),"",IFERROR(VLOOKUP($D16,'Parameter'!$I$5:$L$104,3,FALSE),"")) | I16: =IF(OR($A16="",$D16=""),"",IFERROR(VLOOKUP($D16,'Parameter'!$I$5:$L$104,4,FALSE),"")) | J16: =IF(OR($A16="",$G16="",$I16=""),"",IFERROR($G16*$I16,"")) | K16: =IF(OR($A16="",$C16=""),"",IFERROR(VLOOKUP($C16,'Parameter'!$D$5:$G$104,3,FALSE),"")) | L16: =IF(OR($A16="",$C16=""),"",IFERROR(VLOOKUP($C16,'Parameter'!$D$5:$G$104,4,FALSE),"")) | M16: =IF(OR($A16="",$J16="",$K16=""),"",IFERROR($J16/$K16*100,"")) | O16: =IF($A16="","",IF(OR($C16="",$D16="",$G16="",$N16=""),"Eingaben prüfen",IF(OR($H16="",$I16="",$K16="",$L16=""),"Stammdaten prüfen",IF(OR($J16>'Parameter'!$B$10,$M16>'Parameter'!$B$11),"Manuell prüfen","Unauffällig"))))
H17: =IF(OR($A17="",$D17=""),"",IFERROR(VLOOKUP($D17,'Parameter'!$I$5:$L$104,3,FALSE),"")) | I17: =IF(OR($A17="",$D17=""),"",IFERROR(VLOOKUP($D17,'Parameter'!$I$5:$L$104,4,FALSE),"")) | J17: =IF(OR($A17="",$G17="",$I17=""),"",IFERROR($G17*$I17,"")) | K17: =IF(OR($A17="",$C17=""),"",IFERROR(VLOOKUP($C17,'Parameter'!$D$5:$G$104,3,FALSE),"")) | L17: =IF(OR($A17="",$C17=""),"",IFERROR(VLOOKUP($C17,'Parameter'!$D$5:$G$104,4,FALSE),"")) | M17: =IF(OR($A17="",$J17="",$K17=""),"",IFERROR($J17/$K17*100,"")) | O17: =IF($A17="","",IF(OR($C17="",$D17="",$G17="",$N17=""),"Eingaben prüfen",IF(OR($H17="",$I17="",$K17="",$L17=""),"Stammdaten prüfen",IF(OR($J17>'Parameter'!$B$10,$M17>'Parameter'!$B$11),"Manuell prüfen","Unauffällig"))))
H18: =IF(OR($A18="",$D18=""),"",IFERROR(VLOOKUP($D18,'Parameter'!$I$5:$L$104,3,FALSE),"")) | I18: =IF(OR($A18="",$D18=""),"",IFERROR(VLOOKUP($D18,'Parameter'!$I$5:$L$104,4,FALSE),"")) | J18: =IF(OR($A18="",$G18="",$I18=""),"",IFERROR($G18*$I18,"")) | K18: =IF(OR($A18="",$C18=""),"",IFERROR(VLOOKUP($C18,'Parameter'!$D$5:$G$104,3,FALSE),"")) | L18: =IF(OR($A18="",$C18=""),"",IFERROR(VLOOKUP($C18,'Parameter'!$D$5:$G$104,4,FALSE),"")) | M18: =IF(OR($A18="",$J18="",$K18=""),"",IFERROR($J18/$K18*100,"")) | O18: =IF($A18="","",IF(OR($C18="",$D18="",$G18="",$N18=""),"Eingaben prüfen",IF(OR($H18="",$I18="",$K18="",$L18=""),"Stammdaten prüfen",IF(OR($J18>'Parameter'!$B$10,$M18>'Parameter'!$B$11),"Manuell prüfen","Unauffällig"))))
H19: =IF(OR($A19="",$D19=""),"",IFERROR(VLOOKUP($D19,'Parameter'!$I$5:$L$104,3,FALSE),"")) | I19: =IF(OR($A19="",$D19=""),"",IFERROR(VLOOKUP($D19,'Parameter'!$I$5:$L$104,4,FALSE),"")) | J19: =IF(OR($A19="",$G19="",$I19=""),"",IFERROR($G19*$I19,"")) | K19: =IF(OR($A19="",$C19=""),"",IFERROR(VLOOKUP($C19,'Parameter'!$D$5:$G$104,3,FALSE),"")) | L19: =IF(OR($A19="",$C19=""),"",IFERROR(VLOOKUP($C19,'Parameter'!$D$5:$G$104,4,FALSE),"")) | M19: =IF(OR($A19="",$J19="",$K19=""),"",IFERROR($J19/$K19*100,"")) | O19: =IF($A19="","",IF(OR($C19="",$D19="",$G19="",$N19=""),"Eingaben prüfen",IF(OR($H19="",$I19="",$K19="",$L19=""),"Stammdaten prüfen",IF(OR($J19>'Parameter'!$B$10,$M19>'Parameter'!$B$11),"Manuell prüfen","Unauffällig"))))
H20: =IF(OR($A20="",$D20=""),"",IFERROR(VLOOKUP($D20,'Parameter'!$I$5:$L$104,3,FALSE),"")) | I20: =IF(OR($A20="",$D20=""),"",IFERROR(VLOOKUP($D20,'Parameter'!$I$5:$L$104,4,FALSE),"")) | J20: =IF(OR($A20="",$G20="",$I20=""),"",IFERROR($G20*$I20,"")) | K20: =IF(OR($A20="",$C20=""),"",IFERROR(VLOOKUP($C20,'Parameter'!$D$5:$G$104,3,FALSE),"")) | L20: =IF(OR($A20="",$C20=""),"",IFERROR(VLOOKUP($C20,'Parameter'!$D$5:$G$104,4,FALSE),"")) | M20: =IF(OR($A20="",$J20="",$K20=""),"",IFERROR($J20/$K20*100,"")) | O20: =IF($A20="","",IF(OR($C20="",$D20="",$G20="",$N20=""),"Eingaben prüfen",IF(OR($H20="",$I20="",$K20="",$L20=""),"Stammdaten prüfen",IF(OR($J20>'Parameter'!$B$10,$M20>'Parameter'!$B$11),"Manuell prüfen","Unauffällig"))))
H21: =IF(OR($A21="",$D21=""),"",IFERROR(VLOOKUP($D21,'Parameter'!$I$5:$L$104,3,FALSE),"")) | I21: =IF(OR($A21="",$D21=""),"",IFERROR(VLOOKUP($D21,'Parameter'!$I$5:$L$104,4,FALSE),"")) | J21: =IF(OR($A21="",$G21="",$I21=""),"",IFERROR($G21*$I21,"")) | K21: =IF(OR($A21="",$C21=""),"",IFERROR(VLOOKUP($C21,'Parameter'!$D$5:$G$104,3,FALSE),"")) | L21: =IF(OR($A21="",$C21=""),"",IFERROR(VLOOKUP($C21,'Parameter'!$D$5:$G$104,4,FALSE),"")) | M21: =IF(OR($A21="",$J21="",$K21=""),"",IFERROR($J21/$K21*100,"")) | O21: =IF($A21="","",IF(OR($C21="",$D21="",$G21="",$N21=""),"Eingaben prüfen",IF(OR($H21="",$I21="",$K21="",$L21=""),"Stammdaten prüfen",IF(OR($J21>'Parameter'!$B$10,$M21>'Parameter'!$B$11),"Manuell prüfen","Unauffällig"))))
H22: =IF(OR($A22="",$D22=""),"",IFERROR(VLOOKUP($D22,'Parameter'!$I$5:$L$104,3,FALSE),"")) | I22: =IF(OR($A22="",$D22=""),"",IFERROR(VLOOKUP($D22,'Parameter'!$I$5:$L$104,4,FALSE),"")) | J22: =IF(OR($A22="",$G22="",$I22=""),"",IFERROR($G22*$I22,"")) | K22: =IF(OR($A22="",$C22=""),"",IFERROR(VLOOKUP($C22,'Parameter'!$D$5:$G$104,3,FALSE),"")) | L22: =IF(OR($A22="",$C22=""),"",IFERROR(VLOOKUP($C22,'Parameter'!$D$5:$G$104,4,FALSE),"")) | M22: =IF(OR($A22="",$J22="",$K22=""),"",IFERROR($J22/$K22*100,"")) | O22: =IF($A22="","",IF(OR($C22="",$D22="",$G22="",$N22=""),"Eingaben prüfen",IF(OR($H22="",$I22="",$K22="",$L22=""),"Stammdaten prüfen",IF(OR($J22>'Parameter'!$B$10,$M22>'Parameter'!$B$11),"Manuell prüfen","Unauffällig"))))
H23: =IF(OR($A23="",$D23=""),"",IFERROR(VLOOKUP($D23,'Parameter'!$I$5:$L$104,3,FALSE),"")) | I23: =IF(OR($A23="",$D23=""),"",IFERROR(VLOOKUP($D23,'Parameter'!$I$5:$L$104,4,FALSE),"")) | J23: =IF(OR($A23="",$G23="",$I23=""),"",IFERROR($G23*$I23,"")) | K23: =IF(OR($A23="",$C23=""),"",IFERROR(VLOOKUP($C23,'Parameter'!$D$5:$G$104,3,FALSE),"")) | L23: =IF(OR($A23="",$C23=""),"",IFERROR(VLOOKUP($C23,'Parameter'!$D$5:$G$104,4,FALSE),"")) | M23: =IF(OR($A23="",$J23="",$K23=""),"",IFERROR($J23/$K23*100,"")) | O23: =IF($A23="","",IF(OR($C23="",$D23="",$G23="",$N23=""),"Eingaben prüfen",IF(OR($H23="",$I23="",$K23="",$L23=""),"Stammdaten prüfen",IF(OR($J23>'Parameter'!$B$10,$M23>'Parameter'!$B$11),"Manuell prüfen","Unauffällig"))))
H24: =IF(OR($A24="",$D24=""),"",IFERROR(VLOOKUP($D24,'Parameter'!$I$5:$L$104,3,FALSE),"")) | I24: =IF(OR($A24="",$D24=""),"",IFERROR(VLOOKUP($D24,'Parameter'!$I$5:$L$104,4,FALSE),"")) | J24: =IF(OR($A24="",$G24="",$I24=""),"",IFERROR($G24*$I24,"")) | K24: =IF(OR($A24="",$C24=""),"",IFERROR(VLOOKUP($C24,'Parameter'!$D$5:$G$104,3,FALSE),"")) | L24: =IF(OR($A24="",$C24=""),"",IFERROR(VLOOKUP($C24,'Parameter'!$D$5:$G$104,4,FALSE),"")) | M24: =IF(OR($A24="",$J24="",$K24=""),"",IFERROR($J24/$K24*100,"")) | O24: =IF($A24="","",IF(OR($C24="",$D24="",$G24="",$N24=""),"Eingaben prüfen",IF(OR($H24="",$I24="",$K24="",$L24=""),"Stammdaten prüfen",IF(OR($J24>'Parameter'!$B$10,$M24>'Parameter'!$B$11),"Manuell prüfen","Unauffällig"))))
H25: =IF(OR($A25="",$D25=""),"",IFERROR(VLOOKUP($D25,'Parameter'!$I$5:$L$104,3,FALSE),"")) | I25: =IF(OR($A25="",$D25=""),"",IFERROR(VLOOKUP($D25,'Parameter'!$I$5:$L$104,4,FALSE),"")) | J25: =IF(OR($A25="",$G25="",$I25=""),"",IFERROR($G25*$I25,"")) | K25: =IF(OR($A25="",$C25=""),"",IFERROR(VLOOKUP($C25,'Parameter'!$D$5:$G$104,3,FALSE),"")) | L25: =IF(OR($A25="",$C25=""),"",IFERROR(VLOOKUP($C25,'Parameter'!$D$5:$G$104,4,FALSE),"")) | M25: =IF(OR($A25="",$J25="",$K25=""),"",IFERROR($J25/$K25*100,"")) | O25: =IF($A25="","",IF(OR($C25="",$D25="",$G25="",$N25=""),"Eingaben prüfen",IF(OR($H25="",$I25="",$K25="",$L25=""),"Stammdaten prüfen",IF(OR($J25>'Parameter'!$B$10,$M25>'Parameter'!$B$11),"Manuell prüfen","Unauffällig"))))
H26: =IF(OR($A26="",$D26=""),"",IFERROR(VLOOKUP($D26,'Parameter'!$I$5:$L$104,3,FALSE),"")) | I26: =IF(OR($A26="",$D26=""),"",IFERROR(VLOOKUP($D26,'Parameter'!$I$5:$L$104,4,FALSE),"")) | J26: =IF(OR($A26="",$G26="",$I26=""),"",IFERROR($G26*$I26,"")) | K26: =IF(OR($A26="",$C26=""),"",IFERROR(VLOOKUP($C26,'Parameter'!$D$5:$G$104,3,FALSE),"")) | L26: =IF(OR($A26="",$C26=""),"",IFERROR(VLOOKUP($C26,'Parameter'!$D$5:$G$104,4,FALSE),"")) | M26: =IF(OR($A26="",$J26="",$K26=""),"",IFERROR($J26/$K26*100,"")) | O26: =IF($A26="","",IF(OR($C26="",$D26="",$G26="",$N26=""),"Eingaben prüfen",IF(OR($H26="",$I26="",$K26="",$L26=""),"Stammdaten prüfen",IF(OR($J26>'Parameter'!$B$10,$M26>'Parameter'!$B$11),"Manuell prüfen","Unauffällig"))))
... H104: =IF(OR($A104="",$D104=""),"",IFERROR(VLOOKUP($D104,'Parameter'!$I$5:$L$104,3,FALSE),"")) | I104: =IF(OR($A104="",$D104=""),"",IFERROR(VLOOKUP($D104,'Parameter'!$I$5:$L$104,4,FALSE),"")) | J104: =IF(OR($A104="",$G104="",$I104=""),"",IFERROR($G104*$I104,"")) | K104: =IF(OR($A104="",$C104=""),"",IFERROR(VLOOKUP($C104,'Parameter'!$D$5:$G$104,3,FALSE),"")) | L104: =IF(OR($A104="",$C104=""),"",IFERROR(VLOOKUP($C104,'Parameter'!$D$5:$G$104,4,FALSE),"")) | M104: =IF(OR($A104="",$J104="",$K104=""),"",IFERROR($J104/$K104*100,"")) | O104: =IF($A104="","",IF(OR($C104="",$D104="",$G104="",$N104=""),"Eingaben prüfen",IF(OR($H104="",$I104="",$K104="",$L104=""),"Stammdaten prüfen",IF(OR($J104>'Parameter'!$B$10,$M104>'Parameter'!$B$11),"Manuell prüfen","Unauffällig"))))

Sheet Parameter
A1: Parameter und fiktive Stammdaten
A2: Grün = veränderbare Eingabe. Referenzwerte und Grenzwerte sind beispielhaft und können an den betrieblichen Prüfbedarf angepasst werden.
A4: Stabile Statuswerte | D4: Objekt-ID | E4: Fiktives Reinigungsobjekt | F4: Fläche | G4: Zuständigkeit | I4: Material-ID | J4: Material | K4: Einheit | L4: Einzelpreis
A5: Erfasst | D5: O-101 | E5: Musterobjekt Birkenhof | F5: 1800 | G5: Objektteam Nord | I5: M-201 | J5: Neutralreiniger | K5: l | L5: 3.8
A6: Geprüft | D6: O-102 | E6: Musterobjekt Kanalbogen | F6: 2600 | G6: Objektteam West | I6: M-202 | J6: Sanitärreiniger | K6: l | L6: 4.6
A7: Gebucht | D7: O-103 | E7: Musterobjekt Lindenquartier | F7: 1200 | G7: Objektteam Mitte | I7: M-203 | J7: Glasreiniger | K7: l | L7: 3.2
D8: O-104 | E8: Musterobjekt Parktor | F8: 3400 | G8: Objektteam Süd | I8: M-204 | J8: Müllbeutel 60 l | K8: Stück | L8: 0.18
A9: Prüfannahme | B9: Wert | D9: O-105 | E9: Musterobjekt Wiesenhof | F9: 950 | G9: Objektteam Ost | I9: M-205 | J9: Mikrofasertuch | K9: Stück | L9: 1.35
A10: Prüfgrenze je Vorgang | B10: 55 | I10: M-206 | J10: Handspülmittel | K10: l | L10: 2.9
A11: Prüfgrenze je 100 m² | B11: 4
