Workbook

Sheet Übersicht
A1: Materialkosten pro Reinigungsobjekt
A2: Auswertung der fiktiven Eingaben. Beträge und Prüfhinweise werden aus Verbrauch und den sichtbaren Parametern berechnet.
A3: Kennzahl | B3: Wert
A4: Erfasste Vorgänge | B4: =IF(COUNTIF('Verbrauch'!$A$5:$A$104,"<>")=0,"",COUNTIF('Verbrauch'!$A$5:$A$104,"<>"))
A5: Materialkosten gesamt | B5: =IF($B$4="","",SUM('Verbrauch'!$J$5:$J$104))
A6: Davon Status „Gebucht“ | B6: =IF($B$4="","",SUMIF('Verbrauch'!$N$5:$N$104,"Gebucht",'Verbrauch'!$J$5:$J$104))
A7: Noch nicht gebuchter Betrag | B7: =IF($B$4="","",SUMIF('Verbrauch'!$N$5:$N$104,"Erfasst",'Verbrauch'!$J$5:$J$104)+SUMIF('Verbrauch'!$N$5:$N$104,"Geprüft",'Verbrauch'!$J$5:$J$104))
A8: Manuelle Prüfhinweise | B8: =IF($B$4="","",COUNTIF('Verbrauch'!$O$5:$O$104,"*prüfen"))
A9: Durchschnitt je Vorgang | B9: =IFERROR($B$5/$B$4,"")
A10: Höchster Einzelvorgang | B10: =IF($B$4="","",MAX('Verbrauch'!$J$5:$J$104))
A13: Objekt-ID | B13: Fiktives Reinigungsobjekt | C13: Materialkosten | D13: Anteil gesamt | E13: Offene Vorgänge | F13: Prüfhinweise
A14: =IF('Parameter'!$D$5="","",'Parameter'!$D$5) | B14: =IF($A14="","",'Parameter'!$E$5) | C14: =IF($A14="","",IF(COUNTIF('Verbrauch'!$C$5:$C$104,$A14)=0,"",SUMIF('Verbrauch'!$C$5:$C$104,$A14,'Verbrauch'!$J$5:$J$104))) | D14: =IF($C14="","",IFERROR($C14/$B$5,"")) | E14: =IF($A14="","",IF(COUNTIF('Verbrauch'!$C$5:$C$104,$A14)=0,"",COUNTIFS('Verbrauch'!$C$5:$C$104,$A14,'Verbrauch'!$N$5:$N$104,"<>Gebucht"))) | F14: =IF($A14="","",IF(COUNTIF('Verbrauch'!$C$5:$C$104,$A14)=0,"",COUNTIFS('Verbrauch'!$C$5:$C$104,$A14,'Verbrauch'!$O$5:$O$104,"*prüfen")))
A15: =IF('Parameter'!$D$6="","",'Parameter'!$D$6) | B15: =IF($A15="","",'Parameter'!$E$6) | C15: =IF($A15="","",IF(COUNTIF('Verbrauch'!$C$5:$C$104,$A15)=0,"",SUMIF('Verbrauch'!$C$5:$C$104,$A15,'Verbrauch'!$J$5:$J$104))) | D15: =IF($C15="","",IFERROR($C15/$B$5,"")) | E15: =IF($A15="","",IF(COUNTIF('Verbrauch'!$C$5:$C$104,$A15)=0,"",COUNTIFS('Verbrauch'!$C$5:$C$104,$A15,'Verbrauch'!$N$5:$N$104,"<>Gebucht"))) | F15: =IF($A15="","",IF(COUNTIF('Verbrauch'!$C$5:$C$104,$A15)=0,"",COUNTIFS('Verbrauch'!$C$5:$C$104,$A15,'Verbrauch'!$O$5:$O$104,"*prüfen")))
A16: =IF('Parameter'!$D$7="","",'Parameter'!$D$7) | B16: =IF($A16="","",'Parameter'!$E$7) | C16: =IF($A16="","",IF(COUNTIF('Verbrauch'!$C$5:$C$104,$A16)=0,"",SUMIF('Verbrauch'!$C$5:$C$104,$A16,'Verbrauch'!$J$5:$J$104))) | D16: =IF($C16="","",IFERROR($C16/$B$5,"")) | E16: =IF($A16="","",IF(COUNTIF('Verbrauch'!$C$5:$C$104,$A16)=0,"",COUNTIFS('Verbrauch'!$C$5:$C$104,$A16,'Verbrauch'!$N$5:$N$104,"<>Gebucht"))) | F16: =IF($A16="","",IF(COUNTIF('Verbrauch'!$C$5:$C$104,$A16)=0,"",COUNTIFS('Verbrauch'!$C$5:$C$104,$A16,'Verbrauch'!$O$5:$O$104,"*prüfen")))
A17: =IF('Parameter'!$D$8="","",'Parameter'!$D$8) | B17: =IF($A17="","",'Parameter'!$E$8) | C17: =IF($A17="","",IF(COUNTIF('Verbrauch'!$C$5:$C$104,$A17)=0,"",SUMIF('Verbrauch'!$C$5:$C$104,$A17,'Verbrauch'!$J$5:$J$104))) | D17: =IF($C17="","",IFERROR($C17/$B$5,"")) | E17: =IF($A17="","",IF(COUNTIF('Verbrauch'!$C$5:$C$104,$A17)=0,"",COUNTIFS('Verbrauch'!$C$5:$C$104,$A17,'Verbrauch'!$N$5:$N$104,"<>Gebucht"))) | F17: =IF($A17="","",IF(COUNTIF('Verbrauch'!$C$5:$C$104,$A17)=0,"",COUNTIFS('Verbrauch'!$C$5:$C$104,$A17,'Verbrauch'!$O$5:$O$104,"*prüfen")))
A18: =IF('Parameter'!$D$9="","",'Parameter'!$D$9) | B18: =IF($A18="","",'Parameter'!$E$9) | C18: =IF($A18="","",IF(COUNTIF('Verbrauch'!$C$5:$C$104,$A18)=0,"",SUMIF('Verbrauch'!$C$5:$C$104,$A18,'Verbrauch'!$J$5:$J$104))) | D18: =IF($C18="","",IFERROR($C18/$B$5,"")) | E18: =IF($A18="","",IF(COUNTIF('Verbrauch'!$C$5:$C$104,$A18)=0,"",COUNTIFS('Verbrauch'!$C$5:$C$104,$A18,'Verbrauch'!$N$5:$N$104,"<>Gebucht"))) | F18: =IF($A18="","",IF(COUNTIF('Verbrauch'!$C$5:$C$104,$A18)=0,"",COUNTIFS('Verbrauch'!$C$5:$C$104,$A18,'Verbrauch'!$O$5:$O$104,"*prüfen")))
A19: =IF('Parameter'!$D$10="","",'Parameter'!$D$10) | B19: =IF($A19="","",'Parameter'!$E$10) | C19: =IF($A19="","",IF(COUNTIF('Verbrauch'!$C$5:$C$104,$A19)=0,"",SUMIF('Verbrauch'!$C$5:$C$104,$A19,'Verbrauch'!$J$5:$J$104))) | D19: =IF($C19="","",IFERROR($C19/$B$5,"")) | E19: =IF($A19="","",IF(COUNTIF('Verbrauch'!$C$5:$C$104,$A19)=0,"",COUNTIFS('Verbrauch'!$C$5:$C$104,$A19,'Verbrauch'!$N$5:$N$104,"<>Gebucht"))) | F19: =IF($A19="","",IF(COUNTIF('Verbrauch'!$C$5:$C$104,$A19)=0,"",COUNTIFS('Verbrauch'!$C$5:$C$104,$A19,'Verbrauch'!$O$5:$O$104,"*prüfen")))
A20: =IF('Parameter'!$D$11="","",'Parameter'!$D$11) | B20: =IF($A20="","",'Parameter'!$E$11) | C20: =IF($A20="","",IF(COUNTIF('Verbrauch'!$C$5:$C$104,$A20)=0,"",SUMIF('Verbrauch'!$C$5:$C$104,$A20,'Verbrauch'!$J$5:$J$104))) | D20: =IF($C20="","",IFERROR($C20/$B$5,"")) | E20: =IF($A20="","",IF(COUNTIF('Verbrauch'!$C$5:$C$104,$A20)=0,"",COUNTIFS('Verbrauch'!$C$5:$C$104,$A20,'Verbrauch'!$N$5:$N$104,"<>Gebucht"))) | F20: =IF($A20="","",IF(COUNTIF('Verbrauch'!$C$5:$C$104,$A20)=0,"",COUNTIFS('Verbrauch'!$C$5:$C$104,$A20,'Verbrauch'!$O$5:$O$104,"*prüfen")))
A21: =IF('Parameter'!$D$12="","",'Parameter'!$D$12) | B21: =IF($A21="","",'Parameter'!$E$12) | C21: =IF($A21="","",IF(COUNTIF('Verbrauch'!$C$5:$C$104,$A21)=0,"",SUMIF('Verbrauch'!$C$5:$C$104,$A21,'Verbrauch'!$J$5:$J$104))) | D21: =IF($C21="","",IFERROR($C21/$B$5,"")) | E21: =IF($A21="","",IF(COUNTIF('Verbrauch'!$C$5:$C$104,$A21)=0,"",COUNTIFS('Verbrauch'!$C$5:$C$104,$A21,'Verbrauch'!$N$5:$N$104,"<>Gebucht"))) | F21: =IF($A21="","",IF(COUNTIF('Verbrauch'!$C$5:$C$104,$A21)=0,"",COUNTIFS('Verbrauch'!$C$5:$C$104,$A21,'Verbrauch'!$O$5:$O$104,"*prüfen")))
A22: =IF('Parameter'!$D$13="","",'Parameter'!$D$13) | B22: =IF($A22="","",'Parameter'!$E$13) | C22: =IF($A22="","",IF(COUNTIF('Verbrauch'!$C$5:$C$104,$A22)=0,"",SUMIF('Verbrauch'!$C$5:$C$104,$A22,'Verbrauch'!$J$5:$J$104))) | D22: =IF($C22="","",IFERROR($C22/$B$5,"")) | E22: =IF($A22="","",IF(COUNTIF('Verbrauch'!$C$5:$C$104,$A22)=0,"",COUNTIFS('Verbrauch'!$C$5:$C$104,$A22,'Verbrauch'!$N$5:$N$104,"<>Gebucht"))) | F22: =IF($A22="","",IF(COUNTIF('Verbrauch'!$C$5:$C$104,$A22)=0,"",COUNTIFS('Verbrauch'!$C$5:$C$104,$A22,'Verbrauch'!$O$5:$O$104,"*prüfen")))
A23: =IF('Parameter'!$D$14="","",'Parameter'!$D$14) | B23: =IF($A23="","",'Parameter'!$E$14) | C23: =IF($A23="","",IF(COUNTIF('Verbrauch'!$C$5:$C$104,$A23)=0,"",SUMIF('Verbrauch'!$C$5:$C$104,$A23,'Verbrauch'!$J$5:$J$104))) | D23: =IF($C23="","",IFERROR($C23/$B$5,"")) | E23: =IF($A23="","",IF(COUNTIF('Verbrauch'!$C$5:$C$104,$A23)=0,"",COUNTIFS('Verbrauch'!$C$5:$C$104,$A23,'Verbrauch'!$N$5:$N$104,"<>Gebucht"))) | F23: =IF($A23="","",IF(COUNTIF('Verbrauch'!$C$5:$C$104,$A23)=0,"",COUNTIFS('Verbrauch'!$C$5:$C$104,$A23,'Verbrauch'!$O$5:$O$104,"*prüfen")))
A24: =IF('Parameter'!$D$15="","",'Parameter'!$D$15) | B24: =IF($A24="","",'Parameter'!$E$15) | C24: =IF($A24="","",IF(COUNTIF('Verbrauch'!$C$5:$C$104,$A24)=0,"",SUMIF('Verbrauch'!$C$5:$C$104,$A24,'Verbrauch'!$J$5:$J$104))) | D24: =IF($C24="","",IFERROR($C24/$B$5,"")) | E24: =IF($A24="","",IF(COUNTIF('Verbrauch'!$C$5:$C$104,$A24)=0,"",COUNTIFS('Verbrauch'!$C$5:$C$104,$A24,'Verbrauch'!$N$5:$N$104,"<>Gebucht"))) | F24: =IF($A24="","",IF(COUNTIF('Verbrauch'!$C$5:$C$104,$A24)=0,"",COUNTIFS('Verbrauch'!$C$5:$C$104,$A24,'Verbrauch'!$O$5:$O$104,"*prüfen")))
A25: =IF('Parameter'!$D$16="","",'Parameter'!$D$16) | B25: =IF($A25="","",'Parameter'!$E$16) | C25: =IF($A25="","",IF(COUNTIF('Verbrauch'!$C$5:$C$104,$A25)=0,"",SUMIF('Verbrauch'!$C$5:$C$104,$A25,'Verbrauch'!$J$5:$J$104))) | D25: =IF($C25="","",IFERROR($C25/$B$5,"")) | E25: =IF($A25="","",IF(COUNTIF('Verbrauch'!$C$5:$C$104,$A25)=0,"",COUNTIFS('Verbrauch'!$C$5:$C$104,$A25,'Verbrauch'!$N$5:$N$104,"<>Gebucht"))) | F25: =IF($A25="","",IF(COUNTIF('Verbrauch'!$C$5:$C$104,$A25)=0,"",COUNTIFS('Verbrauch'!$C$5:$C$104,$A25,'Verbrauch'!$O$5:$O$104,"*prüfen")))
A26: =IF('Parameter'!$D$17="","",'Parameter'!$D$17) | B26: =IF($A26="","",'Parameter'!$E$17) | C26: =IF($A26="","",IF(COUNTIF('Verbrauch'!$C$5:$C$104,$A26)=0,"",SUMIF('Verbrauch'!$C$5:$C$104,$A26,'Verbrauch'!$J$5:$J$104))) | D26: =IF($C26="","",IFERROR($C26/$B$5,"")) | E26: =IF($A26="","",IF(COUNTIF('Verbrauch'!$C$5:$C$104,$A26)=0,"",COUNTIFS('Verbrauch'!$C$5:$C$104,$A26,'Verbrauch'!$N$5:$N$104,"<>Gebucht"))) | F26: =IF($A26="","",IF(COUNTIF('Verbrauch'!$C$5:$C$104,$A26)=0,"",COUNTIFS('Verbrauch'!$C$5:$C$104,$A26,'Verbrauch'!$O$5:$O$104,"*prüfen")))
A27: =IF('Parameter'!$D$18="","",'Parameter'!$D$18) | B27: =IF($A27="","",'Parameter'!$E$18) | C27: =IF($A27="","",IF(COUNTIF('Verbrauch'!$C$5:$C$104,$A27)=0,"",SUMIF('Verbrauch'!$C$5:$C$104,$A27,'Verbrauch'!$J$5:$J$104))) | D27: =IF($C27="","",IFERROR($C27/$B$5,"")) | E27: =IF($A27="","",IF(COUNTIF('Verbrauch'!$C$5:$C$104,$A27)=0,"",COUNTIFS('Verbrauch'!$C$5:$C$104,$A27,'Verbrauch'!$N$5:$N$104,"<>Gebucht"))) | F27: =IF($A27="","",IF(COUNTIF('Verbrauch'!$C$5:$C$104,$A27)=0,"",COUNTIFS('Verbrauch'!$C$5:$C$104,$A27,'Verbrauch'!$O$5:$O$104,"*prüfen")))
A28: =IF('Parameter'!$D$19="","",'Parameter'!$D$19) | B28: =IF($A28="","",'Parameter'!$E$19) | C28: =IF($A28="","",IF(COUNTIF('Verbrauch'!$C$5:$C$104,$A28)=0,"",SUMIF('Verbrauch'!$C$5:$C$104,$A28,'Verbrauch'!$J$5:$J$104))) | D28: =IF($C28="","",IFERROR($C28/$B$5,"")) | E28: =IF($A28="","",IF(COUNTIF('Verbrauch'!$C$5:$C$104,$A28)=0,"",COUNTIFS('Verbrauch'!$C$5:$C$104,$A28,'Verbrauch'!$N$5:$N$104,"<>Gebucht"))) | F28: =IF($A28="","",IF(COUNTIF('Verbrauch'!$C$5:$C$104,$A28)=0,"",COUNTIFS('Verbrauch'!$C$5:$C$104,$A28,'Verbrauch'!$O$5:$O$104,"*prüfen")))
A29: =IF('Parameter'!$D$20="","",'Parameter'!$D$20) | B29: =IF($A29="","",'Parameter'!$E$20) | C29: =IF($A29="","",IF(COUNTIF('Verbrauch'!$C$5:$C$104,$A29)=0,"",SUMIF('Verbrauch'!$C$5:$C$104,$A29,'Verbrauch'!$J$5:$J$104))) | D29: =IF($C29="","",IFERROR($C29/$B$5,"")) | E29: =IF($A29="","",IF(COUNTIF('Verbrauch'!$C$5:$C$104,$A29)=0,"",COUNTIFS('Verbrauch'!$C$5:$C$104,$A29,'Verbrauch'!$N$5:$N$104,"<>Gebucht"))) | F29: =IF($A29="","",IF(COUNTIF('Verbrauch'!$C$5:$C$104,$A29)=0,"",COUNTIFS('Verbrauch'!$C$5:$C$104,$A29,'Verbrauch'!$O$5:$O$104,"*prüfen")))
A30: =IF('Parameter'!$D$21="","",'Parameter'!$D$21) | B30: =IF($A30="","",'Parameter'!$E$21) | C30: =IF($A30="","",IF(COUNTIF('Verbrauch'!$C$5:$C$104,$A30)=0,"",SUMIF('Verbrauch'!$C$5:$C$104,$A30,'Verbrauch'!$J$5:$J$104))) | D30: =IF($C30="","",IFERROR($C30/$B$5,"")) | E30: =IF($A30="","",IF(COUNTIF('Verbrauch'!$C$5:$C$104,$A30)=0,"",COUNTIFS('Verbrauch'!$C$5:$C$104,$A30,'Verbrauch'!$N$5:$N$104,"<>Gebucht"))) | F30: =IF($A30="","",IF(COUNTIF('Verbrauch'!$C$5:$C$104,$A30)=0,"",COUNTIFS('Verbrauch'!$C$5:$C$104,$A30,'Verbrauch'!$O$5:$O$104,"*prüfen")))
A31: =IF('Parameter'!$D$22="","",'Parameter'!$D$22) | B31: =IF($A31="","",'Parameter'!$E$22) | C31: =IF($A31="","",IF(COUNTIF('Verbrauch'!$C$5:$C$104,$A31)=0,"",SUMIF('Verbrauch'!$C$5:$C$104,$A31,'Verbrauch'!$J$5:$J$104))) | D31: =IF($C31="","",IFERROR($C31/$B$5,"")) | E31: =IF($A31="","",IF(COUNTIF('Verbrauch'!$C$5:$C$104,$A31)=0,"",COUNTIFS('Verbrauch'!$C$5:$C$104,$A31,'Verbrauch'!$N$5:$N$104,"<>Gebucht"))) | F31: =IF($A31="","",IF(COUNTIF('Verbrauch'!$C$5:$C$104,$A31)=0,"",COUNTIFS('Verbrauch'!$C$5:$C$104,$A31,'Verbrauch'!$O$5:$O$104,"*prüfen")))
A32: =IF('Parameter'!$D$23="","",'Parameter'!$D$23) | B32: =IF($A32="","",'Parameter'!$E$23) | C32: =IF($A32="","",IF(COUNTIF('Verbrauch'!$C$5:$C$104,$A32)=0,"",SUMIF('Verbrauch'!$C$5:$C$104,$A32,'Verbrauch'!$J$5:$J$104))) | D32: =IF($C32="","",IFERROR($C32/$B$5,"")) | E32: =IF($A32="","",IF(COUNTIF('Verbrauch'!$C$5:$C$104,$A32)=0,"",COUNTIFS('Verbrauch'!$C$5:$C$104,$A32,'Verbrauch'!$N$5:$N$104,"<>Gebucht"))) | F32: =IF($A32="","",IF(COUNTIF('Verbrauch'!$C$5:$C$104,$A32)=0,"",COUNTIFS('Verbrauch'!$C$5:$C$104,$A32,'Verbrauch'!$O$5:$O$104,"*prüfen")))
A33: =IF('Parameter'!$D$24="","",'Parameter'!$D$24) | B33: =IF($A33="","",'Parameter'!$E$24) | C33: =IF($A33="","",IF(COUNTIF('Verbrauch'!$C$5:$C$104,$A33)=0,"",SUMIF('Verbrauch'!$C$5:$C$104,$A33,'Verbrauch'!$J$5:$J$104))) | D33: =IF($C33="","",IFERROR($C33/$B$5,"")) | E33: =IF($A33="","",IF(COUNTIF('Verbrauch'!$C$5:$C$104,$A33)=0,"",COUNTIFS('Verbrauch'!$C$5:$C$104,$A33,'Verbrauch'!$N$5:$N$104,"<>Gebucht"))) | F33: =IF($A33="","",IF(COUNTIF('Verbrauch'!$C$5:$C$104,$A33)=0,"",COUNTIFS('Verbrauch'!$C$5:$C$104,$A33,'Verbrauch'!$O$5:$O$104,"*prüfen")))
A34: =IF('Parameter'!$D$25="","",'Parameter'!$D$25) | B34: =IF($A34="","",'Parameter'!$E$25) | C34: =IF($A34="","",IF(COUNTIF('Verbrauch'!$C$5:$C$104,$A34)=0,"",SUMIF('Verbrauch'!$C$5:$C$104,$A34,'Verbrauch'!$J$5:$J$104))) | D34: =IF($C34="","",IFERROR($C34/$B$5,"")) | E34: =IF($A34="","",IF(COUNTIF('Verbrauch'!$C$5:$C$104,$A34)=0,"",COUNTIFS('Verbrauch'!$C$5:$C$104,$A34,'Verbrauch'!$N$5:$N$104,"<>Gebucht"))) | F34: =IF($A34="","",IF(COUNTIF('Verbrauch'!$C$5:$C$104,$A34)=0,"",COUNTIFS('Verbrauch'!$C$5:$C$104,$A34,'Verbrauch'!$O$5:$O$104,"*prüfen")))
A35: =IF('Parameter'!$D$26="","",'Parameter'!$D$26) | B35: =IF($A35="","",'Parameter'!$E$26) | C35: =IF($A35="","",IF(COUNTIF('Verbrauch'!$C$5:$C$104,$A35)=0,"",SUMIF('Verbrauch'!$C$5:$C$104,$A35,'Verbrauch'!$J$5:$J$104))) | D35: =IF($C35="","",IFERROR($C35/$B$5,"")) | E35: =IF($A35="","",IF(COUNTIF('Verbrauch'!$C$5:$C$104,$A35)=0,"",COUNTIFS('Verbrauch'!$C$5:$C$104,$A35,'Verbrauch'!$N$5:$N$104,"<>Gebucht"))) | F35: =IF($A35="","",IF(COUNTIF('Verbrauch'!$C$5:$C$104,$A35)=0,"",COUNTIFS('Verbrauch'!$C$5:$C$104,$A35,'Verbrauch'!$O$5:$O$104,"*prüfen")))
A36: =IF('Parameter'!$D$27="","",'Parameter'!$D$27) | B36: =IF($A36="","",'Parameter'!$E$27) | C36: =IF($A36="","",IF(COUNTIF('Verbrauch'!$C$5:$C$104,$A36)=0,"",SUMIF('Verbrauch'!$C$5:$C$104,$A36,'Verbrauch'!$J$5:$J$104))) | D36: =IF($C36="","",IFERROR($C36/$B$5,"")) | E36: =IF($A36="","",IF(COUNTIF('Verbrauch'!$C$5:$C$104,$A36)=0,"",COUNTIFS('Verbrauch'!$C$5:$C$104,$A36,'Verbrauch'!$N$5:$N$104,"<>Gebucht"))) | F36: =IF($A36="","",IF(COUNTIF('Verbrauch'!$C$5:$C$104,$A36)=0,"",COUNTIFS('Verbrauch'!$C$5:$C$104,$A36,'Verbrauch'!$O$5:$O$104,"*prüfen")))
A37: =IF('Parameter'!$D$28="","",'Parameter'!$D$28) | B37: =IF($A37="","",'Parameter'!$E$28) | C37: =IF($A37="","",IF(COUNTIF('Verbrauch'!$C$5:$C$104,$A37)=0,"",SUMIF('Verbrauch'!$C$5:$C$104,$A37,'Verbrauch'!$J$5:$J$104))) | D37: =IF($C37="","",IFERROR($C37/$B$5,"")) | E37: =IF($A37="","",IF(COUNTIF('Verbrauch'!$C$5:$C$104,$A37)=0,"",COUNTIFS('Verbrauch'!$C$5:$C$104,$A37,'Verbrauch'!$N$5:$N$104,"<>Gebucht"))) | F37: =IF($A37="","",IF(COUNTIF('Verbrauch'!$C$5:$C$104,$A37)=0,"",COUNTIFS('Verbrauch'!$C$5:$C$104,$A37,'Verbrauch'!$O$5:$O$104,"*prüfen")))
A38: =IF('Parameter'!$D$29="","",'Parameter'!$D$29) | B38: =IF($A38="","",'Parameter'!$E$29) | C38: =IF($A38="","",IF(COUNTIF('Verbrauch'!$C$5:$C$104,$A38)=0,"",SUMIF('Verbrauch'!$C$5:$C$104,$A38,'Verbrauch'!$J$5:$J$104))) | D38: =IF($C38="","",IFERROR($C38/$B$5,"")) | E38: =IF($A38="","",IF(COUNTIF('Verbrauch'!$C$5:$C$104,$A38)=0,"",COUNTIFS('Verbrauch'!$C$5:$C$104,$A38,'Verbrauch'!$N$5:$N$104,"<>Gebucht"))) | F38: =IF($A38="","",IF(COUNTIF('Verbrauch'!$C$5:$C$104,$A38)=0,"",COUNTIFS('Verbrauch'!$C$5:$C$104,$A38,'Verbrauch'!$O$5:$O$104,"*prüfen")))
A39: =IF('Parameter'!$D$30="","",'Parameter'!$D$30) | B39: =IF($A39="","",'Parameter'!$E$30) | C39: =IF($A39="","",IF(COUNTIF('Verbrauch'!$C$5:$C$104,$A39)=0,"",SUMIF('Verbrauch'!$C$5:$C$104,$A39,'Verbrauch'!$J$5:$J$104))) | D39: =IF($C39="","",IFERROR($C39/$B$5,"")) | E39: =IF($A39="","",IF(COUNTIF('Verbrauch'!$C$5:$C$104,$A39)=0,"",COUNTIFS('Verbrauch'!$C$5:$C$104,$A39,'Verbrauch'!$N$5:$N$104,"<>Gebucht"))) | F39: =IF($A39="","",IF(COUNTIF('Verbrauch'!$C$5:$C$104,$A39)=0,"",COUNTIFS('Verbrauch'!$C$5:$C$104,$A39,'Verbrauch'!$O$5:$O$104,"*prüfen")))
A40: =IF('Parameter'!$D$31="","",'Parameter'!$D$31) | B40: =IF($A40="","",'Parameter'!$E$31) | C40: =IF($A40="","",IF(COUNTIF('Verbrauch'!$C$5:$C$104,$A40)=0,"",SUMIF('Verbrauch'!$C$5:$C$104,$A40,'Verbrauch'!$J$5:$J$104))) | D40: =IF($C40="","",IFERROR($C40/$B$5,"")) | E40: =IF($A40="","",IF(COUNTIF('Verbrauch'!$C$5:$C$104,$A40)=0,"",COUNTIFS('Verbrauch'!$C$5:$C$104,$A40,'Verbrauch'!$N$5:$N$104,"<>Gebucht"))) | F40: =IF($A40="","",IF(COUNTIF('Verbrauch'!$C$5:$C$104,$A40)=0,"",COUNTIFS('Verbrauch'!$C$5:$C$104,$A40,'Verbrauch'!$O$5:$O$104,"*prüfen")))
A41: =IF('Parameter'!$D$32="","",'Parameter'!$D$32) | B41: =IF($A41="","",'Parameter'!$E$32) | C41: =IF($A41="","",IF(COUNTIF('Verbrauch'!$C$5:$C$104,$A41)=0,"",SUMIF('Verbrauch'!$C$5:$C$104,$A41,'Verbrauch'!$J$5:$J$104))) | D41: =IF($C41="","",IFERROR($C41/$B$5,"")) | E41: =IF($A41="","",IF(COUNTIF('Verbrauch'!$C$5:$C$104,$A41)=0,"",COUNTIFS('Verbrauch'!$C$5:$C$104,$A41,'Verbrauch'!$N$5:$N$104,"<>Gebucht"))) | F41: =IF($A41="","",IF(COUNTIF('Verbrauch'!$C$5:$C$104,$A41)=0,"",COUNTIFS('Verbrauch'!$C$5:$C$104,$A41,'Verbrauch'!$O$5:$O$104,"*prüfen")))
A42: =IF('Parameter'!$D$33="","",'Parameter'!$D$33) | B42: =IF($A42="","",'Parameter'!$E$33) | C42: =IF($A42="","",IF(COUNTIF('Verbrauch'!$C$5:$C$104,$A42)=0,"",SUMIF('Verbrauch'!$C$5:$C$104,$A42,'Verbrauch'!$J$5:$J$104))) | D42: =IF($C42="","",IFERROR($C42/$B$5,"")) | E42: =IF($A42="","",IF(COUNTIF('Verbrauch'!$C$5:$C$104,$A42)=0,"",COUNTIFS('Verbrauch'!$C$5:$C$104,$A42,'Verbrauch'!$N$5:$N$104,"<>Gebucht"))) | F42: =IF($A42="","",IF(COUNTIF('Verbrauch'!$C$5:$C$104,$A42)=0,"",COUNTIFS('Verbrauch'!$C$5:$C$104,$A42,'Verbrauch'!$O$5:$O$104,"*prüfen")))
A43: =IF('Parameter'!$D$34="","",'Parameter'!$D$34) | B43: =IF($A43="","",'Parameter'!$E$34) | C43: =IF($A43="","",IF(COUNTIF('Verbrauch'!$C$5:$C$104,$A43)=0,"",SUMIF('Verbrauch'!$C$5:$C$104,$A43,'Verbrauch'!$J$5:$J$104))) | D43: =IF($C43="","",IFERROR($C43/$B$5,"")) | E43: =IF($A43="","",IF(COUNTIF('Verbrauch'!$C$5:$C$104,$A43)=0,"",COUNTIFS('Verbrauch'!$C$5:$C$104,$A43,'Verbrauch'!$N$5:$N$104,"<>Gebucht"))) | F43: =IF($A43="","",IF(COUNTIF('Verbrauch'!$C$5:$C$104,$A43)=0,"",COUNTIFS('Verbrauch'!$C$5:$C$104,$A43,'Verbrauch'!$O$5:$O$104,"*prüfen")))
A44: =IF('Parameter'!$D$35="","",'Parameter'!$D$35) | B44: =IF($A44="","",'Parameter'!$E$35) | C44: =IF($A44="","",IF(COUNTIF('Verbrauch'!$C$5:$C$104,$A44)=0,"",SUMIF('Verbrauch'!$C$5:$C$104,$A44,'Verbrauch'!$J$5:$J$104))) | D44: =IF($C44="","",IFERROR($C44/$B$5,"")) | E44: =IF($A44="","",IF(COUNTIF('Verbrauch'!$C$5:$C$104,$A44)=0,"",COUNTIFS('Verbrauch'!$C$5:$C$104,$A44,'Verbrauch'!$N$5:$N$104,"<>Gebucht"))) | F44: =IF($A44="","",IF(COUNTIF('Verbrauch'!$C$5:$C$104,$A44)=0,"",COUNTIFS('Verbrauch'!$C$5:$C$104,$A44,'Verbrauch'!$O$5:$O$104,"*prüfen")))
A45: =IF('Parameter'!$D$36="","",'Parameter'!$D$36) | B45: =IF($A45="","",'Parameter'!$E$36) | C45: =IF($A45="","",IF(COUNTIF('Verbrauch'!$C$5:$C$104,$A45)=0,"",SUMIF('Verbrauch'!$C$5:$C$104,$A45,'Verbrauch'!$J$5:$J$104))) | D45: =IF($C45="","",IFERROR($C45/$B$5,"")) | E45: =IF($A45="","",IF(COUNTIF('Verbrauch'!$C$5:$C$104,$A45)=0,"",COUNTIFS('Verbrauch'!$C$5:$C$104,$A45,'Verbrauch'!$N$5:$N$104,"<>Gebucht"))) | F45: =IF($A45="","",IF(COUNTIF('Verbrauch'!$C$5:$C$104,$A45)=0,"",COUNTIFS('Verbrauch'!$C$5:$C$104,$A45,'Verbrauch'!$O$5:$O$104,"*prüfen")))
A46: =IF('Parameter'!$D$37="","",'Parameter'!$D$37) | B46: =IF($A46="","",'Parameter'!$E$37) | C46: =IF($A46="","",IF(COUNTIF('Verbrauch'!$C$5:$C$104,$A46)=0,"",SUMIF('Verbrauch'!$C$5:$C$104,$A46,'Verbrauch'!$J$5:$J$104))) | D46: =IF($C46="","",IFERROR($C46/$B$5,"")) | E46: =IF($A46="","",IF(COUNTIF('Verbrauch'!$C$5:$C$104,$A46)=0,"",COUNTIFS('Verbrauch'!$C$5:$C$104,$A46,'Verbrauch'!$N$5:$N$104,"<>Gebucht"))) | F46: =IF($A46="","",IF(COUNTIF('Verbrauch'!$C$5:$C$104,$A46)=0,"",COUNTIFS('Verbrauch'!$C$5:$C$104,$A46,'Verbrauch'!$O$5:$O$104,"*prüfen")))
A47: =IF('Parameter'!$D$38="","",'Parameter'!$D$38) | B47: =IF($A47="","",'Parameter'!$E$38) | C47: =IF($A47="","",IF(COUNTIF('Verbrauch'!$C$5:$C$104,$A47)=0,"",SUMIF('Verbrauch'!$C$5:$C$104,$A47,'Verbrauch'!$J$5:$J$104))) | D47: =IF($C47="","",IFERROR($C47/$B$5,"")) | E47: =IF($A47="","",IF(COUNTIF('Verbrauch'!$C$5:$C$104,$A47)=0,"",COUNTIFS('Verbrauch'!$C$5:$C$104,$A47,'Verbrauch'!$N$5:$N$104,"<>Gebucht"))) | F47: =IF($A47="","",IF(COUNTIF('Verbrauch'!$C$5:$C$104,$A47)=0,"",COUNTIFS('Verbrauch'!$C$5:$C$104,$A47,'Verbrauch'!$O$5:$O$104,"*prüfen")))
A48: =IF('Parameter'!$D$39="","",'Parameter'!$D$39) | B48: =IF($A48="","",'Parameter'!$E$39) | C48: =IF($A48="","",IF(COUNTIF('Verbrauch'!$C$5:$C$104,$A48)=0,"",SUMIF('Verbrauch'!$C$5:$C$104,$A48,'Verbrauch'!$J$5:$J$104))) | D48: =IF($C48="","",IFERROR($C48/$B$5,"")) | E48: =IF($A48="","",IF(COUNTIF('Verbrauch'!$C$5:$C$104,$A48)=0,"",COUNTIFS('Verbrauch'!$C$5:$C$104,$A48,'Verbrauch'!$N$5:$N$104,"<>Gebucht"))) | F48: =IF($A48="","",IF(COUNTIF('Verbrauch'!$C$5:$C$104,$A48)=0,"",COUNTIFS('Verbrauch'!$C$5:$C$104,$A48,'Verbrauch'!$O$5:$O$104,"*prüfen")))
A49: =IF('Parameter'!$D$40="","",'Parameter'!$D$40) | B49: =IF($A49="","",'Parameter'!$E$40) | C49: =IF($A49="","",IF(COUNTIF('Verbrauch'!$C$5:$C$104,$A49)=0,"",SUMIF('Verbrauch'!$C$5:$C$104,$A49,'Verbrauch'!$J$5:$J$104))) | D49: =IF($C49="","",IFERROR($C49/$B$5,"")) | E49: =IF($A49="","",IF(COUNTIF('Verbrauch'!$C$5:$C$104,$A49)=0,"",COUNTIFS('Verbrauch'!$C$5:$C$104,$A49,'Verbrauch'!$N$5:$N$104,"<>Gebucht"))) | F49: =IF($A49="","",IF(COUNTIF('Verbrauch'!$C$5:$C$104,$A49)=0,"",COUNTIFS('Verbrauch'!$C$5:$C$104,$A49,'Verbrauch'!$O$5:$O$104,"*prüfen")))
A50: =IF('Parameter'!$D$41="","",'Parameter'!$D$41) | B50: =IF($A50="","",'Parameter'!$E$41) | C50: =IF($A50="","",IF(COUNTIF('Verbrauch'!$C$5:$C$104,$A50)=0,"",SUMIF('Verbrauch'!$C$5:$C$104,$A50,'Verbrauch'!$J$5:$J$104))) | D50: =IF($C50="","",IFERROR($C50/$B$5,"")) | E50: =IF($A50="","",IF(COUNTIF('Verbrauch'!$C$5:$C$104,$A50)=0,"",COUNTIFS('Verbrauch'!$C$5:$C$104,$A50,'Verbrauch'!$N$5:$N$104,"<>Gebucht"))) | F50: =IF($A50="","",IF(COUNTIF('Verbrauch'!$C$5:$C$104,$A50)=0,"",COUNTIFS('Verbrauch'!$C$5:$C$104,$A50,'Verbrauch'!$O$5:$O$104,"*prüfen")))
A51: =IF('Parameter'!$D$42="","",'Parameter'!$D$42) | B51: =IF($A51="","",'Parameter'!$E$42) | C51: =IF($A51="","",IF(COUNTIF('Verbrauch'!$C$5:$C$104,$A51)=0,"",SUMIF('Verbrauch'!$C$5:$C$104,$A51,'Verbrauch'!$J$5:$J$104))) | D51: =IF($C51="","",IFERROR($C51/$B$5,"")) | E51: =IF($A51="","",IF(COUNTIF('Verbrauch'!$C$5:$C$104,$A51)=0,"",COUNTIFS('Verbrauch'!$C$5:$C$104,$A51,'Verbrauch'!$N$5:$N$104,"<>Gebucht"))) | F51: =IF($A51="","",IF(COUNTIF('Verbrauch'!$C$5:$C$104,$A51)=0,"",COUNTIFS('Verbrauch'!$C$5:$C$104,$A51,'Verbrauch'!$O$5:$O$104,"*prüfen")))
A52: =IF('Parameter'!$D$43="","",'Parameter'!$D$43) | B52: =IF($A52="","",'Parameter'!$E$43) | C52: =IF($A52="","",IF(COUNTIF('Verbrauch'!$C$5:$C$104,$A52)=0,"",SUMIF('Verbrauch'!$C$5:$C$104,$A52,'Verbrauch'!$J$5:$J$104))) | D52: =IF($C52="","",IFERROR($C52/$B$5,"")) | E52: =IF($A52="","",IF(COUNTIF('Verbrauch'!$C$5:$C$104,$A52)=0,"",COUNTIFS('Verbrauch'!$C$5:$C$104,$A52,'Verbrauch'!$N$5:$N$104,"<>Gebucht"))) | F52: =IF($A52="","",IF(COUNTIF('Verbrauch'!$C$5:$C$104,$A52)=0,"",COUNTIFS('Verbrauch'!$C$5:$C$104,$A52,'Verbrauch'!$O$5:$O$104,"*prüfen")))
A53: =IF('Parameter'!$D$44="","",'Parameter'!$D$44) | B53: =IF($A53="","",'Parameter'!$E$44) | C53: =IF($A53="","",IF(COUNTIF('Verbrauch'!$C$5:$C$104,$A53)=0,"",SUMIF('Verbrauch'!$C$5:$C$104,$A53,'Verbrauch'!$J$5:$J$104))) | D53: =IF($C53="","",IFERROR($C53/$B$5,"")) | E53: =IF($A53="","",IF(COUNTIF('Verbrauch'!$C$5:$C$104,$A53)=0,"",COUNTIFS('Verbrauch'!$C$5:$C$104,$A53,'Verbrauch'!$N$5:$N$104,"<>Gebucht"))) | F53: =IF($A53="","",IF(COUNTIF('Verbrauch'!$C$5:$C$104,$A53)=0,"",COUNTIFS('Verbrauch'!$C$5:$C$104,$A53,'Verbrauch'!$O$5:$O$104,"*prüfen")))
A54: =IF('Parameter'!$D$45="","",'Parameter'!$D$45) | B54: =IF($A54="","",'Parameter'!$E$45) | C54: =IF($A54="","",IF(COUNTIF('Verbrauch'!$C$5:$C$104,$A54)=0,"",SUMIF('Verbrauch'!$C$5:$C$104,$A54,'Verbrauch'!$J$5:$J$104))) | D54: =IF($C54="","",IFERROR($C54/$B$5,"")) | E54: =IF($A54="","",IF(COUNTIF('Verbrauch'!$C$5:$C$104,$A54)=0,"",COUNTIFS('Verbrauch'!$C$5:$C$104,$A54,'Verbrauch'!$N$5:$N$104,"<>Gebucht"))) | F54: =IF($A54="","",IF(COUNTIF('Verbrauch'!$C$5:$C$104,$A54)=0,"",COUNTIFS('Verbrauch'!$C$5:$C$104,$A54,'Verbrauch'!$O$5:$O$104,"*prüfen")))
A55: =IF('Parameter'!$D$46="","",'Parameter'!$D$46) | B55: =IF($A55="","",'Parameter'!$E$46) | C55: =IF($A55="","",IF(COUNTIF('Verbrauch'!$C$5:$C$104,$A55)=0,"",SUMIF('Verbrauch'!$C$5:$C$104,$A55,'Verbrauch'!$J$5:$J$104))) | D55: =IF($C55="","",IFERROR($C55/$B$5,"")) | E55: =IF($A55="","",IF(COUNTIF('Verbrauch'!$C$5:$C$104,$A55)=0,"",COUNTIFS('Verbrauch'!$C$5:$C$104,$A55,'Verbrauch'!$N$5:$N$104,"<>Gebucht"))) | F55: =IF($A55="","",IF(COUNTIF('Verbrauch'!$C$5:$C$104,$A55)=0,"",COUNTIFS('Verbrauch'!$C$5:$C$104,$A55,'Verbrauch'!$O$5:$O$104,"*prüfen")))
A56: =IF('Parameter'!$D$47="","",'Parameter'!$D$47) | B56: =IF($A56="","",'Parameter'!$E$47) | C56: =IF($A56="","",IF(COUNTIF('Verbrauch'!$C$5:$C$104,$A56)=0,"",SUMIF('Verbrauch'!$C$5:$C$104,$A56,'Verbrauch'!$J$5:$J$104))) | D56: =IF($C56="","",IFERROR($C56/$B$5,"")) | E56: =IF($A56="","",IF(COUNTIF('Verbrauch'!$C$5:$C$104,$A56)=0,"",COUNTIFS('Verbrauch'!$C$5:$C$104,$A56,'Verbrauch'!$N$5:$N$104,"<>Gebucht"))) | F56: =IF($A56="","",IF(COUNTIF('Verbrauch'!$C$5:$C$104,$A56)=0,"",COUNTIFS('Verbrauch'!$C$5:$C$104,$A56,'Verbrauch'!$O$5:$O$104,"*prüfen")))
A57: =IF('Parameter'!$D$48="","",'Parameter'!$D$48) | B57: =IF($A57="","",'Parameter'!$E$48) | C57: =IF($A57="","",IF(COUNTIF('Verbrauch'!$C$5:$C$104,$A57)=0,"",SUMIF('Verbrauch'!$C$5:$C$104,$A57,'Verbrauch'!$J$5:$J$104))) | D57: =IF($C57="","",IFERROR($C57/$B$5,"")) | E57: =IF($A57="","",IF(COUNTIF('Verbrauch'!$C$5:$C$104,$A57)=0,"",COUNTIFS('Verbrauch'!$C$5:$C$104,$A57,'Verbrauch'!$N$5:$N$104,"<>Gebucht"))) | F57: =IF($A57="","",IF(COUNTIF('Verbrauch'!$C$5:$C$104,$A57)=0,"",COUNTIFS('Verbrauch'!$C$5:$C$104,$A57,'Verbrauch'!$O$5:$O$104,"*prüfen")))
A58: =IF('Parameter'!$D$49="","",'Parameter'!$D$49) | B58: =IF($A58="","",'Parameter'!$E$49) | C58: =IF($A58="","",IF(COUNTIF('Verbrauch'!$C$5:$C$104,$A58)=0,"",SUMIF('Verbrauch'!$C$5:$C$104,$A58,'Verbrauch'!$J$5:$J$104))) | D58: =IF($C58="","",IFERROR($C58/$B$5,"")) | E58: =IF($A58="","",IF(COUNTIF('Verbrauch'!$C$5:$C$104,$A58)=0,"",COUNTIFS('Verbrauch'!$C$5:$C$104,$A58,'Verbrauch'!$N$5:$N$104,"<>Gebucht"))) | F58: =IF($A58="","",IF(COUNTIF('Verbrauch'!$C$5:$C$104,$A58)=0,"",COUNTIFS('Verbrauch'!$C$5:$C$104,$A58,'Verbrauch'!$O$5:$O$104,"*prüfen")))
A59: =IF('Parameter'!$D$50="","",'Parameter'!$D$50) | B59: =IF($A59="","",'Parameter'!$E$50) | C59: =IF($A59="","",IF(COUNTIF('Verbrauch'!$C$5:$C$104,$A59)=0,"",SUMIF('Verbrauch'!$C$5:$C$104,$A59,'Verbrauch'!$J$5:$J$104))) | D59: =IF($C59="","",IFERROR($C59/$B$5,"")) | E59: =IF($A59="","",IF(COUNTIF('Verbrauch'!$C$5:$C$104,$A59)=0,"",COUNTIFS('Verbrauch'!$C$5:$C$104,$A59,'Verbrauch'!$N$5:$N$104,"<>Gebucht"))) | F59: =IF($A59="","",IF(COUNTIF('Verbrauch'!$C$5:$C$104,$A59)=0,"",COUNTIFS('Verbrauch'!$C$5:$C$104,$A59,'Verbrauch'!$O$5:$O$104,"*prüfen")))
A60: =IF('Parameter'!$D$51="","",'Parameter'!$D$51) | B60: =IF($A60="","",'Parameter'!$E$51) | C60: =IF($A60="","",IF(COUNTIF('Verbrauch'!$C$5:$C$104,$A60)=0,"",SUMIF('Verbrauch'!$C$5:$C$104,$A60,'Verbrauch'!$J$5:$J$104))) | D60: =IF($C60="","",IFERROR($C60/$B$5,"")) | E60: =IF($A60="","",IF(COUNTIF('Verbrauch'!$C$5:$C$104,$A60)=0,"",COUNTIFS('Verbrauch'!$C$5:$C$104,$A60,'Verbrauch'!$N$5:$N$104,"<>Gebucht"))) | F60: =IF($A60="","",IF(COUNTIF('Verbrauch'!$C$5:$C$104,$A60)=0,"",COUNTIFS('Verbrauch'!$C$5:$C$104,$A60,'Verbrauch'!$O$5:$O$104,"*prüfen")))
A61: =IF('Parameter'!$D$52="","",'Parameter'!$D$52) | B61: =IF($A61="","",'Parameter'!$E$52) | C61: =IF($A61="","",IF(COUNTIF('Verbrauch'!$C$5:$C$104,$A61)=0,"",SUMIF('Verbrauch'!$C$5:$C$104,$A61,'Verbrauch'!$J$5:$J$104))) | D61: =IF($C61="","",IFERROR($C61/$B$5,"")) | E61: =IF($A61="","",IF(COUNTIF('Verbrauch'!$C$5:$C$104,$A61)=0,"",COUNTIFS('Verbrauch'!$C$5:$C$104,$A61,'Verbrauch'!$N$5:$N$104,"<>Gebucht"))) | F61: =IF($A61="","",IF(COUNTIF('Verbrauch'!$C$5:$C$104,$A61)=0,"",COUNTIFS('Verbrauch'!$C$5:$C$104,$A61,'Verbrauch'!$O$5:$O$104,"*prüfen")))
A62: =IF('Parameter'!$D$53="","",'Parameter'!$D$53) | B62: =IF($A62="","",'Parameter'!$E$53) | C62: =IF($A62="","",IF(COUNTIF('Verbrauch'!$C$5:$C$104,$A62)=0,"",SUMIF('Verbrauch'!$C$5:$C$104,$A62,'Verbrauch'!$J$5:$J$104))) | D62: =IF($C62="","",IFERROR($C62/$B$5,"")) | E62: =IF($A62="","",IF(COUNTIF('Verbrauch'!$C$5:$C$104,$A62)=0,"",COUNTIFS('Verbrauch'!$C$5:$C$104,$A62,'Verbrauch'!$N$5:$N$104,"<>Gebucht"))) | F62: =IF($A62="","",IF(COUNTIF('Verbrauch'!$C$5:$C$104,$A62)=0,"",COUNTIFS('Verbrauch'!$C$5:$C$104,$A62,'Verbrauch'!$O$5:$O$104,"*prüfen")))
A63: =IF('Parameter'!$D$54="","",'Parameter'!$D$54) | B63: =IF($A63="","",'Parameter'!$E$54) | C63: =IF($A63="","",IF(COUNTIF('Verbrauch'!$C$5:$C$104,$A63)=0,"",SUMIF('Verbrauch'!$C$5:$C$104,$A63,'Verbrauch'!$J$5:$J$104))) | D63: =IF($C63="","",IFERROR($C63/$B$5,"")) | E63: =IF($A63="","",IF(COUNTIF('Verbrauch'!$C$5:$C$104,$A63)=0,"",COUNTIFS('Verbrauch'!$C$5:$C$104,$A63,'Verbrauch'!$N$5:$N$104,"<>Gebucht"))) | F63: =IF($A63="","",IF(COUNTIF('Verbrauch'!$C$5:$C$104,$A63)=0,"",COUNTIFS('Verbrauch'!$C$5:$C$104,$A63,'Verbrauch'!$O$5:$O$104,"*prüfen")))
A64: =IF('Parameter'!$D$55="","",'Parameter'!$D$55) | B64: =IF($A64="","",'Parameter'!$E$55) | C64: =IF($A64="","",IF(COUNTIF('Verbrauch'!$C$5:$C$104,$A64)=0,"",SUMIF('Verbrauch'!$C$5:$C$104,$A64,'Verbrauch'!$J$5:$J$104))) | D64: =IF($C64="","",IFERROR($C64/$B$5,"")) | E64: =IF($A64="","",IF(COUNTIF('Verbrauch'!$C$5:$C$104,$A64)=0,"",COUNTIFS('Verbrauch'!$C$5:$C$104,$A64,'Verbrauch'!$N$5:$N$104,"<>Gebucht"))) | F64: =IF($A64="","",IF(COUNTIF('Verbrauch'!$C$5:$C$104,$A64)=0,"",COUNTIFS('Verbrauch'!$C$5:$C$104,$A64,'Verbrauch'!$O$5:$O$104,"*prüfen")))
A65: =IF('Parameter'!$D$56="","",'Parameter'!$D$56) | B65: =IF($A65="","",'Parameter'!$E$56) | C65: =IF($A65="","",IF(COUNTIF('Verbrauch'!$C$5:$C$104,$A65)=0,"",SUMIF('Verbrauch'!$C$5:$C$104,$A65,'Verbrauch'!$J$5:$J$104))) | D65: =IF($C65="","",IFERROR($C65/$B$5,"")) | E65: =IF($A65="","",IF(COUNTIF('Verbrauch'!$C$5:$C$104,$A65)=0,"",COUNTIFS('Verbrauch'!$C$5:$C$104,$A65,'Verbrauch'!$N$5:$N$104,"<>Gebucht"))) | F65: =IF($A65="","",IF(COUNTIF('Verbrauch'!$C$5:$C$104,$A65)=0,"",COUNTIFS('Verbrauch'!$C$5:$C$104,$A65,'Verbrauch'!$O$5:$O$104,"*prüfen")))
A66: =IF('Parameter'!$D$57="","",'Parameter'!$D$57) | B66: =IF($A66="","",'Parameter'!$E$57) | C66: =IF($A66="","",IF(COUNTIF('Verbrauch'!$C$5:$C$104,$A66)=0,"",SUMIF('Verbrauch'!$C$5:$C$104,$A66,'Verbrauch'!$J$5:$J$104))) | D66: =IF($C66="","",IFERROR($C66/$B$5,"")) | E66: =IF($A66="","",IF(COUNTIF('Verbrauch'!$C$5:$C$104,$A66)=0,"",COUNTIFS('Verbrauch'!$C$5:$C$104,$A66,'Verbrauch'!$N$5:$N$104,"<>Gebucht"))) | F66: =IF($A66="","",IF(COUNTIF('Verbrauch'!$C$5:$C$104,$A66)=0,"",COUNTIFS('Verbrauch'!$C$5:$C$104,$A66,'Verbrauch'!$O$5:$O$104,"*prüfen")))
A67: =IF('Parameter'!$D$58="","",'Parameter'!$D$58) | B67: =IF($A67="","",'Parameter'!$E$58) | C67: =IF($A67="","",IF(COUNTIF('Verbrauch'!$C$5:$C$104,$A67)=0,"",SUMIF('Verbrauch'!$C$5:$C$104,$A67,'Verbrauch'!$J$5:$J$104))) | D67: =IF($C67="","",IFERROR($C67/$B$5,"")) | E67: =IF($A67="","",IF(COUNTIF('Verbrauch'!$C$5:$C$104,$A67)=0,"",COUNTIFS('Verbrauch'!$C$5:$C$104,$A67,'Verbrauch'!$N$5:$N$104,"<>Gebucht"))) | F67: =IF($A67="","",IF(COUNTIF('Verbrauch'!$C$5:$C$104,$A67)=0,"",COUNTIFS('Verbrauch'!$C$5:$C$104,$A67,'Verbrauch'!$O$5:$O$104,"*prüfen")))
A68: =IF('Parameter'!$D$59="","",'Parameter'!$D$59) | B68: =IF($A68="","",'Parameter'!$E$59) | C68: =IF($A68="","",IF(COUNTIF('Verbrauch'!$C$5:$C$104,$A68)=0,"",SUMIF('Verbrauch'!$C$5:$C$104,$A68,'Verbrauch'!$J$5:$J$104))) | D68: =IF($C68="","",IFERROR($C68/$B$5,"")) | E68: =IF($A68="","",IF(COUNTIF('Verbrauch'!$C$5:$C$104,$A68)=0,"",COUNTIFS('Verbrauch'!$C$5:$C$104,$A68,'Verbrauch'!$N$5:$N$104,"<>Gebucht"))) | F68: =IF($A68="","",IF(COUNTIF('Verbrauch'!$C$5:$C$104,$A68)=0,"",COUNTIFS('Verbrauch'!$C$5:$C$104,$A68,'Verbrauch'!$O$5:$O$104,"*prüfen")))
A69: =IF('Parameter'!$D$60="","",'Parameter'!$D$60) | B69: =IF($A69="","",'Parameter'!$E$60) | C69: =IF($A69="","",IF(COUNTIF('Verbrauch'!$C$5:$C$104,$A69)=0,"",SUMIF('Verbrauch'!$C$5:$C$104,$A69,'Verbrauch'!$J$5:$J$104))) | D69: =IF($C69="","",IFERROR($C69/$B$5,"")) | E69: =IF($A69="","",IF(COUNTIF('Verbrauch'!$C$5:$C$104,$A69)=0,"",COUNTIFS('Verbrauch'!$C$5:$C$104,$A69,'Verbrauch'!$N$5:$N$104,"<>Gebucht"))) | F69: =IF($A69="","",IF(COUNTIF('Verbrauch'!$C$5:$C$104,$A69)=0,"",COUNTIFS('Verbrauch'!$C$5:$C$104,$A69,'Verbrauch'!$O$5:$O$104,"*prüfen")))
A70: =IF('Parameter'!$D$61="","",'Parameter'!$D$61) | B70: =IF($A70="","",'Parameter'!$E$61) | C70: =IF($A70="","",IF(COUNTIF('Verbrauch'!$C$5:$C$104,$A70)=0,"",SUMIF('Verbrauch'!$C$5:$C$104,$A70,'Verbrauch'!$J$5:$J$104))) | D70: =IF($C70="","",IFERROR($C70/$B$5,"")) | E70: =IF($A70="","",IF(COUNTIF('Verbrauch'!$C$5:$C$104,$A70)=0,"",COUNTIFS('Verbrauch'!$C$5:$C$104,$A70,'Verbrauch'!$N$5:$N$104,"<>Gebucht"))) | F70: =IF($A70="","",IF(COUNTIF('Verbrauch'!$C$5:$C$104,$A70)=0,"",COUNTIFS('Verbrauch'!$C$5:$C$104,$A70,'Verbrauch'!$O$5:$O$104,"*prüfen")))
A71: =IF('Parameter'!$D$62="","",'Parameter'!$D$62) | B71: =IF($A71="","",'Parameter'!$E$62) | C71: =IF($A71="","",IF(COUNTIF('Verbrauch'!$C$5:$C$104,$A71)=0,"",SUMIF('Verbrauch'!$C$5:$C$104,$A71,'Verbrauch'!$J$5:$J$104))) | D71: =IF($C71="","",IFERROR($C71/$B$5,"")) | E71: =IF($A71="","",IF(COUNTIF('Verbrauch'!$C$5:$C$104,$A71)=0,"",COUNTIFS('Verbrauch'!$C$5:$C$104,$A71,'Verbrauch'!$N$5:$N$104,"<>Gebucht"))) | F71: =IF($A71="","",IF(COUNTIF('Verbrauch'!$C$5:$C$104,$A71)=0,"",COUNTIFS('Verbrauch'!$C$5:$C$104,$A71,'Verbrauch'!$O$5:$O$104,"*prüfen")))
A72: =IF('Parameter'!$D$63="","",'Parameter'!$D$63) | B72: =IF($A72="","",'Parameter'!$E$63) | C72: =IF($A72="","",IF(COUNTIF('Verbrauch'!$C$5:$C$104,$A72)=0,"",SUMIF('Verbrauch'!$C$5:$C$104,$A72,'Verbrauch'!$J$5:$J$104))) | D72: =IF($C72="","",IFERROR($C72/$B$5,"")) | E72: =IF($A72="","",IF(COUNTIF('Verbrauch'!$C$5:$C$104,$A72)=0,"",COUNTIFS('Verbrauch'!$C$5:$C$104,$A72,'Verbrauch'!$N$5:$N$104,"<>Gebucht"))) | F72: =IF($A72="","",IF(COUNTIF('Verbrauch'!$C$5:$C$104,$A72)=0,"",COUNTIFS('Verbrauch'!$C$5:$C$104,$A72,'Verbrauch'!$O$5:$O$104,"*prüfen")))
A73: =IF('Parameter'!$D$64="","",'Parameter'!$D$64) | B73: =IF($A73="","",'Parameter'!$E$64) | C73: =IF($A73="","",IF(COUNTIF('Verbrauch'!$C$5:$C$104,$A73)=0,"",SUMIF('Verbrauch'!$C$5:$C$104,$A73,'Verbrauch'!$J$5:$J$104))) | D73: =IF($C73="","",IFERROR($C73/$B$5,"")) | E73: =IF($A73="","",IF(COUNTIF('Verbrauch'!$C$5:$C$104,$A73)=0,"",COUNTIFS('Verbrauch'!$C$5:$C$104,$A73,'Verbrauch'!$N$5:$N$104,"<>Gebucht"))) | F73: =IF($A73="","",IF(COUNTIF('Verbrauch'!$C$5:$C$104,$A73)=0,"",COUNTIFS('Verbrauch'!$C$5:$C$104,$A73,'Verbrauch'!$O$5:$O$104,"*prüfen")))
A74: =IF('Parameter'!$D$65="","",'Parameter'!$D$65) | B74: =IF($A74="","",'Parameter'!$E$65) | C74: =IF($A74="","",IF(COUNTIF('Verbrauch'!$C$5:$C$104,$A74)=0,"",SUMIF('Verbrauch'!$C$5:$C$104,$A74,'Verbrauch'!$J$5:$J$104))) | D74: =IF($C74="","",IFERROR($C74/$B$5,"")) | E74: =IF($A74="","",IF(COUNTIF('Verbrauch'!$C$5:$C$104,$A74)=0,"",COUNTIFS('Verbrauch'!$C$5:$C$104,$A74,'Verbrauch'!$N$5:$N$104,"<>Gebucht"))) | F74: =IF($A74="","",IF(COUNTIF('Verbrauch'!$C$5:$C$104,$A74)=0,"",COUNTIFS('Verbrauch'!$C$5:$C$104,$A74,'Verbrauch'!$O$5:$O$104,"*prüfen")))
A75: =IF('Parameter'!$D$66="","",'Parameter'!$D$66) | B75: =IF($A75="","",'Parameter'!$E$66) | C75: =IF($A75="","",IF(COUNTIF('Verbrauch'!$C$5:$C$104,$A75)=0,"",SUMIF('Verbrauch'!$C$5:$C$104,$A75,'Verbrauch'!$J$5:$J$104))) | D75: =IF($C75="","",IFERROR($C75/$B$5,"")) | E75: =IF($A75="","",IF(COUNTIF('Verbrauch'!$C$5:$C$104,$A75)=0,"",COUNTIFS('Verbrauch'!$C$5:$C$104,$A75,'Verbrauch'!$N$5:$N$104,"<>Gebucht"))) | F75: =IF($A75="","",IF(COUNTIF('Verbrauch'!$C$5:$C$104,$A75)=0,"",COUNTIFS('Verbrauch'!$C$5:$C$104,$A75,'Verbrauch'!$O$5:$O$104,"*prüfen")))
A76: =IF('Parameter'!$D$67="","",'Parameter'!$D$67) | B76: =IF($A76="","",'Parameter'!$E$67) | C76: =IF($A76="","",IF(COUNTIF('Verbrauch'!$C$5:$C$104,$A76)=0,"",SUMIF('Verbrauch'!$C$5:$C$104,$A76,'Verbrauch'!$J$5:$J$104))) | D76: =IF($C76="","",IFERROR($C76/$B$5,"")) | E76: =IF($A76="","",IF(COUNTIF('Verbrauch'!$C$5:$C$104,$A76)=0,"",COUNTIFS('Verbrauch'!$C$5:$C$104,$A76,'Verbrauch'!$N$5:$N$104,"<>Gebucht"))) | F76: =IF($A76="","",IF(COUNTIF('Verbrauch'!$C$5:$C$104,$A76)=0,"",COUNTIFS('Verbrauch'!$C$5:$C$104,$A76,'Verbrauch'!$O$5:$O$104,"*prüfen")))
A77: =IF('Parameter'!$D$68="","",'Parameter'!$D$68) | B77: =IF($A77="","",'Parameter'!$E$68) | C77: =IF($A77="","",IF(COUNTIF('Verbrauch'!$C$5:$C$104,$A77)=0,"",SUMIF('Verbrauch'!$C$5:$C$104,$A77,'Verbrauch'!$J$5:$J$104))) | D77: =IF($C77="","",IFERROR($C77/$B$5,"")) | E77: =IF($A77="","",IF(COUNTIF('Verbrauch'!$C$5:$C$104,$A77)=0,"",COUNTIFS('Verbrauch'!$C$5:$C$104,$A77,'Verbrauch'!$N$5:$N$104,"<>Gebucht"))) | F77: =IF($A77="","",IF(COUNTIF('Verbrauch'!$C$5:$C$104,$A77)=0,"",COUNTIFS('Verbrauch'!$C$5:$C$104,$A77,'Verbrauch'!$O$5:$O$104,"*prüfen")))
A78: =IF('Parameter'!$D$69="","",'Parameter'!$D$69) | B78: =IF($A78="","",'Parameter'!$E$69) | C78: =IF($A78="","",IF(COUNTIF('Verbrauch'!$C$5:$C$104,$A78)=0,"",SUMIF('Verbrauch'!$C$5:$C$104,$A78,'Verbrauch'!$J$5:$J$104))) | D78: =IF($C78="","",IFERROR($C78/$B$5,"")) | E78: =IF($A78="","",IF(COUNTIF('Verbrauch'!$C$5:$C$104,$A78)=0,"",COUNTIFS('Verbrauch'!$C$5:$C$104,$A78,'Verbrauch'!$N$5:$N$104,"<>Gebucht"))) | F78: =IF($A78="","",IF(COUNTIF('Verbrauch'!$C$5:$C$104,$A78)=0,"",COUNTIFS('Verbrauch'!$C$5:$C$104,$A78,'Verbrauch'!$O$5:$O$104,"*prüfen")))
A79: =IF('Parameter'!$D$70="","",'Parameter'!$D$70) | B79: =IF($A79="","",'Parameter'!$E$70) | C79: =IF($A79="","",IF(COUNTIF('Verbrauch'!$C$5:$C$104,$A79)=0,"",SUMIF('Verbrauch'!$C$5:$C$104,$A79,'Verbrauch'!$J$5:$J$104))) | D79: =IF($C79="","",IFERROR($C79/$B$5,"")) | E79: =IF($A79="","",IF(COUNTIF('Verbrauch'!$C$5:$C$104,$A79)=0,"",COUNTIFS('Verbrauch'!$C$5:$C$104,$A79,'Verbrauch'!$N$5:$N$104,"<>Gebucht"))) | F79: =IF($A79="","",IF(COUNTIF('Verbrauch'!$C$5:$C$104,$A79)=0,"",COUNTIFS('Verbrauch'!$C$5:$C$104,$A79,'Verbrauch'!$O$5:$O$104,"*prüfen")))
A80: =IF('Parameter'!$D$71="","",'Parameter'!$D$71) | B80: =IF($A80="","",'Parameter'!$E$71) | C80: =IF($A80="","",IF(COUNTIF('Verbrauch'!$C$5:$C$104,$A80)=0,"",SUMIF('Verbrauch'!$C$5:$C$104,$A80,'Verbrauch'!$J$5:$J$104))) | D80: =IF($C80="","",IFERROR($C80/$B$5,"")) | E80: =IF($A80="","",IF(COUNTIF('Verbrauch'!$C$5:$C$104,$A80)=0,"",COUNTIFS('Verbrauch'!$C$5:$C$104,$A80,'Verbrauch'!$N$5:$N$104,"<>Gebucht"))) | F80: =IF($A80="","",IF(COUNTIF('Verbrauch'!$C$5:$C$104,$A80)=0,"",COUNTIFS('Verbrauch'!$C$5:$C$104,$A80,'Verbrauch'!$O$5:$O$104,"*prüfen")))
A81: =IF('Parameter'!$D$72="","",'Parameter'!$D$72) | B81: =IF($A81="","",'Parameter'!$E$72) | C81: =IF($A81="","",IF(COUNTIF('Verbrauch'!$C$5:$C$104,$A81)=0,"",SUMIF('Verbrauch'!$C$5:$C$104,$A81,'Verbrauch'!$J$5:$J$104))) | D81: =IF($C81="","",IFERROR($C81/$B$5,"")) | E81: =IF($A81="","",IF(COUNTIF('Verbrauch'!$C$5:$C$104,$A81)=0,"",COUNTIFS('Verbrauch'!$C$5:$C$104,$A81,'Verbrauch'!$N$5:$N$104,"<>Gebucht"))) | F81: =IF($A81="","",IF(COUNTIF('Verbrauch'!$C$5:$C$104,$A81)=0,"",COUNTIFS('Verbrauch'!$C$5:$C$104,$A81,'Verbrauch'!$O$5:$O$104,"*prüfen")))
A82: =IF('Parameter'!$D$73="","",'Parameter'!$D$73) | B82: =IF($A82="","",'Parameter'!$E$73) | C82: =IF($A82="","",IF(COUNTIF('Verbrauch'!$C$5:$C$104,$A82)=0,"",SUMIF('Verbrauch'!$C$5:$C$104,$A82,'Verbrauch'!$J$5:$J$104))) | D82: =IF($C82="","",IFERROR($C82/$B$5,"")) | E82: =IF($A82="","",IF(COUNTIF('Verbrauch'!$C$5:$C$104,$A82)=0,"",COUNTIFS('Verbrauch'!$C$5:$C$104,$A82,'Verbrauch'!$N$5:$N$104,"<>Gebucht"))) | F82: =IF($A82="","",IF(COUNTIF('Verbrauch'!$C$5:$C$104,$A82)=0,"",COUNTIFS('Verbrauch'!$C$5:$C$104,$A82,'Verbrauch'!$O$5:$O$104,"*prüfen")))
A83: =IF('Parameter'!$D$74="","",'Parameter'!$D$74) | B83: =IF($A83="","",'Parameter'!$E$74) | C83: =IF($A83="","",IF(COUNTIF('Verbrauch'!$C$5:$C$104,$A83)=0,"",SUMIF('Verbrauch'!$C$5:$C$104,$A83,'Verbrauch'!$J$5:$J$104))) | D83: =IF($C83="","",IFERROR($C83/$B$5,"")) | E83: =IF($A83="","",IF(COUNTIF('Verbrauch'!$C$5:$C$104,$A83)=0,"",COUNTIFS('Verbrauch'!$C$5:$C$104,$A83,'Verbrauch'!$N$5:$N$104,"<>Gebucht"))) | F83: =IF($A83="","",IF(COUNTIF('Verbrauch'!$C$5:$C$104,$A83)=0,"",COUNTIFS('Verbrauch'!$C$5:$C$104,$A83,'Verbrauch'!$O$5:$O$104,"*prüfen")))
A84: =IF('Parameter'!$D$75="","",'Parameter'!$D$75) | B84: =IF($A84="","",'Parameter'!$E$75) | C84: =IF($A84="","",IF(COUNTIF('Verbrauch'!$C$5:$C$104,$A84)=0,"",SUMIF('Verbrauch'!$C$5:$C$104,$A84,'Verbrauch'!$J$5:$J$104))) | D84: =IF($C84="","",IFERROR($C84/$B$5,"")) | E84: =IF($A84="","",IF(COUNTIF('Verbrauch'!$C$5:$C$104,$A84)=0,"",COUNTIFS('Verbrauch'!$C$5:$C$104,$A84,'Verbrauch'!$N$5:$N$104,"<>Gebucht"))) | F84: =IF($A84="","",IF(COUNTIF('Verbrauch'!$C$5:$C$104,$A84)=0,"",COUNTIFS('Verbrauch'!$C$5:$C$104,$A84,'Verbrauch'!$O$5:$O$104,"*prüfen")))
A85: =IF('Parameter'!$D$76="","",'Parameter'!$D$76) | B85: =IF($A85="","",'Parameter'!$E$76) | C85: =IF($A85="","",IF(COUNTIF('Verbrauch'!$C$5:$C$104,$A85)=0,"",SUMIF('Verbrauch'!$C$5:$C$104,$A85,'Verbrauch'!$J$5:$J$104))) | D85: =IF($C85="","",IFERROR($C85/$B$5,"")) | E85: =IF($A85="","",IF(COUNTIF('Verbrauch'!$C$5:$C$104,$A85)=0,"",COUNTIFS('Verbrauch'!$C$5:$C$104,$A85,'Verbrauch'!$N$5:$N$104,"<>Gebucht"))) | F85: =IF($A85="","",IF(COUNTIF('Verbrauch'!$C$5:$C$104,$A85)=0,"",COUNTIFS('Verbrauch'!$C$5:$C$104,$A85,'Verbrauch'!$O$5:$O$104,"*prüfen")))
A86: =IF('Parameter'!$D$77="","",'Parameter'!$D$77) | B86: =IF($A86="","",'Parameter'!$E$77) | C86: =IF($A86="","",IF(COUNTIF('Verbrauch'!$C$5:$C$104,$A86)=0,"",SUMIF('Verbrauch'!$C$5:$C$104,$A86,'Verbrauch'!$J$5:$J$104))) | D86: =IF($C86="","",IFERROR($C86/$B$5,"")) | E86: =IF($A86="","",IF(COUNTIF('Verbrauch'!$C$5:$C$104,$A86)=0,"",COUNTIFS('Verbrauch'!$C$5:$C$104,$A86,'Verbrauch'!$N$5:$N$104,"<>Gebucht"))) | F86: =IF($A86="","",IF(COUNTIF('Verbrauch'!$C$5:$C$104,$A86)=0,"",COUNTIFS('Verbrauch'!$C$5:$C$104,$A86,'Verbrauch'!$O$5:$O$104,"*prüfen")))
A87: =IF('Parameter'!$D$78="","",'Parameter'!$D$78) | B87: =IF($A87="","",'Parameter'!$E$78) | C87: =IF($A87="","",IF(COUNTIF('Verbrauch'!$C$5:$C$104,$A87)=0,"",SUMIF('Verbrauch'!$C$5:$C$104,$A87,'Verbrauch'!$J$5:$J$104))) | D87: =IF($C87="","",IFERROR($C87/$B$5,"")) | E87: =IF($A87="","",IF(COUNTIF('Verbrauch'!$C$5:$C$104,$A87)=0,"",COUNTIFS('Verbrauch'!$C$5:$C$104,$A87,'Verbrauch'!$N$5:$N$104,"<>Gebucht"))) | F87: =IF($A87="","",IF(COUNTIF('Verbrauch'!$C$5:$C$104,$A87)=0,"",COUNTIFS('Verbrauch'!$C$5:$C$104,$A87,'Verbrauch'!$O$5:$O$104,"*prüfen")))
A88: =IF('Parameter'!$D$79="","",'Parameter'!$D$79) | B88: =IF($A88="","",'Parameter'!$E$79) | C88: =IF($A88="","",IF(COUNTIF('Verbrauch'!$C$5:$C$104,$A88)=0,"",SUMIF('Verbrauch'!$C$5:$C$104,$A88,'Verbrauch'!$J$5:$J$104))) | D88: =IF($C88="","",IFERROR($C88/$B$5,"")) | E88: =IF($A88="","",IF(COUNTIF('Verbrauch'!$C$5:$C$104,$A88)=0,"",COUNTIFS('Verbrauch'!$C$5:$C$104,$A88,'Verbrauch'!$N$5:$N$104,"<>Gebucht"))) | F88: =IF($A88="","",IF(COUNTIF('Verbrauch'!$C$5:$C$104,$A88)=0,"",COUNTIFS('Verbrauch'!$C$5:$C$104,$A88,'Verbrauch'!$O$5:$O$104,"*prüfen")))
A89: =IF('Parameter'!$D$80="","",'Parameter'!$D$80) | B89: =IF($A89="","",'Parameter'!$E$80) | C89: =IF($A89="","",IF(COUNTIF('Verbrauch'!$C$5:$C$104,$A89)=0,"",SUMIF('Verbrauch'!$C$5:$C$104,$A89,'Verbrauch'!$J$5:$J$104))) | D89: =IF($C89="","",IFERROR($C89/$B$5,"")) | E89: =IF($A89="","",IF(COUNTIF('Verbrauch'!$C$5:$C$104,$A89)=0,"",COUNTIFS('Verbrauch'!$C$5:$C$104,$A89,'Verbrauch'!$N$5:$N$104,"<>Gebucht"))) | F89: =IF($A89="","",IF(COUNTIF('Verbrauch'!$C$5:$C$104,$A89)=0,"",COUNTIFS('Verbrauch'!$C$5:$C$104,$A89,'Verbrauch'!$O$5:$O$104,"*prüfen")))
A90: =IF('Parameter'!$D$81="","",'Parameter'!$D$81) | B90: =IF($A90="","",'Parameter'!$E$81) | C90: =IF($A90="","",IF(COUNTIF('Verbrauch'!$C$5:$C$104,$A90)=0,"",SUMIF('Verbrauch'!$C$5:$C$104,$A90,'Verbrauch'!$J$5:$J$104))) | D90: =IF($C90="","",IFERROR($C90/$B$5,"")) | E90: =IF($A90="","",IF(COUNTIF('Verbrauch'!$C$5:$C$104,$A90)=0,"",COUNTIFS('Verbrauch'!$C$5:$C$104,$A90,'Verbrauch'!$N$5:$N$104,"<>Gebucht"))) | F90: =IF($A90="","",IF(COUNTIF('Verbrauch'!$C$5:$C$104,$A90)=0,"",COUNTIFS('Verbrauch'!$C$5:$C$104,$A90,'Verbrauch'!$O$5:$O$104,"*prüfen")))
A91: =IF('Parameter'!$D$82="","",'Parameter'!$D$82) | B91: =IF($A91="","",'Parameter'!$E$82) | C91: =IF($A91="","",IF(COUNTIF('Verbrauch'!$C$5:$C$104,$A91)=0,"",SUMIF('Verbrauch'!$C$5:$C$104,$A91,'Verbrauch'!$J$5:$J$104))) | D91: =IF($C91="","",IFERROR($C91/$B$5,"")) | E91: =IF($A91="","",IF(COUNTIF('Verbrauch'!$C$5:$C$104,$A91)=0,"",COUNTIFS('Verbrauch'!$C$5:$C$104,$A91,'Verbrauch'!$N$5:$N$104,"<>Gebucht"))) | F91: =IF($A91="","",IF(COUNTIF('Verbrauch'!$C$5:$C$104,$A91)=0,"",COUNTIFS('Verbrauch'!$C$5:$C$104,$A91,'Verbrauch'!$O$5:$O$104,"*prüfen")))
A92: =IF('Parameter'!$D$83="","",'Parameter'!$D$83) | B92: =IF($A92="","",'Parameter'!$E$83) | C92: =IF($A92="","",IF(COUNTIF('Verbrauch'!$C$5:$C$104,$A92)=0,"",SUMIF('Verbrauch'!$C$5:$C$104,$A92,'Verbrauch'!$J$5:$J$104))) | D92: =IF($C92="","",IFERROR($C92/$B$5,"")) | E92: =IF($A92="","",IF(COUNTIF('Verbrauch'!$C$5:$C$104,$A92)=0,"",COUNTIFS('Verbrauch'!$C$5:$C$104,$A92,'Verbrauch'!$N$5:$N$104,"<>Gebucht"))) | F92: =IF($A92="","",IF(COUNTIF('Verbrauch'!$C$5:$C$104,$A92)=0,"",COUNTIFS('Verbrauch'!$C$5:$C$104,$A92,'Verbrauch'!$O$5:$O$104,"*prüfen")))
A93: =IF('Parameter'!$D$84="","",'Parameter'!$D$84) | B93: =IF($A93="","",'Parameter'!$E$84) | C93: =IF($A93="","",IF(COUNTIF('Verbrauch'!$C$5:$C$104,$A93)=0,"",SUMIF('Verbrauch'!$C$5:$C$104,$A93,'Verbrauch'!$J$5:$J$104))) | D93: =IF($C93="","",IFERROR($C93/$B$5,"")) | E93: =IF($A93="","",IF(COUNTIF('Verbrauch'!$C$5:$C$104,$A93)=0,"",COUNTIFS('Verbrauch'!$C$5:$C$104,$A93,'Verbrauch'!$N$5:$N$104,"<>Gebucht"))) | F93: =IF($A93="","",IF(COUNTIF('Verbrauch'!$C$5:$C$104,$A93)=0,"",COUNTIFS('Verbrauch'!$C$5:$C$104,$A93,'Verbrauch'!$O$5:$O$104,"*prüfen")))
A94: =IF('Parameter'!$D$85="","",'Parameter'!$D$85) | B94: =IF($A94="","",'Parameter'!$E$85) | C94: =IF($A94="","",IF(COUNTIF('Verbrauch'!$C$5:$C$104,$A94)=0,"",SUMIF('Verbrauch'!$C$5:$C$104,$A94,'Verbrauch'!$J$5:$J$104))) | D94: =IF($C94="","",IFERROR($C94/$B$5,"")) | E94: =IF($A94="","",IF(COUNTIF('Verbrauch'!$C$5:$C$104,$A94)=0,"",COUNTIFS('Verbrauch'!$C$5:$C$104,$A94,'Verbrauch'!$N$5:$N$104,"<>Gebucht"))) | F94: =IF($A94="","",IF(COUNTIF('Verbrauch'!$C$5:$C$104,$A94)=0,"",COUNTIFS('Verbrauch'!$C$5:$C$104,$A94,'Verbrauch'!$O$5:$O$104,"*prüfen")))
A95: =IF('Parameter'!$D$86="","",'Parameter'!$D$86) | B95: =IF($A95="","",'Parameter'!$E$86) | C95: =IF($A95="","",IF(COUNTIF('Verbrauch'!$C$5:$C$104,$A95)=0,"",SUMIF('Verbrauch'!$C$5:$C$104,$A95,'Verbrauch'!$J$5:$J$104))) | D95: =IF($C95="","",IFERROR($C95/$B$5,"")) | E95: =IF($A95="","",IF(COUNTIF('Verbrauch'!$C$5:$C$104,$A95)=0,"",COUNTIFS('Verbrauch'!$C$5:$C$104,$A95,'Verbrauch'!$N$5:$N$104,"<>Gebucht"))) | F95: =IF($A95="","",IF(COUNTIF('Verbrauch'!$C$5:$C$104,$A95)=0,"",COUNTIFS('Verbrauch'!$C$5:$C$104,$A95,'Verbrauch'!$O$5:$O$104,"*prüfen")))
A96: =IF('Parameter'!$D$87="","",'Parameter'!$D$87) | B96: =IF($A96="","",'Parameter'!$E$87) | C96: =IF($A96="","",IF(COUNTIF('Verbrauch'!$C$5:$C$104,$A96)=0,"",SUMIF('Verbrauch'!$C$5:$C$104,$A96,'Verbrauch'!$J$5:$J$104))) | D96: =IF($C96="","",IFERROR($C96/$B$5,"")) | E96: =IF($A96="","",IF(COUNTIF('Verbrauch'!$C$5:$C$104,$A96)=0,"",COUNTIFS('Verbrauch'!$C$5:$C$104,$A96,'Verbrauch'!$N$5:$N$104,"<>Gebucht"))) | F96: =IF($A96="","",IF(COUNTIF('Verbrauch'!$C$5:$C$104,$A96)=0,"",COUNTIFS('Verbrauch'!$C$5:$C$104,$A96,'Verbrauch'!$O$5:$O$104,"*prüfen")))
A97: =IF('Parameter'!$D$88="","",'Parameter'!$D$88) | B97: =IF($A97="","",'Parameter'!$E$88) | C97: =IF($A97="","",IF(COUNTIF('Verbrauch'!$C$5:$C$104,$A97)=0,"",SUMIF('Verbrauch'!$C$5:$C$104,$A97,'Verbrauch'!$J$5:$J$104))) | D97: =IF($C97="","",IFERROR($C97/$B$5,"")) | E97: =IF($A97="","",IF(COUNTIF('Verbrauch'!$C$5:$C$104,$A97)=0,"",COUNTIFS('Verbrauch'!$C$5:$C$104,$A97,'Verbrauch'!$N$5:$N$104,"<>Gebucht"))) | F97: =IF($A97="","",IF(COUNTIF('Verbrauch'!$C$5:$C$104,$A97)=0,"",COUNTIFS('Verbrauch'!$C$5:$C$104,$A97,'Verbrauch'!$O$5:$O$104,"*prüfen")))
A98: =IF('Parameter'!$D$89="","",'Parameter'!$D$89) | B98: =IF($A98="","",'Parameter'!$E$89) | C98: =IF($A98="","",IF(COUNTIF('Verbrauch'!$C$5:$C$104,$A98)=0,"",SUMIF('Verbrauch'!$C$5:$C$104,$A98,'Verbrauch'!$J$5:$J$104))) | D98: =IF($C98="","",IFERROR($C98/$B$5,"")) | E98: =IF($A98="","",IF(COUNTIF('Verbrauch'!$C$5:$C$104,$A98)=0,"",COUNTIFS('Verbrauch'!$C$5:$C$104,$A98,'Verbrauch'!$N$5:$N$104,"<>Gebucht"))) | F98: =IF($A98="","",IF(COUNTIF('Verbrauch'!$C$5:$C$104,$A98)=0,"",COUNTIFS('Verbrauch'!$C$5:$C$104,$A98,'Verbrauch'!$O$5:$O$104,"*prüfen")))
A99: =IF('Parameter'!$D$90="","",'Parameter'!$D$90) | B99: =IF($A99="","",'Parameter'!$E$90) | C99: =IF($A99="","",IF(COUNTIF('Verbrauch'!$C$5:$C$104,$A99)=0,"",SUMIF('Verbrauch'!$C$5:$C$104,$A99,'Verbrauch'!$J$5:$J$104))) | D99: =IF($C99="","",IFERROR($C99/$B$5,"")) | E99: =IF($A99="","",IF(COUNTIF('Verbrauch'!$C$5:$C$104,$A99)=0,"",COUNTIFS('Verbrauch'!$C$5:$C$104,$A99,'Verbrauch'!$N$5:$N$104,"<>Gebucht"))) | F99: =IF($A99="","",IF(COUNTIF('Verbrauch'!$C$5:$C$104,$A99)=0,"",COUNTIFS('Verbrauch'!$C$5:$C$104,$A99,'Verbrauch'!$O$5:$O$104,"*prüfen")))
A100: =IF('Parameter'!$D$91="","",'Parameter'!$D$91) | B100: =IF($A100="","",'Parameter'!$E$91) | C100: =IF($A100="","",IF(COUNTIF('Verbrauch'!$C$5:$C$104,$A100)=0,"",SUMIF('Verbrauch'!$C$5:$C$104,$A100,'Verbrauch'!$J$5:$J$104))) | D100: =IF($C100="","",IFERROR($C100/$B$5,"")) | E100: =IF($A100="","",IF(COUNTIF('Verbrauch'!$C$5:$C$104,$A100)=0,"",COUNTIFS('Verbrauch'!$C$5:$C$104,$A100,'Verbrauch'!$N$5:$N$104,"<>Gebucht"))) | F100: =IF($A100="","",IF(COUNTIF('Verbrauch'!$C$5:$C$104,$A100)=0,"",COUNTIFS('Verbrauch'!$C$5:$C$104,$A100,'Verbrauch'!$O$5:$O$104,"*prüfen")))
A101: =IF('Parameter'!$D$92="","",'Parameter'!$D$92) | B101: =IF($A101="","",'Parameter'!$E$92) | C101: =IF($A101="","",IF(COUNTIF('Verbrauch'!$C$5:$C$104,$A101)=0,"",SUMIF('Verbrauch'!$C$5:$C$104,$A101,'Verbrauch'!$J$5:$J$104))) | D101: =IF($C101="","",IFERROR($C101/$B$5,"")) | E101: =IF($A101="","",IF(COUNTIF('Verbrauch'!$C$5:$C$104,$A101)=0,"",COUNTIFS('Verbrauch'!$C$5:$C$104,$A101,'Verbrauch'!$N$5:$N$104,"<>Gebucht"))) | F101: =IF($A101="","",IF(COUNTIF('Verbrauch'!$C$5:$C$104,$A101)=0,"",COUNTIFS('Verbrauch'!$C$5:$C$104,$A101,'Verbrauch'!$O$5:$O$104,"*prüfen")))
A102: =IF('Parameter'!$D$93="","",'Parameter'!$D$93) | B102: =IF($A102="","",'Parameter'!$E$93) | C102: =IF($A102="","",IF(COUNTIF('Verbrauch'!$C$5:$C$104,$A102)=0,"",SUMIF('Verbrauch'!$C$5:$C$104,$A102,'Verbrauch'!$J$5:$J$104))) | D102: =IF($C102="","",IFERROR($C102/$B$5,"")) | E102: =IF($A102="","",IF(COUNTIF('Verbrauch'!$C$5:$C$104,$A102)=0,"",COUNTIFS('Verbrauch'!$C$5:$C$104,$A102,'Verbrauch'!$N$5:$N$104,"<>Gebucht"))) | F102: =IF($A102="","",IF(COUNTIF('Verbrauch'!$C$5:$C$104,$A102)=0,"",COUNTIFS('Verbrauch'!$C$5:$C$104,$A102,'Verbrauch'!$O$5:$O$104,"*prüfen")))
...

Sheet Verbrauch
A1: Materialverbrauch je Reinigungsobjekt
A2: Grün = Eingabe. Objekt- und Material-IDs müssen im Blatt Parameter vorhanden sein. Prüfhinweise fordern ausschließlich eine manuelle Prüfung.
A4: Vorgangs-ID | B4: Datum | C4: Objekt-ID | D4: Material-ID | E4: Reinigungsbereich | F4: Intervall | G4: Menge | H4: Einheit | I4: Einzelpreis | J4: Materialkosten | K4: Objektfläche | L4: Zuständigkeit | M4: Kosten je 100 m² | N4: Status | O4: Prüfhinweis
A5: V-2026-001 | B5: 46239 | C5: O-101 | D5: M-201 | E5: Büroflächen | F5: täglich | G5: 12.5 | H5: =IF(OR($A5="",$D5=""),"",IFERROR(VLOOKUP($D5,'Parameter'!$I$5:$L$104,3,FALSE),"")) | I5: =IF(OR($A5="",$D5=""),"",IFERROR(VLOOKUP($D5,'Parameter'!$I$5:$L$104,4,FALSE),"")) | J5: =IF(OR($A5="",$G5="",$I5=""),"",IFERROR($G5*$I5,"")) | K5: =IF(OR($A5="",$C5=""),"",IFERROR(VLOOKUP($C5,'Parameter'!$D$5:$G$104,3,FALSE),"")) | L5: =IF(OR($A5="",$C5=""),"",IFERROR(VLOOKUP($C5,'Parameter'!$D$5:$G$104,4,FALSE),"")) | M5: =IF(OR($A5="",$J5="",$K5=""),"",IFERROR($J5/$K5*100,"")) | N5: Gebucht | O5: =IF($A5="","",IF(OR($C5="",$D5="",$G5="",$N5=""),"Eingaben prüfen",IF(OR($H5="",$I5="",$K5="",$L5=""),"Stammdaten prüfen",IF(OR($J5>'Parameter'!$B$10,$M5>'Parameter'!$B$11),"Manuell prüfen","Unauffällig"))))
A6: V-2026-002 | B6: 46243 | C6: O-101 | D6: M-204 | E6: Teeküchen | F6: wöchentlich | G6: 200 | H6: =IF(OR($A6="",$D6=""),"",IFERROR(VLOOKUP($D6,'Parameter'!$I$5:$L$104,3,FALSE),"")) | I6: =IF(OR($A6="",$D6=""),"",IFERROR(VLOOKUP($D6,'Parameter'!$I$5:$L$104,4,FALSE),"")) | J6: =IF(OR($A6="",$G6="",$I6=""),"",IFERROR($G6*$I6,"")) | K6: =IF(OR($A6="",$C6=""),"",IFERROR(VLOOKUP($C6,'Parameter'!$D$5:$G$104,3,FALSE),"")) | L6: =IF(OR($A6="",$C6=""),"",IFERROR(VLOOKUP($C6,'Parameter'!$D$5:$G$104,4,FALSE),"")) | M6: =IF(OR($A6="",$J6="",$K6=""),"",IFERROR($J6/$K6*100,"")) | N6: Gebucht | O6: =IF($A6="","",IF(OR($C6="",$D6="",$G6="",$N6=""),"Eingaben prüfen",IF(OR($H6="",$I6="",$K6="",$L6=""),"Stammdaten prüfen",IF(OR($J6>'Parameter'!$B$10,$M6>'Parameter'!$B$11),"Manuell prüfen","Unauffällig"))))
A7: V-2026-003 | B7: 46247 | C7: O-102 | D7: M-202 | E7: Sanitärbereich | F7: täglich | G7: 8 | H7: =IF(OR($A7="",$D7=""),"",IFERROR(VLOOKUP($D7,'Parameter'!$I$5:$L$104,3,FALSE),"")) | I7: =IF(OR($A7="",$D7=""),"",IFERROR(VLOOKUP($D7,'Parameter'!$I$5:$L$104,4,FALSE),"")) | J7: =IF(OR($A7="",$G7="",$I7=""),"",IFERROR($G7*$I7,"")) | K7: =IF(OR($A7="",$C7=""),"",IFERROR(VLOOKUP($C7,'Parameter'!$D$5:$G$104,3,FALSE),"")) | L7: =IF(OR($A7="",$C7=""),"",IFERROR(VLOOKUP($C7,'Parameter'!$D$5:$G$104,4,FALSE),"")) | M7: =IF(OR($A7="",$J7="",$K7=""),"",IFERROR($J7/$K7*100,"")) | N7: Geprüft | O7: =IF($A7="","",IF(OR($C7="",$D7="",$G7="",$N7=""),"Eingaben prüfen",IF(OR($H7="",$I7="",$K7="",$L7=""),"Stammdaten prüfen",IF(OR($J7>'Parameter'!$B$10,$M7>'Parameter'!$B$11),"Manuell prüfen","Unauffällig"))))
A8: V-2026-004 | B8: 46251 | C8: O-102 | D8: M-205 | E8: Büroflächen | F8: 2× wöchentlich | G8: 20 | H8: =IF(OR($A8="",$D8=""),"",IFERROR(VLOOKUP($D8,'Parameter'!$I$5:$L$104,3,FALSE),"")) | I8: =IF(OR($A8="",$D8=""),"",IFERROR(VLOOKUP($D8,'Parameter'!$I$5:$L$104,4,FALSE),"")) | J8: =IF(OR($A8="",$G8="",$I8=""),"",IFERROR($G8*$I8,"")) | K8: =IF(OR($A8="",$C8=""),"",IFERROR(VLOOKUP($C8,'Parameter'!$D$5:$G$104,3,FALSE),"")) | L8: =IF(OR($A8="",$C8=""),"",IFERROR(VLOOKUP($C8,'Parameter'!$D$5:$G$104,4,FALSE),"")) | M8: =IF(OR($A8="",$J8="",$K8=""),"",IFERROR($J8/$K8*100,"")) | N8: Gebucht | O8: =IF($A8="","",IF(OR($C8="",$D8="",$G8="",$N8=""),"Eingaben prüfen",IF(OR($H8="",$I8="",$K8="",$L8=""),"Stammdaten prüfen",IF(OR($J8>'Parameter'!$B$10,$M8>'Parameter'!$B$11),"Manuell prüfen","Unauffällig"))))
A9: V-2026-005 | B9: 46255 | C9: O-103 | D9: M-203 | E9: Glasflächen | F9: monatlich | G9: 10 | H9: =IF(OR($A9="",$D9=""),"",IFERROR(VLOOKUP($D9,'Parameter'!$I$5:$L$104,3,FALSE),"")) | I9: =IF(OR($A9="",$D9=""),"",IFERROR(VLOOKUP($D9,'Parameter'!$I$5:$L$104,4,FALSE),"")) | J9: =IF(OR($A9="",$G9="",$I9=""),"",IFERROR($G9*$I9,"")) | K9: =IF(OR($A9="",$C9=""),"",IFERROR(VLOOKUP($C9,'Parameter'!$D$5:$G$104,3,FALSE),"")) | L9: =IF(OR($A9="",$C9=""),"",IFERROR(VLOOKUP($C9,'Parameter'!$D$5:$G$104,4,FALSE),"")) | M9: =IF(OR($A9="",$J9="",$K9=""),"",IFERROR($J9/$K9*100,"")) | N9: Erfasst | O9: =IF($A9="","",IF(OR($C9="",$D9="",$G9="",$N9=""),"Eingaben prüfen",IF(OR($H9="",$I9="",$K9="",$L9=""),"Stammdaten prüfen",IF(OR($J9>'Parameter'!$B$10,$M9>'Parameter'!$B$11),"Manuell prüfen","Unauffällig"))))
A10: V-2026-006 | B10: 46259 | C10: O-103 | D10: M-201 | E10: Verkehrsflächen | F10: täglich | G10: 15 | H10: =IF(OR($A10="",$D10=""),"",IFERROR(VLOOKUP($D10,'Parameter'!$I$5:$L$104,3,FALSE),"")) | I10: =IF(OR($A10="",$D10=""),"",IFERROR(VLOOKUP($D10,'Parameter'!$I$5:$L$104,4,FALSE),"")) | J10: =IF(OR($A10="",$G10="",$I10=""),"",IFERROR($G10*$I10,"")) | K10: =IF(OR($A10="",$C10=""),"",IFERROR(VLOOKUP($C10,'Parameter'!$D$5:$G$104,3,FALSE),"")) | L10: =IF(OR($A10="",$C10=""),"",IFERROR(VLOOKUP($C10,'Parameter'!$D$5:$G$104,4,FALSE),"")) | M10: =IF(OR($A10="",$J10="",$K10=""),"",IFERROR($J10/$K10*100,"")) | N10: Gebucht | O10: =IF($A10="","",IF(OR($C10="",$D10="",$G10="",$N10=""),"Eingaben prüfen",IF(OR($H10="",$I10="",$K10="",$L10=""),"Stammdaten prüfen",IF(OR($J10>'Parameter'!$B$10,$M10>'Parameter'!$B$11),"Manuell prüfen","Unauffällig"))))
A11: V-2026-007 | B11: 46263 | C11: O-104 | D11: M-204 | E11: Abfallstationen | F11: täglich | G11: 350 | H11: =IF(OR($A11="",$D11=""),"",IFERROR(VLOOKUP($D11,'Parameter'!$I$5:$L$104,3,FALSE),"")) | I11: =IF(OR($A11="",$D11=""),"",IFERROR(VLOOKUP($D11,'Parameter'!$I$5:$L$104,4,FALSE),"")) | J11: =IF(OR($A11="",$G11="",$I11=""),"",IFERROR($G11*$I11,"")) | K11: =IF(OR($A11="",$C11=""),"",IFERROR(VLOOKUP($C11,'Parameter'!$D$5:$G$104,3,FALSE),"")) | L11: =IF(OR($A11="",$C11=""),"",IFERROR(VLOOKUP($C11,'Parameter'!$D$5:$G$104,4,FALSE),"")) | M11: =IF(OR($A11="",$J11="",$K11=""),"",IFERROR($J11/$K11*100,"")) | N11: Geprüft | O11: =IF($A11="","",IF(OR($C11="",$D11="",$G11="",$N11=""),"Eingaben prüfen",IF(OR($H11="",$I11="",$K11="",$L11=""),"Stammdaten prüfen",IF(OR($J11>'Parameter'!$B$10,$M11>'Parameter'!$B$11),"Manuell prüfen","Unauffällig"))))
A12: V-2026-008 | B12: 46266 | C12: O-104 | D12: M-202 | E12: Sanitärbereich | F12: täglich | G12: 11 | H12: =IF(OR($A12="",$D12=""),"",IFERROR(VLOOKUP($D12,'Parameter'!$I$5:$L$104,3,FALSE),"")) | I12: =IF(OR($A12="",$D12=""),"",IFERROR(VLOOKUP($D12,'Parameter'!$I$5:$L$104,4,FALSE),"")) | J12: =IF(OR($A12="",$G12="",$I12=""),"",IFERROR($G12*$I12,"")) | K12: =IF(OR($A12="",$C12=""),"",IFERROR(VLOOKUP($C12,'Parameter'!$D$5:$G$104,3,FALSE),"")) | L12: =IF(OR($A12="",$C12=""),"",IFERROR(VLOOKUP($C12,'Parameter'!$D$5:$G$104,4,FALSE),"")) | M12: =IF(OR($A12="",$J12="",$K12=""),"",IFERROR($J12/$K12*100,"")) | N12: Gebucht | O12: =IF($A12="","",IF(OR($C12="",$D12="",$G12="",$N12=""),"Eingaben prüfen",IF(OR($H12="",$I12="",$K12="",$L12=""),"Stammdaten prüfen",IF(OR($J12>'Parameter'!$B$10,$M12>'Parameter'!$B$11),"Manuell prüfen","Unauffällig"))))
A13: V-2026-009 | B13: 46269 | C13: O-105 | D13: M-206 | E13: Teeküchen | F13: wöchentlich | G13: 6 | H13: =IF(OR($A13="",$D13=""),"",IFERROR(VLOOKUP($D13,'Parameter'!$I$5:$L$104,3,FALSE),"")) | I13: =IF(OR($A13="",$D13=""),"",IFERROR(VLOOKUP($D13,'Parameter'!$I$5:$L$104,4,FALSE),"")) | J13: =IF(OR($A13="",$G13="",$I13=""),"",IFERROR($G13*$I13,"")) | K13: =IF(OR($A13="",$C13=""),"",IFERROR(VLOOKUP($C13,'Parameter'!$D$5:$G$104,3,FALSE),"")) | L13: =IF(OR($A13="",$C13=""),"",IFERROR(VLOOKUP($C13,'Parameter'!$D$5:$G$104,4,FALSE),"")) | M13: =IF(OR($A13="",$J13="",$K13=""),"",IFERROR($J13/$K13*100,"")) | N13: Erfasst | O13: =IF($A13="","",IF(OR($C13="",$D13="",$G13="",$N13=""),"Eingaben prüfen",IF(OR($H13="",$I13="",$K13="",$L13=""),"Stammdaten prüfen",IF(OR($J13>'Parameter'!$B$10,$M13>'Parameter'!$B$11),"Manuell prüfen","Unauffällig"))))
A14: V-2026-010 | B14: 46272 | C14: O-105 | D14: M-205 | E14: Büroflächen | F14: 2× wöchentlich | G14: 16 | H14: =IF(OR($A14="",$D14=""),"",IFERROR(VLOOKUP($D14,'Parameter'!$I$5:$L$104,3,FALSE),"")) | I14: =IF(OR($A14="",$D14=""),"",IFERROR(VLOOKUP($D14,'Parameter'!$I$5:$L$104,4,FALSE),"")) | J14: =IF(OR($A14="",$G14="",$I14=""),"",IFERROR($G14*$I14,"")) | K14: =IF(OR($A14="",$C14=""),"",IFERROR(VLOOKUP($C14,'Parameter'!$D$5:$G$104,3,FALSE),"")) | L14: =IF(OR($A14="",$C14=""),"",IFERROR(VLOOKUP($C14,'Parameter'!$D$5:$G$104,4,FALSE),"")) | M14: =IF(OR($A14="",$J14="",$K14=""),"",IFERROR($J14/$K14*100,"")) | N14: Gebucht | O14: =IF($A14="","",IF(OR($C14="",$D14="",$G14="",$N14=""),"Eingaben prüfen",IF(OR($H14="",$I14="",$K14="",$L14=""),"Stammdaten prüfen",IF(OR($J14>'Parameter'!$B$10,$M14>'Parameter'!$B$11),"Manuell prüfen","Unauffällig"))))
H15: =IF(OR($A15="",$D15=""),"",IFERROR(VLOOKUP($D15,'Parameter'!$I$5:$L$104,3,FALSE),"")) | I15: =IF(OR($A15="",$D15=""),"",IFERROR(VLOOKUP($D15,'Parameter'!$I$5:$L$104,4,FALSE),"")) | J15: =IF(OR($A15="",$G15="",$I15=""),"",IFERROR($G15*$I15,"")) | K15: =IF(OR($A15="",$C15=""),"",IFERROR(VLOOKUP($C15,'Parameter'!$D$5:$G$104,3,FALSE),"")) | L15: =IF(OR($A15="",$C15=""),"",IFERROR(VLOOKUP($C15,'Parameter'!$D$5:$G$104,4,FALSE),"")) | M15: =IF(OR($A15="",$J15="",$K15=""),"",IFERROR($J15/$K15*100,"")) | O15: =IF($A15="","",IF(OR($C15="",$D15="",$G15="",$N15=""),"Eingaben prüfen",IF(OR($H15="",$I15="",$K15="",$L15=""),"Stammdaten prüfen",IF(OR($J15>'Parameter'!$B$10,$M15>'Parameter'!$B$11),"Manuell prüfen","Unauffällig"))))
H16: =IF(OR($A16="",$D16=""),"",IFERROR(VLOOKUP($D16,'Parameter'!$I$5:$L$104,3,FALSE),"")) | I16: =IF(OR($A16="",$D16=""),"",IFERROR(VLOOKUP($D16,'Parameter'!$I$5:$L$104,4,FALSE),"")) | J16: =IF(OR($A16="",$G16="",$I16=""),"",IFERROR($G16*$I16,"")) | K16: =IF(OR($A16="",$C16=""),"",IFERROR(VLOOKUP($C16,'Parameter'!$D$5:$G$104,3,FALSE),"")) | L16: =IF(OR($A16="",$C16=""),"",IFERROR(VLOOKUP($C16,'Parameter'!$D$5:$G$104,4,FALSE),"")) | M16: =IF(OR($A16="",$J16="",$K16=""),"",IFERROR($J16/$K16*100,"")) | O16: =IF($A16="","",IF(OR($C16="",$D16="",$G16="",$N16=""),"Eingaben prüfen",IF(OR($H16="",$I16="",$K16="",$L16=""),"Stammdaten prüfen",IF(OR($J16>'Parameter'!$B$10,$M16>'Parameter'!$B$11),"Manuell prüfen","Unauffällig"))))
H17: =IF(OR($A17="",$D17=""),"",IFERROR(VLOOKUP($D17,'Parameter'!$I$5:$L$104,3,FALSE),"")) | I17: =IF(OR($A17="",$D17=""),"",IFERROR(VLOOKUP($D17,'Parameter'!$I$5:$L$104,4,FALSE),"")) | J17: =IF(OR($A17="",$G17="",$I17=""),"",IFERROR($G17*$I17,"")) | K17: =IF(OR($A17="",$C17=""),"",IFERROR(VLOOKUP($C17,'Parameter'!$D$5:$G$104,3,FALSE),"")) | L17: =IF(OR($A17="",$C17=""),"",IFERROR(VLOOKUP($C17,'Parameter'!$D$5:$G$104,4,FALSE),"")) | M17: =IF(OR($A17="",$J17="",$K17=""),"",IFERROR($J17/$K17*100,"")) | O17: =IF($A17="","",IF(OR($C17="",$D17="",$G17="",$N17=""),"Eingaben prüfen",IF(OR($H17="",$I17="",$K17="",$L17=""),"Stammdaten prüfen",IF(OR($J17>'Parameter'!$B$10,$M17>'Parameter'!$B$11),"Manuell prüfen","Unauffällig"))))
H18: =IF(OR($A18="",$D18=""),"",IFERROR(VLOOKUP($D18,'Parameter'!$I$5:$L$104,3,FALSE),"")) | I18: =IF(OR($A18="",$D18=""),"",IFERROR(VLOOKUP($D18,'Parameter'!$I$5:$L$104,4,FALSE),"")) | J18: =IF(OR($A18="",$G18="",$I18=""),"",IFERROR($G18*$I18,"")) | K18: =IF(OR($A18="",$C18=""),"",IFERROR(VLOOKUP($C18,'Parameter'!$D$5:$G$104,3,FALSE),"")) | L18: =IF(OR($A18="",$C18=""),"",IFERROR(VLOOKUP($C18,'Parameter'!$D$5:$G$104,4,FALSE),"")) | M18: =IF(OR($A18="",$J18="",$K18=""),"",IFERROR($J18/$K18*100,"")) | O18: =IF($A18="","",IF(OR($C18="",$D18="",$G18="",$N18=""),"Eingaben prüfen",IF(OR($H18="",$I18="",$K18="",$L18=""),"Stammdaten prüfen",IF(OR($J18>'Parameter'!$B$10,$M18>'Parameter'!$B$11),"Manuell prüfen","Unauffällig"))))
H19: =IF(OR($A19="",$D19=""),"",IFERROR(VLOOKUP($D19,'Parameter'!$I$5:$L$104,3,FALSE),"")) | I19: =IF(OR($A19="",$D19=""),"",IFERROR(VLOOKUP($D19,'Parameter'!$I$5:$L$104,4,FALSE),"")) | J19: =IF(OR($A19="",$G19="",$I19=""),"",IFERROR($G19*$I19,"")) | K19: =IF(OR($A19="",$C19=""),"",IFERROR(VLOOKUP($C19,'Parameter'!$D$5:$G$104,3,FALSE),"")) | L19: =IF(OR($A19="",$C19=""),"",IFERROR(VLOOKUP($C19,'Parameter'!$D$5:$G$104,4,FALSE),"")) | M19: =IF(OR($A19="",$J19="",$K19=""),"",IFERROR($J19/$K19*100,"")) | O19: =IF($A19="","",IF(OR($C19="",$D19="",$G19="",$N19=""),"Eingaben prüfen",IF(OR($H19="",$I19="",$K19="",$L19=""),"Stammdaten prüfen",IF(OR($J19>'Parameter'!$B$10,$M19>'Parameter'!$B$11),"Manuell prüfen","Unauffällig"))))
H20: =IF(OR($A20="",$D20=""),"",IFERROR(VLOOKUP($D20,'Parameter'!$I$5:$L$104,3,FALSE),"")) | I20: =IF(OR($A20="",$D20=""),"",IFERROR(VLOOKUP($D20,'Parameter'!$I$5:$L$104,4,FALSE),"")) | J20: =IF(OR($A20="",$G20="",$I20=""),"",IFERROR($G20*$I20,"")) | K20: =IF(OR($A20="",$C20=""),"",IFERROR(VLOOKUP($C20,'Parameter'!$D$5:$G$104,3,FALSE),"")) | L20: =IF(OR($A20="",$C20=""),"",IFERROR(VLOOKUP($C20,'Parameter'!$D$5:$G$104,4,FALSE),"")) | M20: =IF(OR($A20="",$J20="",$K20=""),"",IFERROR($J20/$K20*100,"")) | O20: =IF($A20="","",IF(OR($C20="",$D20="",$G20="",$N20=""),"Eingaben prüfen",IF(OR($H20="",$I20="",$K20="",$L20=""),"Stammdaten prüfen",IF(OR($J20>'Parameter'!$B$10,$M20>'Parameter'!$B$11),"Manuell prüfen","Unauffällig"))))
H21: =IF(OR($A21="",$D21=""),"",IFERROR(VLOOKUP($D21,'Parameter'!$I$5:$L$104,3,FALSE),"")) | I21: =IF(OR($A21="",$D21=""),"",IFERROR(VLOOKUP($D21,'Parameter'!$I$5:$L$104,4,FALSE),"")) | J21: =IF(OR($A21="",$G21="",$I21=""),"",IFERROR($G21*$I21,"")) | K21: =IF(OR($A21="",$C21=""),"",IFERROR(VLOOKUP($C21,'Parameter'!$D$5:$G$104,3,FALSE),"")) | L21: =IF(OR($A21="",$C21=""),"",IFERROR(VLOOKUP($C21,'Parameter'!$D$5:$G$104,4,FALSE),"")) | M21: =IF(OR($A21="",$J21="",$K21=""),"",IFERROR($J21/$K21*100,"")) | O21: =IF($A21="","",IF(OR($C21="",$D21="",$G21="",$N21=""),"Eingaben prüfen",IF(OR($H21="",$I21="",$K21="",$L21=""),"Stammdaten prüfen",IF(OR($J21>'Parameter'!$B$10,$M21>'Parameter'!$B$11),"Manuell prüfen","Unauffällig"))))
H22: =IF(OR($A22="",$D22=""),"",IFERROR(VLOOKUP($D22,'Parameter'!$I$5:$L$104,3,FALSE),"")) | I22: =IF(OR($A22="",$D22=""),"",IFERROR(VLOOKUP($D22,'Parameter'!$I$5:$L$104,4,FALSE),"")) | J22: =IF(OR($A22="",$G22="",$I22=""),"",IFERROR($G22*$I22,"")) | K22: =IF(OR($A22="",$C22=""),"",IFERROR(VLOOKUP($C22,'Parameter'!$D$5:$G$104,3,FALSE),"")) | L22: =IF(OR($A22="",$C22=""),"",IFERROR(VLOOKUP($C22,'Parameter'!$D$5:$G$104,4,FALSE),"")) | M22: =IF(OR($A22="",$J22="",$K22=""),"",IFERROR($J22/$K22*100,"")) | O22: =IF($A22="","",IF(OR($C22="",$D22="",$G22="",$N22=""),"Eingaben prüfen",IF(OR($H22="",$I22="",$K22="",$L22=""),"Stammdaten prüfen",IF(OR($J22>'Parameter'!$B$10,$M22>'Parameter'!$B$11),"Manuell prüfen","Unauffällig"))))
H23: =IF(OR($A23="",$D23=""),"",IFERROR(VLOOKUP($D23,'Parameter'!$I$5:$L$104,3,FALSE),"")) | I23: =IF(OR($A23="",$D23=""),"",IFERROR(VLOOKUP($D23,'Parameter'!$I$5:$L$104,4,FALSE),"")) | J23: =IF(OR($A23="",$G23="",$I23=""),"",IFERROR($G23*$I23,"")) | K23: =IF(OR($A23="",$C23=""),"",IFERROR(VLOOKUP($C23,'Parameter'!$D$5:$G$104,3,FALSE),"")) | L23: =IF(OR($A23="",$C23=""),"",IFERROR(VLOOKUP($C23,'Parameter'!$D$5:$G$104,4,FALSE),"")) | M23: =IF(OR($A23="",$J23="",$K23=""),"",IFERROR($J23/$K23*100,"")) | O23: =IF($A23="","",IF(OR($C23="",$D23="",$G23="",$N23=""),"Eingaben prüfen",IF(OR($H23="",$I23="",$K23="",$L23=""),"Stammdaten prüfen",IF(OR($J23>'Parameter'!$B$10,$M23>'Parameter'!$B$11),"Manuell prüfen","Unauffällig"))))
H24: =IF(OR($A24="",$D24=""),"",IFERROR(VLOOKUP($D24,'Parameter'!$I$5:$L$104,3,FALSE),"")) | I24: =IF(OR($A24="",$D24=""),"",IFERROR(VLOOKUP($D24,'Parameter'!$I$5:$L$104,4,FALSE),"")) | J24: =IF(OR($A24="",$G24="",$I24=""),"",IFERROR($G24*$I24,"")) | K24: =IF(OR($A24="",$C24=""),"",IFERROR(VLOOKUP($C24,'Parameter'!$D$5:$G$104,3,FALSE),"")) | L24: =IF(OR($A24="",$C24=""),"",IFERROR(VLOOKUP($C24,'Parameter'!$D$5:$G$104,4,FALSE),"")) | M24: =IF(OR($A24="",$J24="",$K24=""),"",IFERROR($J24/$K24*100,"")) | O24: =IF($A24="","",IF(OR($C24="",$D24="",$G24="",$N24=""),"Eingaben prüfen",IF(OR($H24="",$I24="",$K24="",$L24=""),"Stammdaten prüfen",IF(OR($J24>'Parameter'!$B$10,$M24>'Parameter'!$B$11),"Manuell prüfen","Unauffällig"))))
H25: =IF(OR($A25="",$D25=""),"",IFERROR(VLOOKUP($D25,'Parameter'!$I$5:$L$104,3,FALSE),"")) | I25: =IF(OR($A25="",$D25=""),"",IFERROR(VLOOKUP($D25,'Parameter'!$I$5:$L$104,4,FALSE),"")) | J25: =IF(OR($A25="",$G25="",$I25=""),"",IFERROR($G25*$I25,"")) | K25: =IF(OR($A25="",$C25=""),"",IFERROR(VLOOKUP($C25,'Parameter'!$D$5:$G$104,3,FALSE),"")) | L25: =IF(OR($A25="",$C25=""),"",IFERROR(VLOOKUP($C25,'Parameter'!$D$5:$G$104,4,FALSE),"")) | M25: =IF(OR($A25="",$J25="",$K25=""),"",IFERROR($J25/$K25*100,"")) | O25: =IF($A25="","",IF(OR($C25="",$D25="",$G25="",$N25=""),"Eingaben prüfen",IF(OR($H25="",$I25="",$K25="",$L25=""),"Stammdaten prüfen",IF(OR($J25>'Parameter'!$B$10,$M25>'Parameter'!$B$11),"Manuell prüfen","Unauffällig"))))
H26: =IF(OR($A26="",$D26=""),"",IFERROR(VLOOKUP($D26,'Parameter'!$I$5:$L$104,3,FALSE),"")) | I26: =IF(OR($A26="",$D26=""),"",IFERROR(VLOOKUP($D26,'Parameter'!$I$5:$L$104,4,FALSE),"")) | J26: =IF(OR($A26="",$G26="",$I26=""),"",IFERROR($G26*$I26,"")) | K26: =IF(OR($A26="",$C26=""),"",IFERROR(VLOOKUP($C26,'Parameter'!$D$5:$G$104,3,FALSE),"")) | L26: =IF(OR($A26="",$C26=""),"",IFERROR(VLOOKUP($C26,'Parameter'!$D$5:$G$104,4,FALSE),"")) | M26: =IF(OR($A26="",$J26="",$K26=""),"",IFERROR($J26/$K26*100,"")) | O26: =IF($A26="","",IF(OR($C26="",$D26="",$G26="",$N26=""),"Eingaben prüfen",IF(OR($H26="",$I26="",$K26="",$L26=""),"Stammdaten prüfen",IF(OR($J26>'Parameter'!$B$10,$M26>'Parameter'!$B$11),"Manuell prüfen","Unauffällig"))))
... H104: =IF(OR($A104="",$D104=""),"",IFERROR(VLOOKUP($D104,'Parameter'!$I$5:$L$104,3,FALSE),"")) | I104: =IF(OR($A104="",$D104=""),"",IFERROR(VLOOKUP($D104,'Parameter'!$I$5:$L$104,4,FALSE),"")) | J104: =IF(OR($A104="",$G104="",$I104=""),"",IFERROR($G104*$I104,"")) | K104: =IF(OR($A104="",$C104=""),"",IFERROR(VLOOKUP($C104,'Parameter'!$D$5:$G$104,3,FALSE),"")) | L104: =IF(OR($A104="",$C104=""),"",IFERROR(VLOOKUP($C104,'Parameter'!$D$5:$G$104,4,FALSE),"")) | M104: =IF(OR($A104="",$J104="",$K104=""),"",IFERROR($J104/$K104*100,"")) | O104: =IF($A104="","",IF(OR($C104="",$D104="",$G104="",$N104=""),"Eingaben prüfen",IF(OR($H104="",$I104="",$K104="",$L104=""),"Stammdaten prüfen",IF(OR($J104>'Parameter'!$B$10,$M104>'Parameter'!$B$11),"Manuell prüfen","Unauffällig"))))

Sheet Parameter
A1: Parameter und fiktive Stammdaten
A2: Grün = veränderbare Eingabe. Referenzwerte und Grenzwerte sind beispielhaft und können an den betrieblichen Prüfbedarf angepasst werden.
A4: Stabile Statuswerte | D4: Objekt-ID | E4: Fiktives Reinigungsobjekt | F4: Fläche | G4: Zuständigkeit | I4: Material-ID | J4: Material | K4: Einheit | L4: Einzelpreis
A5: Erfasst | D5: O-101 | E5: Musterobjekt Birkenhof | F5: 1800 | G5: Objektteam Nord | I5: M-201 | J5: Neutralreiniger | K5: l | L5: 3.8
A6: Geprüft | D6: O-102 | E6: Musterobjekt Kanalbogen | F6: 2600 | G6: Objektteam West | I6: M-202 | J6: Sanitärreiniger | K6: l | L6: 4.6
A7: Gebucht | D7: O-103 | E7: Musterobjekt Lindenquartier | F7: 1200 | G7: Objektteam Mitte | I7: M-203 | J7: Glasreiniger | K7: l | L7: 3.2
D8: O-104 | E8: Musterobjekt Parktor | F8: 3400 | G8: Objektteam Süd | I8: M-204 | J8: Müllbeutel 60 l | K8: Stück | L8: 0.18
A9: Prüfannahme | B9: Wert | D9: O-105 | E9: Musterobjekt Wiesenhof | F9: 950 | G9: Objektteam Ost | I9: M-205 | J9: Mikrofasertuch | K9: Stück | L9: 1.35
A10: Prüfgrenze je Vorgang | B10: 55 | I10: M-206 | J10: Handspülmittel | K10: l | L10: 2.9
A11: Prüfgrenze je 100 m² | B11: 4
