Workbook

Sheet Übersicht
A1: Monatsbudget Reinigungsfirma Excel
A3: Auswertungsbeginn | B3: =Parameter!B3 | C3: Auswertungsende | D3: =Parameter!B4
A5: Kennzahl | B5: Plan | C5: Ist | D5: Abweichung
A6: Erlöse | B6: =IF(COUNTIFS('Erlöse'!$A$4:$A$103,"<>",'Erlöse'!$B$4:$B$103,">="&Parameter!$B$3,'Erlöse'!$B$4:$B$103,"<="&Parameter!$B$4)=0,"",SUMIFS('Erlöse'!$J$4:$J$103,'Erlöse'!$B$4:$B$103,">="&Parameter!$B$3,'Erlöse'!$B$4:$B$103,"<="&Parameter!$B$4)) | C6: =IF(COUNTIFS('Erlöse'!$A$4:$A$103,"<>",'Erlöse'!$K$4:$K$103,">=0",'Erlöse'!$B$4:$B$103,">="&Parameter!$B$3,'Erlöse'!$B$4:$B$103,"<="&Parameter!$B$4)=0,"",SUMIFS('Erlöse'!$K$4:$K$103,'Erlöse'!$B$4:$B$103,">="&Parameter!$B$3,'Erlöse'!$B$4:$B$103,"<="&Parameter!$B$4)) | D6: =IF(OR(B6="",C6=""),"",C6-B6)
A7: Ausgaben | B7: =IF(COUNTIFS('Ausgaben'!$A$4:$A$103,"<>",'Ausgaben'!$B$4:$B$103,">="&Parameter!$B$3,'Ausgaben'!$B$4:$B$103,"<="&Parameter!$B$4)=0,"",SUMIFS('Ausgaben'!$J$4:$J$103,'Ausgaben'!$B$4:$B$103,">="&Parameter!$B$3,'Ausgaben'!$B$4:$B$103,"<="&Parameter!$B$4)) | C7: =IF(COUNTIFS('Ausgaben'!$A$4:$A$103,"<>",'Ausgaben'!$K$4:$K$103,">=0",'Ausgaben'!$B$4:$B$103,">="&Parameter!$B$3,'Ausgaben'!$B$4:$B$103,"<="&Parameter!$B$4)=0,"",SUMIFS('Ausgaben'!$K$4:$K$103,'Ausgaben'!$B$4:$B$103,">="&Parameter!$B$3,'Ausgaben'!$B$4:$B$103,"<="&Parameter!$B$4)) | D7: =IF(OR(B7="",C7=""),"",C7-B7)
A8: Ergebnis | B8: =IF(OR(B6="",B7=""),"",B6-B7) | C8: =IF(OR(C6="",C7=""),"",C6-C7) | D8: =IF(OR(B8="",C8=""),"",C8-B8)
A10: Steuerungskennzahl | B10: Wert
A11: Ausschöpfung Ausgabenrahmen | B11: =IF(C7="","",IFERROR(C7/Parameter!$B$6,""))
A12: Verfügbarer Ausgabenrahmen | B12: =IF(C7="","",Parameter!$B$6-C7)
A13: Offene Positionen | B13: =IF((COUNTIFS('Erlöse'!$A$4:$A$103,"<>",'Erlöse'!$B$4:$B$103,">="&Parameter!$B$3,'Erlöse'!$B$4:$B$103,"<="&Parameter!$B$4)+COUNTIFS('Ausgaben'!$A$4:$A$103,"<>",'Ausgaben'!$B$4:$B$103,">="&Parameter!$B$3,'Ausgaben'!$B$4:$B$103,"<="&Parameter!$B$4))=0,"",COUNTIFS('Erlöse'!$A$4:$A$103,"<>",'Erlöse'!$L$4:$L$103,"<>Abgeschlossen",'Erlöse'!$B$4:$B$103,">="&Parameter!$B$3,'Erlöse'!$B$4:$B$103,"<="&Parameter!$B$4)+COUNTIFS('Ausgaben'!$A$4:$A$103,"<>",'Ausgaben'!$L$4:$L$103,"<>Abgeschlossen",'Ausgaben'!$B$4:$B$103,">="&Parameter!$B$3,'Ausgaben'!$B$4:$B$103,"<="&Parameter!$B$4))
A14: Positionen mit Prüfhinweis | B14: =IF((COUNTIFS('Erlöse'!$A$4:$A$103,"<>",'Erlöse'!$B$4:$B$103,">="&Parameter!$B$3,'Erlöse'!$B$4:$B$103,"<="&Parameter!$B$4)+COUNTIFS('Ausgaben'!$A$4:$A$103,"<>",'Ausgaben'!$B$4:$B$103,">="&Parameter!$B$3,'Ausgaben'!$B$4:$B$103,"<="&Parameter!$B$4))=0,"",COUNTIFS('Erlöse'!$A$4:$A$103,"<>",'Erlöse'!$O$4:$O$103,"<>",'Erlöse'!$B$4:$B$103,">="&Parameter!$B$3,'Erlöse'!$B$4:$B$103,"<="&Parameter!$B$4)+COUNTIFS('Ausgaben'!$A$4:$A$103,"<>",'Ausgaben'!$O$4:$O$103,"<>",'Ausgaben'!$B$4:$B$103,">="&Parameter!$B$3,'Ausgaben'!$B$4:$B$103,"<="&Parameter!$B$4))
A15: Ist-Ergebnismarge | B15: =IF(OR(C6="",C8=""),"",IFERROR(C8/C6,""))

Sheet Erlöse
A1: Erlöse – Monatsplanung und Ist
A2: Alle Beispieldaten sind fiktiv. Hellgrün markiert editierbare Eingaben; Prüfhinweise erfordern eine manuelle Bewertung.
A3: ID | B3: Datum | C3: Objektkennung | D3: Bereich | E3: Intervall | F3: Zuständigkeit | G3: Menge | H3: Einheit | I3: Plan-Einzelwert (€) | J3: Plan-Gesamt (€) | K3: Ist-Gesamt (€) | L3: Status | M3: Abweichung (€) | N3: Abweichung in % | O3: Prüfhinweis
A4: ER-202609-001 | B4: 46266 | C4: OBJ-AUEN-01 | D4: Büroflächen | E4: monatlich | F4: Team Auenblick | G4: 160 | H4: h | I4: 31 | J4: =IF($A4="","",IF(OR($G4="",$I4=""),"",IFERROR($G4*$I4,""))) | K4: 5050 | L4: Abgeschlossen | M4: =IF($A4="","",IF(OR($K4="",$J4=""),"",$K4-$J4)) | N4: =IF($A4="","",IF(OR($K4="",$J4=""),"",IFERROR($M4/$J4,""))) | O4: =IF($A4="","",IF(OR($B4="",$C4="",$D4="",$E4="",$F4="",$G4="",$H4="",$I4="",$L4=""),"Eingaben prüfen",IF(AND($L4="Abgeschlossen",$K4=""),"Eingaben prüfen",IF(OR($L4="Zu prüfen",AND($K4<>"",OR($J4=0,IFERROR(ABS($N4),0)>=Parameter!$B$5))),"Manuell prüfen",""))))
A5: ER-202609-002 | B5: 46268 | C5: OBJ-KIEFER-02 | D5: Sanitärbereiche | E5: monatlich | F5: Team Kieferhain | G5: 80 | H5: h | I5: 34 | J5: =IF($A5="","",IF(OR($G5="",$I5=""),"",IFERROR($G5*$I5,""))) | K5: 2680 | L5: Abgeschlossen | M5: =IF($A5="","",IF(OR($K5="",$J5=""),"",$K5-$J5)) | N5: =IF($A5="","",IF(OR($K5="",$J5=""),"",IFERROR($M5/$J5,""))) | O5: =IF($A5="","",IF(OR($B5="",$C5="",$D5="",$E5="",$F5="",$G5="",$H5="",$I5="",$L5=""),"Eingaben prüfen",IF(AND($L5="Abgeschlossen",$K5=""),"Eingaben prüfen",IF(OR($L5="Zu prüfen",AND($K5<>"",OR($J5=0,IFERROR(ABS($N5),0)>=Parameter!$B$5))),"Manuell prüfen",""))))
A6: ER-202609-003 | B6: 46270 | C6: OBJ-MORGEN-03 | D6: Treppenhäuser | E6: einmalig | F6: Team Morgenfeld | G6: 40 | H6: h | I6: 29 | J6: =IF($A6="","",IF(OR($G6="",$I6=""),"",IFERROR($G6*$I6,""))) | L6: Geplant | M6: =IF($A6="","",IF(OR($K6="",$J6=""),"",$K6-$J6)) | N6: =IF($A6="","",IF(OR($K6="",$J6=""),"",IFERROR($M6/$J6,""))) | O6: =IF($A6="","",IF(OR($B6="",$C6="",$D6="",$E6="",$F6="",$G6="",$H6="",$I6="",$L6=""),"Eingaben prüfen",IF(AND($L6="Abgeschlossen",$K6=""),"Eingaben prüfen",IF(OR($L6="Zu prüfen",AND($K6<>"",OR($J6=0,IFERROR(ABS($N6),0)>=Parameter!$B$5))),"Manuell prüfen",""))))
A7: ER-202609-004 | B7: 46272 | C7: OBJ-AUEN-01 | D7: Glasflächen | E7: einmalig | F7: Team Auenblick | G7: 620 | H7: m² | I7: 2.6 | J7: =IF($A7="","",IF(OR($G7="",$I7=""),"",IFERROR($G7*$I7,""))) | K7: 1850 | L7: Zu prüfen | M7: =IF($A7="","",IF(OR($K7="",$J7=""),"",$K7-$J7)) | N7: =IF($A7="","",IF(OR($K7="",$J7=""),"",IFERROR($M7/$J7,""))) | O7: =IF($A7="","",IF(OR($B7="",$C7="",$D7="",$E7="",$F7="",$G7="",$H7="",$I7="",$L7=""),"Eingaben prüfen",IF(AND($L7="Abgeschlossen",$K7=""),"Eingaben prüfen",IF(OR($L7="Zu prüfen",AND($K7<>"",OR($J7=0,IFERROR(ABS($N7),0)>=Parameter!$B$5))),"Manuell prüfen",""))))
A8: ER-202609-005 | B8: 46274 | C8: OBJ-MORGEN-03 | D8: Grundreinigung | E8: einmalig | F8: Team Morgenfeld | G8: 1 | H8: Einsatz | I8: 1450 | J8: =IF($A8="","",IF(OR($G8="",$I8=""),"",IFERROR($G8*$I8,""))) | K8: 1450 | L8: Abgeschlossen | M8: =IF($A8="","",IF(OR($K8="",$J8=""),"",$K8-$J8)) | N8: =IF($A8="","",IF(OR($K8="",$J8=""),"",IFERROR($M8/$J8,""))) | O8: =IF($A8="","",IF(OR($B8="",$C8="",$D8="",$E8="",$F8="",$G8="",$H8="",$I8="",$L8=""),"Eingaben prüfen",IF(AND($L8="Abgeschlossen",$K8=""),"Eingaben prüfen",IF(OR($L8="Zu prüfen",AND($K8<>"",OR($J8=0,IFERROR(ABS($N8),0)>=Parameter!$B$5))),"Manuell prüfen",""))))
J9: =IF($A9="","",IF(OR($G9="",$I9=""),"",IFERROR($G9*$I9,""))) | M9: =IF($A9="","",IF(OR($K9="",$J9=""),"",$K9-$J9)) | N9: =IF($A9="","",IF(OR($K9="",$J9=""),"",IFERROR($M9/$J9,""))) | O9: =IF($A9="","",IF(OR($B9="",$C9="",$D9="",$E9="",$F9="",$G9="",$H9="",$I9="",$L9=""),"Eingaben prüfen",IF(AND($L9="Abgeschlossen",$K9=""),"Eingaben prüfen",IF(OR($L9="Zu prüfen",AND($K9<>"",OR($J9=0,IFERROR(ABS($N9),0)>=Parameter!$B$5))),"Manuell prüfen",""))))
J10: =IF($A10="","",IF(OR($G10="",$I10=""),"",IFERROR($G10*$I10,""))) | M10: =IF($A10="","",IF(OR($K10="",$J10=""),"",$K10-$J10)) | N10: =IF($A10="","",IF(OR($K10="",$J10=""),"",IFERROR($M10/$J10,""))) | O10: =IF($A10="","",IF(OR($B10="",$C10="",$D10="",$E10="",$F10="",$G10="",$H10="",$I10="",$L10=""),"Eingaben prüfen",IF(AND($L10="Abgeschlossen",$K10=""),"Eingaben prüfen",IF(OR($L10="Zu prüfen",AND($K10<>"",OR($J10=0,IFERROR(ABS($N10),0)>=Parameter!$B$5))),"Manuell prüfen",""))))
J11: =IF($A11="","",IF(OR($G11="",$I11=""),"",IFERROR($G11*$I11,""))) | M11: =IF($A11="","",IF(OR($K11="",$J11=""),"",$K11-$J11)) | N11: =IF($A11="","",IF(OR($K11="",$J11=""),"",IFERROR($M11/$J11,""))) | O11: =IF($A11="","",IF(OR($B11="",$C11="",$D11="",$E11="",$F11="",$G11="",$H11="",$I11="",$L11=""),"Eingaben prüfen",IF(AND($L11="Abgeschlossen",$K11=""),"Eingaben prüfen",IF(OR($L11="Zu prüfen",AND($K11<>"",OR($J11=0,IFERROR(ABS($N11),0)>=Parameter!$B$5))),"Manuell prüfen",""))))
J12: =IF($A12="","",IF(OR($G12="",$I12=""),"",IFERROR($G12*$I12,""))) | M12: =IF($A12="","",IF(OR($K12="",$J12=""),"",$K12-$J12)) | N12: =IF($A12="","",IF(OR($K12="",$J12=""),"",IFERROR($M12/$J12,""))) | O12: =IF($A12="","",IF(OR($B12="",$C12="",$D12="",$E12="",$F12="",$G12="",$H12="",$I12="",$L12=""),"Eingaben prüfen",IF(AND($L12="Abgeschlossen",$K12=""),"Eingaben prüfen",IF(OR($L12="Zu prüfen",AND($K12<>"",OR($J12=0,IFERROR(ABS($N12),0)>=Parameter!$B$5))),"Manuell prüfen",""))))
J13: =IF($A13="","",IF(OR($G13="",$I13=""),"",IFERROR($G13*$I13,""))) | M13: =IF($A13="","",IF(OR($K13="",$J13=""),"",$K13-$J13)) | N13: =IF($A13="","",IF(OR($K13="",$J13=""),"",IFERROR($M13/$J13,""))) | O13: =IF($A13="","",IF(OR($B13="",$C13="",$D13="",$E13="",$F13="",$G13="",$H13="",$I13="",$L13=""),"Eingaben prüfen",IF(AND($L13="Abgeschlossen",$K13=""),"Eingaben prüfen",IF(OR($L13="Zu prüfen",AND($K13<>"",OR($J13=0,IFERROR(ABS($N13),0)>=Parameter!$B$5))),"Manuell prüfen",""))))
J14: =IF($A14="","",IF(OR($G14="",$I14=""),"",IFERROR($G14*$I14,""))) | M14: =IF($A14="","",IF(OR($K14="",$J14=""),"",$K14-$J14)) | N14: =IF($A14="","",IF(OR($K14="",$J14=""),"",IFERROR($M14/$J14,""))) | O14: =IF($A14="","",IF(OR($B14="",$C14="",$D14="",$E14="",$F14="",$G14="",$H14="",$I14="",$L14=""),"Eingaben prüfen",IF(AND($L14="Abgeschlossen",$K14=""),"Eingaben prüfen",IF(OR($L14="Zu prüfen",AND($K14<>"",OR($J14=0,IFERROR(ABS($N14),0)>=Parameter!$B$5))),"Manuell prüfen",""))))
J15: =IF($A15="","",IF(OR($G15="",$I15=""),"",IFERROR($G15*$I15,""))) | M15: =IF($A15="","",IF(OR($K15="",$J15=""),"",$K15-$J15)) | N15: =IF($A15="","",IF(OR($K15="",$J15=""),"",IFERROR($M15/$J15,""))) | O15: =IF($A15="","",IF(OR($B15="",$C15="",$D15="",$E15="",$F15="",$G15="",$H15="",$I15="",$L15=""),"Eingaben prüfen",IF(AND($L15="Abgeschlossen",$K15=""),"Eingaben prüfen",IF(OR($L15="Zu prüfen",AND($K15<>"",OR($J15=0,IFERROR(ABS($N15),0)>=Parameter!$B$5))),"Manuell prüfen",""))))
J16: =IF($A16="","",IF(OR($G16="",$I16=""),"",IFERROR($G16*$I16,""))) | M16: =IF($A16="","",IF(OR($K16="",$J16=""),"",$K16-$J16)) | N16: =IF($A16="","",IF(OR($K16="",$J16=""),"",IFERROR($M16/$J16,""))) | O16: =IF($A16="","",IF(OR($B16="",$C16="",$D16="",$E16="",$F16="",$G16="",$H16="",$I16="",$L16=""),"Eingaben prüfen",IF(AND($L16="Abgeschlossen",$K16=""),"Eingaben prüfen",IF(OR($L16="Zu prüfen",AND($K16<>"",OR($J16=0,IFERROR(ABS($N16),0)>=Parameter!$B$5))),"Manuell prüfen",""))))
J17: =IF($A17="","",IF(OR($G17="",$I17=""),"",IFERROR($G17*$I17,""))) | M17: =IF($A17="","",IF(OR($K17="",$J17=""),"",$K17-$J17)) | N17: =IF($A17="","",IF(OR($K17="",$J17=""),"",IFERROR($M17/$J17,""))) | O17: =IF($A17="","",IF(OR($B17="",$C17="",$D17="",$E17="",$F17="",$G17="",$H17="",$I17="",$L17=""),"Eingaben prüfen",IF(AND($L17="Abgeschlossen",$K17=""),"Eingaben prüfen",IF(OR($L17="Zu prüfen",AND($K17<>"",OR($J17=0,IFERROR(ABS($N17),0)>=Parameter!$B$5))),"Manuell prüfen",""))))
J18: =IF($A18="","",IF(OR($G18="",$I18=""),"",IFERROR($G18*$I18,""))) | M18: =IF($A18="","",IF(OR($K18="",$J18=""),"",$K18-$J18)) | N18: =IF($A18="","",IF(OR($K18="",$J18=""),"",IFERROR($M18/$J18,""))) | O18: =IF($A18="","",IF(OR($B18="",$C18="",$D18="",$E18="",$F18="",$G18="",$H18="",$I18="",$L18=""),"Eingaben prüfen",IF(AND($L18="Abgeschlossen",$K18=""),"Eingaben prüfen",IF(OR($L18="Zu prüfen",AND($K18<>"",OR($J18=0,IFERROR(ABS($N18),0)>=Parameter!$B$5))),"Manuell prüfen",""))))
J19: =IF($A19="","",IF(OR($G19="",$I19=""),"",IFERROR($G19*$I19,""))) | M19: =IF($A19="","",IF(OR($K19="",$J19=""),"",$K19-$J19)) | N19: =IF($A19="","",IF(OR($K19="",$J19=""),"",IFERROR($M19/$J19,""))) | O19: =IF($A19="","",IF(OR($B19="",$C19="",$D19="",$E19="",$F19="",$G19="",$H19="",$I19="",$L19=""),"Eingaben prüfen",IF(AND($L19="Abgeschlossen",$K19=""),"Eingaben prüfen",IF(OR($L19="Zu prüfen",AND($K19<>"",OR($J19=0,IFERROR(ABS($N19),0)>=Parameter!$B$5))),"Manuell prüfen",""))))
J20: =IF($A20="","",IF(OR($G20="",$I20=""),"",IFERROR($G20*$I20,""))) | M20: =IF($A20="","",IF(OR($K20="",$J20=""),"",$K20-$J20)) | N20: =IF($A20="","",IF(OR($K20="",$J20=""),"",IFERROR($M20/$J20,""))) | O20: =IF($A20="","",IF(OR($B20="",$C20="",$D20="",$E20="",$F20="",$G20="",$H20="",$I20="",$L20=""),"Eingaben prüfen",IF(AND($L20="Abgeschlossen",$K20=""),"Eingaben prüfen",IF(OR($L20="Zu prüfen",AND($K20<>"",OR($J20=0,IFERROR(ABS($N20),0)>=Parameter!$B$5))),"Manuell prüfen",""))))
... J103: =IF($A103="","",IF(OR($G103="",$I103=""),"",IFERROR($G103*$I103,""))) | M103: =IF($A103="","",IF(OR($K103="",$J103=""),"",$K103-$J103)) | N103: =IF($A103="","",IF(OR($K103="",$J103=""),"",IFERROR($M103/$J103,""))) | O103: =IF($A103="","",IF(OR($B103="",$C103="",$D103="",$E103="",$F103="",$G103="",$H103="",$I103="",$L103=""),"Eingaben prüfen",IF(AND($L103="Abgeschlossen",$K103=""),"Eingaben prüfen",IF(OR($L103="Zu prüfen",AND($K103<>"",OR($J103=0,IFERROR(ABS($N103),0)>=Parameter!$B$5))),"Manuell prüfen",""))))

Sheet Ausgaben
A1: Ausgaben – Monatsplanung und Ist
A2: Alle Beispieldaten sind fiktiv. Hellgrün markiert editierbare Eingaben; Prüfhinweise erfordern eine manuelle Bewertung.
A3: ID | B3: Datum | C3: Objektkennung | D3: Bereich | E3: Intervall | F3: Zuständigkeit | G3: Menge | H3: Einheit | I3: Plan-Einzelwert (€) | J3: Plan-Gesamt (€) | K3: Ist-Gesamt (€) | L3: Status | M3: Abweichung (€) | N3: Abweichung in % | O3: Prüfhinweis
A4: KS-202609-001 | B4: 46266 | C4: OBJ-AUEN-01 | D4: Personalaufwand | E4: monatlich | F4: Disposition Auenblick | G4: 260 | H4: h | I4: 18.5 | J4: =IF($A4="","",IF(OR($G4="",$I4=""),"",IFERROR($G4*$I4,""))) | K4: 4950 | L4: Teilweise erfasst | M4: =IF($A4="","",IF(OR($K4="",$J4=""),"",$K4-$J4)) | N4: =IF($A4="","",IF(OR($K4="",$J4=""),"",IFERROR($M4/$J4,""))) | O4: =IF($A4="","",IF(OR($B4="",$C4="",$D4="",$E4="",$F4="",$G4="",$H4="",$I4="",$L4=""),"Eingaben prüfen",IF(AND($L4="Abgeschlossen",$K4=""),"Eingaben prüfen",IF(OR($L4="Zu prüfen",AND($K4<>"",OR($J4=0,IFERROR(ABS($N4),0)>=Parameter!$B$5))),"Manuell prüfen",""))))
A5: KS-202609-002 | B5: 46268 | C5: OBJ-KIEFER-02 | D5: Reinigungsmittel | E5: monatlich | F5: Lager Kieferhain | G5: 85 | H5: l | I5: 4.8 | J5: =IF($A5="","",IF(OR($G5="",$I5=""),"",IFERROR($G5*$I5,""))) | K5: 470 | L5: Zu prüfen | M5: =IF($A5="","",IF(OR($K5="",$J5=""),"",$K5-$J5)) | N5: =IF($A5="","",IF(OR($K5="",$J5=""),"",IFERROR($M5/$J5,""))) | O5: =IF($A5="","",IF(OR($B5="",$C5="",$D5="",$E5="",$F5="",$G5="",$H5="",$I5="",$L5=""),"Eingaben prüfen",IF(AND($L5="Abgeschlossen",$K5=""),"Eingaben prüfen",IF(OR($L5="Zu prüfen",AND($K5<>"",OR($J5=0,IFERROR(ABS($N5),0)>=Parameter!$B$5))),"Manuell prüfen",""))))
A6: KS-202609-003 | B6: 46270 | C6: OBJ-MORGEN-03 | D6: Fahrzeugnutzung | E6: monatlich | F6: Disposition Morgenfeld | G6: 720 | H6: km | I6: 0.42 | J6: =IF($A6="","",IF(OR($G6="",$I6=""),"",IFERROR($G6*$I6,""))) | K6: 315 | L6: Abgeschlossen | M6: =IF($A6="","",IF(OR($K6="",$J6=""),"",$K6-$J6)) | N6: =IF($A6="","",IF(OR($K6="",$J6=""),"",IFERROR($M6/$J6,""))) | O6: =IF($A6="","",IF(OR($B6="",$C6="",$D6="",$E6="",$F6="",$G6="",$H6="",$I6="",$L6=""),"Eingaben prüfen",IF(AND($L6="Abgeschlossen",$K6=""),"Eingaben prüfen",IF(OR($L6="Zu prüfen",AND($K6<>"",OR($J6=0,IFERROR(ABS($N6),0)>=Parameter!$B$5))),"Manuell prüfen",""))))
A7: KS-202609-004 | B7: 46272 | C7: OBJ-AUEN-01 | D7: Gerätemiete | E7: monatlich | F7: Objektleitung Auenblick | G7: 2 | H7: Gerätemonat | I7: 280 | J7: =IF($A7="","",IF(OR($G7="",$I7=""),"",IFERROR($G7*$I7,""))) | K7: 560 | L7: Abgeschlossen | M7: =IF($A7="","",IF(OR($K7="",$J7=""),"",$K7-$J7)) | N7: =IF($A7="","",IF(OR($K7="",$J7=""),"",IFERROR($M7/$J7,""))) | O7: =IF($A7="","",IF(OR($B7="",$C7="",$D7="",$E7="",$F7="",$G7="",$H7="",$I7="",$L7=""),"Eingaben prüfen",IF(AND($L7="Abgeschlossen",$K7=""),"Eingaben prüfen",IF(OR($L7="Zu prüfen",AND($K7<>"",OR($J7=0,IFERROR(ABS($N7),0)>=Parameter!$B$5))),"Manuell prüfen",""))))
A8: KS-202609-005 | B8: 46274 | C8: OBJ-KIEFER-02 | D8: Verbrauchsmaterial | E8: monatlich | F8: Lager Kieferhain | G8: 40 | H8: Packung | I8: 12.5 | J8: =IF($A8="","",IF(OR($G8="",$I8=""),"",IFERROR($G8*$I8,""))) | L8: Geplant | M8: =IF($A8="","",IF(OR($K8="",$J8=""),"",$K8-$J8)) | N8: =IF($A8="","",IF(OR($K8="",$J8=""),"",IFERROR($M8/$J8,""))) | O8: =IF($A8="","",IF(OR($B8="",$C8="",$D8="",$E8="",$F8="",$G8="",$H8="",$I8="",$L8=""),"Eingaben prüfen",IF(AND($L8="Abgeschlossen",$K8=""),"Eingaben prüfen",IF(OR($L8="Zu prüfen",AND($K8<>"",OR($J8=0,IFERROR(ABS($N8),0)>=Parameter!$B$5))),"Manuell prüfen",""))))
J9: =IF($A9="","",IF(OR($G9="",$I9=""),"",IFERROR($G9*$I9,""))) | M9: =IF($A9="","",IF(OR($K9="",$J9=""),"",$K9-$J9)) | N9: =IF($A9="","",IF(OR($K9="",$J9=""),"",IFERROR($M9/$J9,""))) | O9: =IF($A9="","",IF(OR($B9="",$C9="",$D9="",$E9="",$F9="",$G9="",$H9="",$I9="",$L9=""),"Eingaben prüfen",IF(AND($L9="Abgeschlossen",$K9=""),"Eingaben prüfen",IF(OR($L9="Zu prüfen",AND($K9<>"",OR($J9=0,IFERROR(ABS($N9),0)>=Parameter!$B$5))),"Manuell prüfen",""))))
J10: =IF($A10="","",IF(OR($G10="",$I10=""),"",IFERROR($G10*$I10,""))) | M10: =IF($A10="","",IF(OR($K10="",$J10=""),"",$K10-$J10)) | N10: =IF($A10="","",IF(OR($K10="",$J10=""),"",IFERROR($M10/$J10,""))) | O10: =IF($A10="","",IF(OR($B10="",$C10="",$D10="",$E10="",$F10="",$G10="",$H10="",$I10="",$L10=""),"Eingaben prüfen",IF(AND($L10="Abgeschlossen",$K10=""),"Eingaben prüfen",IF(OR($L10="Zu prüfen",AND($K10<>"",OR($J10=0,IFERROR(ABS($N10),0)>=Parameter!$B$5))),"Manuell prüfen",""))))
J11: =IF($A11="","",IF(OR($G11="",$I11=""),"",IFERROR($G11*$I11,""))) | M11: =IF($A11="","",IF(OR($K11="",$J11=""),"",$K11-$J11)) | N11: =IF($A11="","",IF(OR($K11="",$J11=""),"",IFERROR($M11/$J11,""))) | O11: =IF($A11="","",IF(OR($B11="",$C11="",$D11="",$E11="",$F11="",$G11="",$H11="",$I11="",$L11=""),"Eingaben prüfen",IF(AND($L11="Abgeschlossen",$K11=""),"Eingaben prüfen",IF(OR($L11="Zu prüfen",AND($K11<>"",OR($J11=0,IFERROR(ABS($N11),0)>=Parameter!$B$5))),"Manuell prüfen",""))))
J12: =IF($A12="","",IF(OR($G12="",$I12=""),"",IFERROR($G12*$I12,""))) | M12: =IF($A12="","",IF(OR($K12="",$J12=""),"",$K12-$J12)) | N12: =IF($A12="","",IF(OR($K12="",$J12=""),"",IFERROR($M12/$J12,""))) | O12: =IF($A12="","",IF(OR($B12="",$C12="",$D12="",$E12="",$F12="",$G12="",$H12="",$I12="",$L12=""),"Eingaben prüfen",IF(AND($L12="Abgeschlossen",$K12=""),"Eingaben prüfen",IF(OR($L12="Zu prüfen",AND($K12<>"",OR($J12=0,IFERROR(ABS($N12),0)>=Parameter!$B$5))),"Manuell prüfen",""))))
J13: =IF($A13="","",IF(OR($G13="",$I13=""),"",IFERROR($G13*$I13,""))) | M13: =IF($A13="","",IF(OR($K13="",$J13=""),"",$K13-$J13)) | N13: =IF($A13="","",IF(OR($K13="",$J13=""),"",IFERROR($M13/$J13,""))) | O13: =IF($A13="","",IF(OR($B13="",$C13="",$D13="",$E13="",$F13="",$G13="",$H13="",$I13="",$L13=""),"Eingaben prüfen",IF(AND($L13="Abgeschlossen",$K13=""),"Eingaben prüfen",IF(OR($L13="Zu prüfen",AND($K13<>"",OR($J13=0,IFERROR(ABS($N13),0)>=Parameter!$B$5))),"Manuell prüfen",""))))
J14: =IF($A14="","",IF(OR($G14="",$I14=""),"",IFERROR($G14*$I14,""))) | M14: =IF($A14="","",IF(OR($K14="",$J14=""),"",$K14-$J14)) | N14: =IF($A14="","",IF(OR($K14="",$J14=""),"",IFERROR($M14/$J14,""))) | O14: =IF($A14="","",IF(OR($B14="",$C14="",$D14="",$E14="",$F14="",$G14="",$H14="",$I14="",$L14=""),"Eingaben prüfen",IF(AND($L14="Abgeschlossen",$K14=""),"Eingaben prüfen",IF(OR($L14="Zu prüfen",AND($K14<>"",OR($J14=0,IFERROR(ABS($N14),0)>=Parameter!$B$5))),"Manuell prüfen",""))))
J15: =IF($A15="","",IF(OR($G15="",$I15=""),"",IFERROR($G15*$I15,""))) | M15: =IF($A15="","",IF(OR($K15="",$J15=""),"",$K15-$J15)) | N15: =IF($A15="","",IF(OR($K15="",$J15=""),"",IFERROR($M15/$J15,""))) | O15: =IF($A15="","",IF(OR($B15="",$C15="",$D15="",$E15="",$F15="",$G15="",$H15="",$I15="",$L15=""),"Eingaben prüfen",IF(AND($L15="Abgeschlossen",$K15=""),"Eingaben prüfen",IF(OR($L15="Zu prüfen",AND($K15<>"",OR($J15=0,IFERROR(ABS($N15),0)>=Parameter!$B$5))),"Manuell prüfen",""))))
J16: =IF($A16="","",IF(OR($G16="",$I16=""),"",IFERROR($G16*$I16,""))) | M16: =IF($A16="","",IF(OR($K16="",$J16=""),"",$K16-$J16)) | N16: =IF($A16="","",IF(OR($K16="",$J16=""),"",IFERROR($M16/$J16,""))) | O16: =IF($A16="","",IF(OR($B16="",$C16="",$D16="",$E16="",$F16="",$G16="",$H16="",$I16="",$L16=""),"Eingaben prüfen",IF(AND($L16="Abgeschlossen",$K16=""),"Eingaben prüfen",IF(OR($L16="Zu prüfen",AND($K16<>"",OR($J16=0,IFERROR(ABS($N16),0)>=Parameter!$B$5))),"Manuell prüfen",""))))
J17: =IF($A17="","",IF(OR($G17="",$I17=""),"",IFERROR($G17*$I17,""))) | M17: =IF($A17="","",IF(OR($K17="",$J17=""),"",$K17-$J17)) | N17: =IF($A17="","",IF(OR($K17="",$J17=""),"",IFERROR($M17/$J17,""))) | O17: =IF($A17="","",IF(OR($B17="",$C17="",$D17="",$E17="",$F17="",$G17="",$H17="",$I17="",$L17=""),"Eingaben prüfen",IF(AND($L17="Abgeschlossen",$K17=""),"Eingaben prüfen",IF(OR($L17="Zu prüfen",AND($K17<>"",OR($J17=0,IFERROR(ABS($N17),0)>=Parameter!$B$5))),"Manuell prüfen",""))))
J18: =IF($A18="","",IF(OR($G18="",$I18=""),"",IFERROR($G18*$I18,""))) | M18: =IF($A18="","",IF(OR($K18="",$J18=""),"",$K18-$J18)) | N18: =IF($A18="","",IF(OR($K18="",$J18=""),"",IFERROR($M18/$J18,""))) | O18: =IF($A18="","",IF(OR($B18="",$C18="",$D18="",$E18="",$F18="",$G18="",$H18="",$I18="",$L18=""),"Eingaben prüfen",IF(AND($L18="Abgeschlossen",$K18=""),"Eingaben prüfen",IF(OR($L18="Zu prüfen",AND($K18<>"",OR($J18=0,IFERROR(ABS($N18),0)>=Parameter!$B$5))),"Manuell prüfen",""))))
J19: =IF($A19="","",IF(OR($G19="",$I19=""),"",IFERROR($G19*$I19,""))) | M19: =IF($A19="","",IF(OR($K19="",$J19=""),"",$K19-$J19)) | N19: =IF($A19="","",IF(OR($K19="",$J19=""),"",IFERROR($M19/$J19,""))) | O19: =IF($A19="","",IF(OR($B19="",$C19="",$D19="",$E19="",$F19="",$G19="",$H19="",$I19="",$L19=""),"Eingaben prüfen",IF(AND($L19="Abgeschlossen",$K19=""),"Eingaben prüfen",IF(OR($L19="Zu prüfen",AND($K19<>"",OR($J19=0,IFERROR(ABS($N19),0)>=Parameter!$B$5))),"Manuell prüfen",""))))
J20: =IF($A20="","",IF(OR($G20="",$I20=""),"",IFERROR($G20*$I20,""))) | M20: =IF($A20="","",IF(OR($K20="",$J20=""),"",$K20-$J20)) | N20: =IF($A20="","",IF(OR($K20="",$J20=""),"",IFERROR($M20/$J20,""))) | O20: =IF($A20="","",IF(OR($B20="",$C20="",$D20="",$E20="",$F20="",$G20="",$H20="",$I20="",$L20=""),"Eingaben prüfen",IF(AND($L20="Abgeschlossen",$K20=""),"Eingaben prüfen",IF(OR($L20="Zu prüfen",AND($K20<>"",OR($J20=0,IFERROR(ABS($N20),0)>=Parameter!$B$5))),"Manuell prüfen",""))))
... J103: =IF($A103="","",IF(OR($G103="",$I103=""),"",IFERROR($G103*$I103,""))) | M103: =IF($A103="","",IF(OR($K103="",$J103=""),"",$K103-$J103)) | N103: =IF($A103="","",IF(OR($K103="",$J103=""),"",IFERROR($M103/$J103,""))) | O103: =IF($A103="","",IF(OR($B103="",$C103="",$D103="",$E103="",$F103="",$G103="",$H103="",$I103="",$L103=""),"Eingaben prüfen",IF(AND($L103="Abgeschlossen",$K103=""),"Eingaben prüfen",IF(OR($L103="Zu prüfen",AND($K103<>"",OR($J103=0,IFERROR(ABS($N103),0)>=Parameter!$B$5))),"Manuell prüfen",""))))

Sheet Parameter
A1: Parameter und stabile Statuswerte
A3: Auswertungsbeginn | B3: 46266 | C3: Erster Tag des betrachteten Monats
A4: Auswertungsende | B4: 46295 | C4: Letzter Tag des betrachteten Monats
A5: Warnschwelle Abweichung | B5: 0.1 | C5: Ab dieser relativen Abweichung erscheint ein Prüfhinweis
A6: Monatsrahmen Ausgaben | B6: 7500 | C6: Veränderbarer Orientierungswert für die monatlichen Ausgaben
A8: Statuswerte | B8: Verwendung | C8: Bedeutung
A9: Geplant | B9: Auswahl | C9: Planwert vorhanden, Istwert noch nicht erforderlich
A10: Teilweise erfasst | B10: Auswahl | C10: Istwert ist noch nicht vollständig erfasst
A11: Abgeschlossen | B11: Auswahl | C11: Position ist für den Monat vollständig erfasst
A12: Zu prüfen | B12: Auswahl | C12: Position soll manuell bewertet werden
A14: Hinweis | B14: Zeitraum, Warnschwelle und Ausgabenrahmen sind veränderbare Annahmen. Alle Objektkennungen, Teams und Werte sind fiktive Beispiele.
