Workbook

Sheet Übersicht
A1: Nachkalkulation Reinigungsauftrag – Übersicht
A3: Kennzahl | B3: Wert | C3: Einheit
A4: Ausgewertete Aufträge | B4: =COUNTIF('Aufträge'!$V$5:$V$104,"Manuell prüfen")+COUNTIF('Aufträge'!$V$5:$V$104,"Im Rahmen") | C4: Anzahl
A5: Planstunden | B5: =IF($B$4=0,"",SUMIFS('Aufträge'!$H$5:$H$104,'Aufträge'!$V$5:$V$104,"Manuell prüfen")+SUMIFS('Aufträge'!$H$5:$H$104,'Aufträge'!$V$5:$V$104,"Im Rahmen")) | C5: h
A6: Iststunden | B6: =IF($B$4=0,"",SUMIFS('Aufträge'!$I$5:$I$104,'Aufträge'!$V$5:$V$104,"Manuell prüfen")+SUMIFS('Aufträge'!$I$5:$I$104,'Aufträge'!$V$5:$V$104,"Im Rahmen")) | C6: h
A7: Stundenabweichung | B7: =IF(OR($B$5="",$B$6=""),"",$B$6-$B$5) | C7: h
A8: Plankosten | B8: =IF($B$4=0,"",SUMIFS('Aufträge'!$Q$5:$Q$104,'Aufträge'!$V$5:$V$104,"Manuell prüfen")+SUMIFS('Aufträge'!$Q$5:$Q$104,'Aufträge'!$V$5:$V$104,"Im Rahmen")) | C8: €
A9: Istkosten | B9: =IF($B$4=0,"",SUMIFS('Aufträge'!$R$5:$R$104,'Aufträge'!$V$5:$V$104,"Manuell prüfen")+SUMIFS('Aufträge'!$R$5:$R$104,'Aufträge'!$V$5:$V$104,"Im Rahmen")) | C9: €
A10: Kostenabweichung | B10: =IF(OR($B$8="",$B$9=""),"",$B$9-$B$8) | C10: €
A11: Kostenabweichung | B11: =IFERROR($B$10/$B$8,"") | C11: %
A12: Manuell zu prüfen | B12: =COUNTIF('Aufträge'!$V$5:$V$104,"Manuell prüfen") | C12: Anzahl
A13: Im Rahmen | B13: =COUNTIF('Aufträge'!$V$5:$V$104,"Im Rahmen") | C13: Anzahl
A14: Eingaben zu prüfen | B14: =COUNTIF('Aufträge'!$V$5:$V$104,"Eingaben prüfen")+COUNTIF('Aufträge'!$V$5:$V$104,"Status prüfen")+COUNTIF('Aufträge'!$V$5:$V$104,"Grenzwert prüfen") | C14: Anzahl

Sheet Aufträge
A1: Nachkalkulation Reinigungsauftrag – Aufträge
A2: Grün markierte Zellen sind Eingaben. Die zehn Beispielaufträge und alle Objekt- sowie Teambezeichnungen sind ausdrücklich fiktiv. | X2: Untere Datumsgrenze | Y2: ='Parameter'!$B$5
A3: Prüfschwelle absolute Kostenabweichung | B3: ='Parameter'!$B$4 | C3: Eine Überschreitung der Schwelle führt nur zu einem manuellen Prüfhinweis. | X3: Obere Datumsgrenze | Y3: ='Parameter'!$B$6
A4: Auftrags-ID | B4: Abschlussdatum | C4: Objektkennung | D4: Reinigungsbereich | E4: Intervall | F4: Team-Kennung | G4: Status | H4: Planstunden (h) | I4: Iststunden (h) | J4: Planmenge | K4: Istmenge | L4: Mengeneinheit | M4: Plan-Stundensatz (€/h) | N4: Ist-Stundensatz (€/h) | O4: Plan-Materialpreis (€/Einheit) | P4: Ist-Materialpreis (€/Einheit) | Q4: Plankosten (€) | R4: Istkosten (€) | S4: Stundenabweichung (h) | T4: Kostenabweichung (€) | U4: Kostenabweichung (%) | V4: Bewertung
A5: NK-2026-001 | B5: 46267 | C5: Fiktivobjekt Fichtenbogen | D5: Büroflächen | E5: Wöchentlich | F5: Team Grünfarn | G5: Abgeschlossen | H5: 18 | I5: 19.5 | J5: 6 | K5: 6.5 | L5: l | M5: 31.5 | N5: 32 | O5: 4.2 | P5: 4.4 | Q5: =IF($A5="","",IF(OR($H5="",$M5="",$J5="",$O5=""),"",ROUND($H5*$M5+$J5*$O5,2))) | R5: =IF($A5="","",IF(OR($I5="",$N5="",$K5="",$P5=""),"",ROUND($I5*$N5+$K5*$P5,2))) | S5: =IF(OR($A5="",$H5="",$I5=""),"",ROUND($I5-$H5,2)) | T5: =IF(OR($A5="",$Q5="",$R5=""),"",ROUND($R5-$Q5,2)) | U5: =IF(OR($A5="",$Q5="",$R5=""),"",IFERROR(($R5-$Q5)/$Q5,"")) | V5: =IF($A5="","",IF($G5="Storniert","Nicht werten",IF(AND($G5<>"Abgeschlossen",$G5<>"Prüfung offen"),"Status prüfen",IF(OR($Q5="",$R5="",$U5=""),"Eingaben prüfen",IF($B$3="","Grenzwert prüfen",IF(OR($G5="Prüfung offen",ABS($U5)>$B$3),"Manuell prüfen","Im Rahmen"))))))
A6: NK-2026-002 | B6: 46262 | C6: Fiktivcampus Morgenquell | D6: Sanitärbereiche | E6: Täglich | F6: Team Kiesel | G6: Abgeschlossen | H6: 24 | I6: 22.75 | J6: 9 | K6: 8.5 | L6: l | M6: 31 | N6: 31 | O6: 3.8 | P6: 3.9 | Q6: =IF($A6="","",IF(OR($H6="",$M6="",$J6="",$O6=""),"",ROUND($H6*$M6+$J6*$O6,2))) | R6: =IF($A6="","",IF(OR($I6="",$N6="",$K6="",$P6=""),"",ROUND($I6*$N6+$K6*$P6,2))) | S6: =IF(OR($A6="",$H6="",$I6=""),"",ROUND($I6-$H6,2)) | T6: =IF(OR($A6="",$Q6="",$R6=""),"",ROUND($R6-$Q6,2)) | U6: =IF(OR($A6="",$Q6="",$R6=""),"",IFERROR(($R6-$Q6)/$Q6,"")) | V6: =IF($A6="","",IF($G6="Storniert","Nicht werten",IF(AND($G6<>"Abgeschlossen",$G6<>"Prüfung offen"),"Status prüfen",IF(OR($Q6="",$R6="",$U6=""),"Eingaben prüfen",IF($B$3="","Grenzwert prüfen",IF(OR($G6="Prüfung offen",ABS($U6)>$B$3),"Manuell prüfen","Im Rahmen"))))))
A7: NK-2026-003 | B7: 46256 | C7: Fiktivhalle Wacholder | D7: Verkehrsflächen | E7: Täglich | F7: Team Moosblatt | G7: Prüfung offen | H7: 12 | I7: 14.5 | J7: 4 | K7: 5 | L7: l | M7: 32 | N7: 33 | O7: 5 | P7: 5.2 | Q7: =IF($A7="","",IF(OR($H7="",$M7="",$J7="",$O7=""),"",ROUND($H7*$M7+$J7*$O7,2))) | R7: =IF($A7="","",IF(OR($I7="",$N7="",$K7="",$P7=""),"",ROUND($I7*$N7+$K7*$P7,2))) | S7: =IF(OR($A7="",$H7="",$I7=""),"",ROUND($I7-$H7,2)) | T7: =IF(OR($A7="",$Q7="",$R7=""),"",ROUND($R7-$Q7,2)) | U7: =IF(OR($A7="",$Q7="",$R7=""),"",IFERROR(($R7-$Q7)/$Q7,"")) | V7: =IF($A7="","",IF($G7="Storniert","Nicht werten",IF(AND($G7<>"Abgeschlossen",$G7<>"Prüfung offen"),"Status prüfen",IF(OR($Q7="",$R7="",$U7=""),"Eingaben prüfen",IF($B$3="","Grenzwert prüfen",IF(OR($G7="Prüfung offen",ABS($U7)>$B$3),"Manuell prüfen","Im Rahmen"))))))
A8: NK-2026-004 | B8: 46250 | C8: Fiktivhaus Lindensteg | D8: Glasflächen | E8: Vierteljährlich | F8: Team Quellstein | G8: Abgeschlossen | H8: 16 | I8: 16.25 | J8: 3 | K8: 3.2 | L8: l | M8: 33 | N8: 33 | O8: 6.5 | P8: 6.5 | Q8: =IF($A8="","",IF(OR($H8="",$M8="",$J8="",$O8=""),"",ROUND($H8*$M8+$J8*$O8,2))) | R8: =IF($A8="","",IF(OR($I8="",$N8="",$K8="",$P8=""),"",ROUND($I8*$N8+$K8*$P8,2))) | S8: =IF(OR($A8="",$H8="",$I8=""),"",ROUND($I8-$H8,2)) | T8: =IF(OR($A8="",$Q8="",$R8=""),"",ROUND($R8-$Q8,2)) | U8: =IF(OR($A8="",$Q8="",$R8=""),"",IFERROR(($R8-$Q8)/$Q8,"")) | V8: =IF($A8="","",IF($G8="Storniert","Nicht werten",IF(AND($G8<>"Abgeschlossen",$G8<>"Prüfung offen"),"Status prüfen",IF(OR($Q8="",$R8="",$U8=""),"Eingaben prüfen",IF($B$3="","Grenzwert prüfen",IF(OR($G8="Prüfung offen",ABS($U8)>$B$3),"Manuell prüfen","Im Rahmen"))))))
A9: NK-2026-005 | B9: 46245 | C9: Fiktivzentrum Sonnenwinkel | D9: Treppenhaus | E9: 2× wöchentlich | F9: Team Grünfarn | G9: Storniert | H9: 10 | I9: 0 | J9: 2 | K9: 0 | L9: l | M9: 31.5 | N9: 31.5 | O9: 4 | P9: 4 | Q9: =IF($A9="","",IF(OR($H9="",$M9="",$J9="",$O9=""),"",ROUND($H9*$M9+$J9*$O9,2))) | R9: =IF($A9="","",IF(OR($I9="",$N9="",$K9="",$P9=""),"",ROUND($I9*$N9+$K9*$P9,2))) | S9: =IF(OR($A9="",$H9="",$I9=""),"",ROUND($I9-$H9,2)) | T9: =IF(OR($A9="",$Q9="",$R9=""),"",ROUND($R9-$Q9,2)) | U9: =IF(OR($A9="",$Q9="",$R9=""),"",IFERROR(($R9-$Q9)/$Q9,"")) | V9: =IF($A9="","",IF($G9="Storniert","Nicht werten",IF(AND($G9<>"Abgeschlossen",$G9<>"Prüfung offen"),"Status prüfen",IF(OR($Q9="",$R9="",$U9=""),"Eingaben prüfen",IF($B$3="","Grenzwert prüfen",IF(OR($G9="Prüfung offen",ABS($U9)>$B$3),"Manuell prüfen","Im Rahmen"))))))
A10: NK-2026-006 | B10: 46239 | C10: Fiktivlager Birkenrain | D10: Lagerboden | E10: Monatlich | F10: Team Kiesel | G10: Abgeschlossen | H10: 20 | I10: 17 | J10: 8 | K10: 7 | L10: kg | M10: 30.5 | N10: 31 | O10: 4 | P10: 4.1 | Q10: =IF($A10="","",IF(OR($H10="",$M10="",$J10="",$O10=""),"",ROUND($H10*$M10+$J10*$O10,2))) | R10: =IF($A10="","",IF(OR($I10="",$N10="",$K10="",$P10=""),"",ROUND($I10*$N10+$K10*$P10,2))) | S10: =IF(OR($A10="",$H10="",$I10=""),"",ROUND($I10-$H10,2)) | T10: =IF(OR($A10="",$Q10="",$R10=""),"",ROUND($R10-$Q10,2)) | U10: =IF(OR($A10="",$Q10="",$R10=""),"",IFERROR(($R10-$Q10)/$Q10,"")) | V10: =IF($A10="","",IF($G10="Storniert","Nicht werten",IF(AND($G10<>"Abgeschlossen",$G10<>"Prüfung offen"),"Status prüfen",IF(OR($Q10="",$R10="",$U10=""),"Eingaben prüfen",IF($B$3="","Grenzwert prüfen",IF(OR($G10="Prüfung offen",ABS($U10)>$B$3),"Manuell prüfen","Im Rahmen"))))))
A11: NK-2026-007 | B11: 46233 | C11: Fiktivforum Silberblatt | D11: Küchenbereich | E11: Täglich | F11: Team Moosblatt | G11: Abgeschlossen | H11: 14 | I11: 14.25 | J11: 5 | K11: 5 | L11: l | M11: 32.5 | N11: 32.5 | O11: 4.5 | P11: 4.6 | Q11: =IF($A11="","",IF(OR($H11="",$M11="",$J11="",$O11=""),"",ROUND($H11*$M11+$J11*$O11,2))) | R11: =IF($A11="","",IF(OR($I11="",$N11="",$K11="",$P11=""),"",ROUND($I11*$N11+$K11*$P11,2))) | S11: =IF(OR($A11="",$H11="",$I11=""),"",ROUND($I11-$H11,2)) | T11: =IF(OR($A11="",$Q11="",$R11=""),"",ROUND($R11-$Q11,2)) | U11: =IF(OR($A11="",$Q11="",$R11=""),"",IFERROR(($R11-$Q11)/$Q11,"")) | V11: =IF($A11="","",IF($G11="Storniert","Nicht werten",IF(AND($G11<>"Abgeschlossen",$G11<>"Prüfung offen"),"Status prüfen",IF(OR($Q11="",$R11="",$U11=""),"Eingaben prüfen",IF($B$3="","Grenzwert prüfen",IF(OR($G11="Prüfung offen",ABS($U11)>$B$3),"Manuell prüfen","Im Rahmen"))))))
A12: NK-2026-008 | B12: 46226 | C12: Fiktivpark Tannenbogen | D12: Besprechungsräume | E12: Wöchentlich | F12: Team Quellstein | G12: Abgeschlossen | H12: 26 | I12: 29.5 | J12: 10 | K12: 12 | L12: l | M12: 31 | N12: 32 | O12: 3.5 | P12: 3.8 | Q12: =IF($A12="","",IF(OR($H12="",$M12="",$J12="",$O12=""),"",ROUND($H12*$M12+$J12*$O12,2))) | R12: =IF($A12="","",IF(OR($I12="",$N12="",$K12="",$P12=""),"",ROUND($I12*$N12+$K12*$P12,2))) | S12: =IF(OR($A12="",$H12="",$I12=""),"",ROUND($I12-$H12,2)) | T12: =IF(OR($A12="",$Q12="",$R12=""),"",ROUND($R12-$Q12,2)) | U12: =IF(OR($A12="",$Q12="",$R12=""),"",IFERROR(($R12-$Q12)/$Q12,"")) | V12: =IF($A12="","",IF($G12="Storniert","Nicht werten",IF(AND($G12<>"Abgeschlossen",$G12<>"Prüfung offen"),"Status prüfen",IF(OR($Q12="",$R12="",$U12=""),"Eingaben prüfen",IF($B$3="","Grenzwert prüfen",IF(OR($G12="Prüfung offen",ABS($U12)>$B$3),"Manuell prüfen","Im Rahmen"))))))
A13: NK-2026-009 | B13: 46219 | C13: Fiktivwerk Erlenblick | D13: Eingangsbereich | E13: Täglich | F13: Team Grünfarn | G13: Abgeschlossen | H13: 9 | I13: 9 | J13: 2 | K13: 2 | L13: l | M13: 34 | N13: 34 | O13: 7 | P13: 7 | Q13: =IF($A13="","",IF(OR($H13="",$M13="",$J13="",$O13=""),"",ROUND($H13*$M13+$J13*$O13,2))) | R13: =IF($A13="","",IF(OR($I13="",$N13="",$K13="",$P13=""),"",ROUND($I13*$N13+$K13*$P13,2))) | S13: =IF(OR($A13="",$H13="",$I13=""),"",ROUND($I13-$H13,2)) | T13: =IF(OR($A13="",$Q13="",$R13=""),"",ROUND($R13-$Q13,2)) | U13: =IF(OR($A13="",$Q13="",$R13=""),"",IFERROR(($R13-$Q13)/$Q13,"")) | V13: =IF($A13="","",IF($G13="Storniert","Nicht werten",IF(AND($G13<>"Abgeschlossen",$G13<>"Prüfung offen"),"Status prüfen",IF(OR($Q13="",$R13="",$U13=""),"Eingaben prüfen",IF($B$3="","Grenzwert prüfen",IF(OR($G13="Prüfung offen",ABS($U13)>$B$3),"Manuell prüfen","Im Rahmen"))))))
A14: NK-2026-010 | B14: 46211 | C14: Fiktivkontor Nebelheide | D14: Außenflächen | E14: Monatlich | F14: Team Kiesel | G14: Abgeschlossen | H14: 15 | I14: 15.75 | J14: 5 | K14: 5.5 | L14: kg | M14: 31.5 | N14: 31.5 | O14: 4 | P14: 4.2 | Q14: =IF($A14="","",IF(OR($H14="",$M14="",$J14="",$O14=""),"",ROUND($H14*$M14+$J14*$O14,2))) | R14: =IF($A14="","",IF(OR($I14="",$N14="",$K14="",$P14=""),"",ROUND($I14*$N14+$K14*$P14,2))) | S14: =IF(OR($A14="",$H14="",$I14=""),"",ROUND($I14-$H14,2)) | T14: =IF(OR($A14="",$Q14="",$R14=""),"",ROUND($R14-$Q14,2)) | U14: =IF(OR($A14="",$Q14="",$R14=""),"",IFERROR(($R14-$Q14)/$Q14,"")) | V14: =IF($A14="","",IF($G14="Storniert","Nicht werten",IF(AND($G14<>"Abgeschlossen",$G14<>"Prüfung offen"),"Status prüfen",IF(OR($Q14="",$R14="",$U14=""),"Eingaben prüfen",IF($B$3="","Grenzwert prüfen",IF(OR($G14="Prüfung offen",ABS($U14)>$B$3),"Manuell prüfen","Im Rahmen"))))))
Q15: =IF($A15="","",IF(OR($H15="",$M15="",$J15="",$O15=""),"",ROUND($H15*$M15+$J15*$O15,2))) | R15: =IF($A15="","",IF(OR($I15="",$N15="",$K15="",$P15=""),"",ROUND($I15*$N15+$K15*$P15,2))) | S15: =IF(OR($A15="",$H15="",$I15=""),"",ROUND($I15-$H15,2)) | T15: =IF(OR($A15="",$Q15="",$R15=""),"",ROUND($R15-$Q15,2)) | U15: =IF(OR($A15="",$Q15="",$R15=""),"",IFERROR(($R15-$Q15)/$Q15,"")) | V15: =IF($A15="","",IF($G15="Storniert","Nicht werten",IF(AND($G15<>"Abgeschlossen",$G15<>"Prüfung offen"),"Status prüfen",IF(OR($Q15="",$R15="",$U15=""),"Eingaben prüfen",IF($B$3="","Grenzwert prüfen",IF(OR($G15="Prüfung offen",ABS($U15)>$B$3),"Manuell prüfen","Im Rahmen"))))))
Q16: =IF($A16="","",IF(OR($H16="",$M16="",$J16="",$O16=""),"",ROUND($H16*$M16+$J16*$O16,2))) | R16: =IF($A16="","",IF(OR($I16="",$N16="",$K16="",$P16=""),"",ROUND($I16*$N16+$K16*$P16,2))) | S16: =IF(OR($A16="",$H16="",$I16=""),"",ROUND($I16-$H16,2)) | T16: =IF(OR($A16="",$Q16="",$R16=""),"",ROUND($R16-$Q16,2)) | U16: =IF(OR($A16="",$Q16="",$R16=""),"",IFERROR(($R16-$Q16)/$Q16,"")) | V16: =IF($A16="","",IF($G16="Storniert","Nicht werten",IF(AND($G16<>"Abgeschlossen",$G16<>"Prüfung offen"),"Status prüfen",IF(OR($Q16="",$R16="",$U16=""),"Eingaben prüfen",IF($B$3="","Grenzwert prüfen",IF(OR($G16="Prüfung offen",ABS($U16)>$B$3),"Manuell prüfen","Im Rahmen"))))))
Q17: =IF($A17="","",IF(OR($H17="",$M17="",$J17="",$O17=""),"",ROUND($H17*$M17+$J17*$O17,2))) | R17: =IF($A17="","",IF(OR($I17="",$N17="",$K17="",$P17=""),"",ROUND($I17*$N17+$K17*$P17,2))) | S17: =IF(OR($A17="",$H17="",$I17=""),"",ROUND($I17-$H17,2)) | T17: =IF(OR($A17="",$Q17="",$R17=""),"",ROUND($R17-$Q17,2)) | U17: =IF(OR($A17="",$Q17="",$R17=""),"",IFERROR(($R17-$Q17)/$Q17,"")) | V17: =IF($A17="","",IF($G17="Storniert","Nicht werten",IF(AND($G17<>"Abgeschlossen",$G17<>"Prüfung offen"),"Status prüfen",IF(OR($Q17="",$R17="",$U17=""),"Eingaben prüfen",IF($B$3="","Grenzwert prüfen",IF(OR($G17="Prüfung offen",ABS($U17)>$B$3),"Manuell prüfen","Im Rahmen"))))))
Q18: =IF($A18="","",IF(OR($H18="",$M18="",$J18="",$O18=""),"",ROUND($H18*$M18+$J18*$O18,2))) | R18: =IF($A18="","",IF(OR($I18="",$N18="",$K18="",$P18=""),"",ROUND($I18*$N18+$K18*$P18,2))) | S18: =IF(OR($A18="",$H18="",$I18=""),"",ROUND($I18-$H18,2)) | T18: =IF(OR($A18="",$Q18="",$R18=""),"",ROUND($R18-$Q18,2)) | U18: =IF(OR($A18="",$Q18="",$R18=""),"",IFERROR(($R18-$Q18)/$Q18,"")) | V18: =IF($A18="","",IF($G18="Storniert","Nicht werten",IF(AND($G18<>"Abgeschlossen",$G18<>"Prüfung offen"),"Status prüfen",IF(OR($Q18="",$R18="",$U18=""),"Eingaben prüfen",IF($B$3="","Grenzwert prüfen",IF(OR($G18="Prüfung offen",ABS($U18)>$B$3),"Manuell prüfen","Im Rahmen"))))))
Q19: =IF($A19="","",IF(OR($H19="",$M19="",$J19="",$O19=""),"",ROUND($H19*$M19+$J19*$O19,2))) | R19: =IF($A19="","",IF(OR($I19="",$N19="",$K19="",$P19=""),"",ROUND($I19*$N19+$K19*$P19,2))) | S19: =IF(OR($A19="",$H19="",$I19=""),"",ROUND($I19-$H19,2)) | T19: =IF(OR($A19="",$Q19="",$R19=""),"",ROUND($R19-$Q19,2)) | U19: =IF(OR($A19="",$Q19="",$R19=""),"",IFERROR(($R19-$Q19)/$Q19,"")) | V19: =IF($A19="","",IF($G19="Storniert","Nicht werten",IF(AND($G19<>"Abgeschlossen",$G19<>"Prüfung offen"),"Status prüfen",IF(OR($Q19="",$R19="",$U19=""),"Eingaben prüfen",IF($B$3="","Grenzwert prüfen",IF(OR($G19="Prüfung offen",ABS($U19)>$B$3),"Manuell prüfen","Im Rahmen"))))))
Q20: =IF($A20="","",IF(OR($H20="",$M20="",$J20="",$O20=""),"",ROUND($H20*$M20+$J20*$O20,2))) | R20: =IF($A20="","",IF(OR($I20="",$N20="",$K20="",$P20=""),"",ROUND($I20*$N20+$K20*$P20,2))) | S20: =IF(OR($A20="",$H20="",$I20=""),"",ROUND($I20-$H20,2)) | T20: =IF(OR($A20="",$Q20="",$R20=""),"",ROUND($R20-$Q20,2)) | U20: =IF(OR($A20="",$Q20="",$R20=""),"",IFERROR(($R20-$Q20)/$Q20,"")) | V20: =IF($A20="","",IF($G20="Storniert","Nicht werten",IF(AND($G20<>"Abgeschlossen",$G20<>"Prüfung offen"),"Status prüfen",IF(OR($Q20="",$R20="",$U20=""),"Eingaben prüfen",IF($B$3="","Grenzwert prüfen",IF(OR($G20="Prüfung offen",ABS($U20)>$B$3),"Manuell prüfen","Im Rahmen"))))))
Q21: =IF($A21="","",IF(OR($H21="",$M21="",$J21="",$O21=""),"",ROUND($H21*$M21+$J21*$O21,2))) | R21: =IF($A21="","",IF(OR($I21="",$N21="",$K21="",$P21=""),"",ROUND($I21*$N21+$K21*$P21,2))) | S21: =IF(OR($A21="",$H21="",$I21=""),"",ROUND($I21-$H21,2)) | T21: =IF(OR($A21="",$Q21="",$R21=""),"",ROUND($R21-$Q21,2)) | U21: =IF(OR($A21="",$Q21="",$R21=""),"",IFERROR(($R21-$Q21)/$Q21,"")) | V21: =IF($A21="","",IF($G21="Storniert","Nicht werten",IF(AND($G21<>"Abgeschlossen",$G21<>"Prüfung offen"),"Status prüfen",IF(OR($Q21="",$R21="",$U21=""),"Eingaben prüfen",IF($B$3="","Grenzwert prüfen",IF(OR($G21="Prüfung offen",ABS($U21)>$B$3),"Manuell prüfen","Im Rahmen"))))))
Q22: =IF($A22="","",IF(OR($H22="",$M22="",$J22="",$O22=""),"",ROUND($H22*$M22+$J22*$O22,2))) | R22: =IF($A22="","",IF(OR($I22="",$N22="",$K22="",$P22=""),"",ROUND($I22*$N22+$K22*$P22,2))) | S22: =IF(OR($A22="",$H22="",$I22=""),"",ROUND($I22-$H22,2)) | T22: =IF(OR($A22="",$Q22="",$R22=""),"",ROUND($R22-$Q22,2)) | U22: =IF(OR($A22="",$Q22="",$R22=""),"",IFERROR(($R22-$Q22)/$Q22,"")) | V22: =IF($A22="","",IF($G22="Storniert","Nicht werten",IF(AND($G22<>"Abgeschlossen",$G22<>"Prüfung offen"),"Status prüfen",IF(OR($Q22="",$R22="",$U22=""),"Eingaben prüfen",IF($B$3="","Grenzwert prüfen",IF(OR($G22="Prüfung offen",ABS($U22)>$B$3),"Manuell prüfen","Im Rahmen"))))))
Q23: =IF($A23="","",IF(OR($H23="",$M23="",$J23="",$O23=""),"",ROUND($H23*$M23+$J23*$O23,2))) | R23: =IF($A23="","",IF(OR($I23="",$N23="",$K23="",$P23=""),"",ROUND($I23*$N23+$K23*$P23,2))) | S23: =IF(OR($A23="",$H23="",$I23=""),"",ROUND($I23-$H23,2)) | T23: =IF(OR($A23="",$Q23="",$R23=""),"",ROUND($R23-$Q23,2)) | U23: =IF(OR($A23="",$Q23="",$R23=""),"",IFERROR(($R23-$Q23)/$Q23,"")) | V23: =IF($A23="","",IF($G23="Storniert","Nicht werten",IF(AND($G23<>"Abgeschlossen",$G23<>"Prüfung offen"),"Status prüfen",IF(OR($Q23="",$R23="",$U23=""),"Eingaben prüfen",IF($B$3="","Grenzwert prüfen",IF(OR($G23="Prüfung offen",ABS($U23)>$B$3),"Manuell prüfen","Im Rahmen"))))))
Q24: =IF($A24="","",IF(OR($H24="",$M24="",$J24="",$O24=""),"",ROUND($H24*$M24+$J24*$O24,2))) | R24: =IF($A24="","",IF(OR($I24="",$N24="",$K24="",$P24=""),"",ROUND($I24*$N24+$K24*$P24,2))) | S24: =IF(OR($A24="",$H24="",$I24=""),"",ROUND($I24-$H24,2)) | T24: =IF(OR($A24="",$Q24="",$R24=""),"",ROUND($R24-$Q24,2)) | U24: =IF(OR($A24="",$Q24="",$R24=""),"",IFERROR(($R24-$Q24)/$Q24,"")) | V24: =IF($A24="","",IF($G24="Storniert","Nicht werten",IF(AND($G24<>"Abgeschlossen",$G24<>"Prüfung offen"),"Status prüfen",IF(OR($Q24="",$R24="",$U24=""),"Eingaben prüfen",IF($B$3="","Grenzwert prüfen",IF(OR($G24="Prüfung offen",ABS($U24)>$B$3),"Manuell prüfen","Im Rahmen"))))))
Q25: =IF($A25="","",IF(OR($H25="",$M25="",$J25="",$O25=""),"",ROUND($H25*$M25+$J25*$O25,2))) | R25: =IF($A25="","",IF(OR($I25="",$N25="",$K25="",$P25=""),"",ROUND($I25*$N25+$K25*$P25,2))) | S25: =IF(OR($A25="",$H25="",$I25=""),"",ROUND($I25-$H25,2)) | T25: =IF(OR($A25="",$Q25="",$R25=""),"",ROUND($R25-$Q25,2)) | U25: =IF(OR($A25="",$Q25="",$R25=""),"",IFERROR(($R25-$Q25)/$Q25,"")) | V25: =IF($A25="","",IF($G25="Storniert","Nicht werten",IF(AND($G25<>"Abgeschlossen",$G25<>"Prüfung offen"),"Status prüfen",IF(OR($Q25="",$R25="",$U25=""),"Eingaben prüfen",IF($B$3="","Grenzwert prüfen",IF(OR($G25="Prüfung offen",ABS($U25)>$B$3),"Manuell prüfen","Im Rahmen"))))))
Q26: =IF($A26="","",IF(OR($H26="",$M26="",$J26="",$O26=""),"",ROUND($H26*$M26+$J26*$O26,2))) | R26: =IF($A26="","",IF(OR($I26="",$N26="",$K26="",$P26=""),"",ROUND($I26*$N26+$K26*$P26,2))) | S26: =IF(OR($A26="",$H26="",$I26=""),"",ROUND($I26-$H26,2)) | T26: =IF(OR($A26="",$Q26="",$R26=""),"",ROUND($R26-$Q26,2)) | U26: =IF(OR($A26="",$Q26="",$R26=""),"",IFERROR(($R26-$Q26)/$Q26,"")) | V26: =IF($A26="","",IF($G26="Storniert","Nicht werten",IF(AND($G26<>"Abgeschlossen",$G26<>"Prüfung offen"),"Status prüfen",IF(OR($Q26="",$R26="",$U26=""),"Eingaben prüfen",IF($B$3="","Grenzwert prüfen",IF(OR($G26="Prüfung offen",ABS($U26)>$B$3),"Manuell prüfen","Im Rahmen"))))))
... Q104: =IF($A104="","",IF(OR($H104="",$M104="",$J104="",$O104=""),"",ROUND($H104*$M104+$J104*$O104,2))) | R104: =IF($A104="","",IF(OR($I104="",$N104="",$K104="",$P104=""),"",ROUND($I104*$N104+$K104*$P104,2))) | S104: =IF(OR($A104="",$H104="",$I104=""),"",ROUND($I104-$H104,2)) | T104: =IF(OR($A104="",$Q104="",$R104=""),"",ROUND($R104-$Q104,2)) | U104: =IF(OR($A104="",$Q104="",$R104=""),"",IFERROR(($R104-$Q104)/$Q104,"")) | V104: =IF($A104="","",IF($G104="Storniert","Nicht werten",IF(AND($G104<>"Abgeschlossen",$G104<>"Prüfung offen"),"Status prüfen",IF(OR($Q104="",$R104="",$U104=""),"Eingaben prüfen",IF($B$3="","Grenzwert prüfen",IF(OR($G104="Prüfung offen",ABS($U104)>$B$3),"Manuell prüfen","Im Rahmen"))))))

Sheet Parameter
A1: Parameter und stabile Statuswerte
A2: Grün markierte Werte sind veränderbare Annahmen. Änderungen beeinflussen die Formeln beziehungsweise die zulässigen Abschlussdaten.
A3: Annahme | B3: Wert | C3: Einheit | D3: Hinweis | F3: Stabile Statuswerte
A4: Prüfschwelle absolute Kostenabweichung | B4: 0.1 | C4: % | D4: Ab diesem absoluten Anteil wird eine manuelle Prüfung empfohlen. | F4: Abgeschlossen
A5: Frühestes zulässiges Abschlussdatum | B5: 45292 | C5: Datum | D5: Untergrenze für neue Abschlussdaten im Blatt Aufträge. | F5: Prüfung offen
A6: Spätestes zulässiges Abschlussdatum | B6: 46752 | C6: Datum | D6: Obergrenze für neue Abschlussdaten im Blatt Aufträge. | F6: Storniert
A8: Die Statuswerte sind fest für die Auswertung vorgesehen. Die Prüfschwelle ist eine betriebliche Annahme und keine verbindliche Vorgabe.
