Workbook

Sheet Übersicht
A1: Rechnungsübersicht Reinigungsfirma Excel
A3: Kennzahl | B3: Wert | D3: Fälligkeitslage | E3: Offener Betrag | F3: Anzahl
A4: Auswertungsdatum | B4: =Parameter!$B$4 | D4: Überfällig | E4: =SUMIFS(Rechnungen!$M$4:$M$103,Rechnungen!$H$4:$H$103,">0",Rechnungen!$H$4:$H$103,"<"&Parameter!$B$4,Rechnungen!$M$4:$M$103,">0",Rechnungen!$L$4:$L$103,"<>"&Parameter!$F$7) | F4: =COUNTIFS(Rechnungen!$H$4:$H$103,">0",Rechnungen!$H$4:$H$103,"<"&Parameter!$B$4,Rechnungen!$M$4:$M$103,">0",Rechnungen!$L$4:$L$103,"<>"&Parameter!$F$7)
A5: Erfasste Rechnungen | B5: =COUNTIF(Rechnungen!$A$4:$A$103,"<>") | D5: Bald fällig | E5: =SUMIFS(Rechnungen!$M$4:$M$103,Rechnungen!$H$4:$H$103,">="&Parameter!$B$4,Rechnungen!$H$4:$H$103,"<="&Parameter!$B$4+Parameter!$B$5,Rechnungen!$M$4:$M$103,">0",Rechnungen!$L$4:$L$103,"<>"&Parameter!$F$7) | F5: =COUNTIFS(Rechnungen!$H$4:$H$103,">="&Parameter!$B$4,Rechnungen!$H$4:$H$103,"<="&Parameter!$B$4+Parameter!$B$5,Rechnungen!$M$4:$M$103,">0",Rechnungen!$L$4:$L$103,"<>"&Parameter!$F$7)
A6: Rechnungsvolumen | B6: =SUM(Rechnungen!$I$4:$I$103) | D6: Später fällig | E6: =SUMIFS(Rechnungen!$M$4:$M$103,Rechnungen!$H$4:$H$103,">"&Parameter!$B$4+Parameter!$B$5,Rechnungen!$M$4:$M$103,">0",Rechnungen!$L$4:$L$103,"<>"&Parameter!$F$7) | F6: =COUNTIFS(Rechnungen!$H$4:$H$103,">"&Parameter!$B$4+Parameter!$B$5,Rechnungen!$M$4:$M$103,">0",Rechnungen!$L$4:$L$103,"<>"&Parameter!$F$7)
A7: Zahlungseingänge | B7: =SUM(Rechnungen!$J$4:$J$103) | D7: Fälligkeit fehlt | E7: =SUMIFS(Rechnungen!$M$4:$M$103,Rechnungen!$H$4:$H$103,"",Rechnungen!$M$4:$M$103,">0",Rechnungen!$L$4:$L$103,"<>"&Parameter!$F$7) | F7: =COUNTIFS(Rechnungen!$H$4:$H$103,"",Rechnungen!$M$4:$M$103,">0",Rechnungen!$L$4:$L$103,"<>"&Parameter!$F$7)
A8: Offener Betrag | B8: =SUM(Rechnungen!$M$4:$M$103) | D8: Gesamt offen | E8: =SUM(Rechnungen!$M$4:$M$103) | F8: =COUNTIFS(Rechnungen!$M$4:$M$103,">0",Rechnungen!$L$4:$L$103,"<>"&Parameter!$F$7)
A9: Überfälliger Betrag | B9: =SUMIFS(Rechnungen!$M$4:$M$103,Rechnungen!$H$4:$H$103,">0",Rechnungen!$H$4:$H$103,"<"&Parameter!$B$4,Rechnungen!$M$4:$M$103,">0",Rechnungen!$L$4:$L$103,"<>"&Parameter!$F$7)
A10: Überfällige Rechnungen | B10: =COUNTIFS(Rechnungen!$H$4:$H$103,">0",Rechnungen!$H$4:$H$103,"<"&Parameter!$B$4,Rechnungen!$M$4:$M$103,">0",Rechnungen!$L$4:$L$103,"<>"&Parameter!$F$7) | D10: Zahlungsstatus | E10: Anzahl | F10: Rechnungsvolumen
A11: Bald fälliger Betrag | B11: =SUMIFS(Rechnungen!$M$4:$M$103,Rechnungen!$H$4:$H$103,">="&Parameter!$B$4,Rechnungen!$H$4:$H$103,"<="&Parameter!$B$4+Parameter!$B$5,Rechnungen!$M$4:$M$103,">0",Rechnungen!$L$4:$L$103,"<>"&Parameter!$F$7) | D11: =Parameter!$F$4 | E11: =COUNTIF(Rechnungen!$L$4:$L$103,$D11) | F11: =SUMIF(Rechnungen!$L$4:$L$103,$D11,Rechnungen!$I$4:$I$103)
A12: Rechnungen mit Prüfhinweis | B12: =COUNTIF(Rechnungen!$N$4:$N$103,"?*") | D12: =Parameter!$F$5 | E12: =COUNTIF(Rechnungen!$L$4:$L$103,$D12) | F12: =SUMIF(Rechnungen!$L$4:$L$103,$D12,Rechnungen!$I$4:$I$103)
A13: Durchschnittlicher Rechnungsbetrag | B13: =IFERROR(SUM(Rechnungen!$I$4:$I$103)/COUNT(Rechnungen!$I$4:$I$103),0) | D13: =Parameter!$F$6 | E13: =COUNTIF(Rechnungen!$L$4:$L$103,$D13) | F13: =SUMIF(Rechnungen!$L$4:$L$103,$D13,Rechnungen!$I$4:$I$103)
D14: =Parameter!$F$7 | E14: =COUNTIF(Rechnungen!$L$4:$L$103,$D14) | F14: =SUMIF(Rechnungen!$L$4:$L$103,$D14,Rechnungen!$I$4:$I$103)

Sheet Rechnungen
A1: Rechnungen
A2: Grün = manuelle Eingabe; Restbetrag und Prüfhinweis werden berechnet. Alle Beispielvorgänge und Kennungen sind fiktiv.
A3: Rechnungs-ID | B3: Objektkennung | C3: Zuständigkeit | D3: Reinigungsbereich | E3: Leistungsbeginn | F3: Leistungsende | G3: Rechnungsdatum | H3: Fälligkeit | I3: Rechnungsbetrag (€) | J3: Zahlungseingang (€) | K3: Zahlungsdatum | L3: Zahlungsstatus | M3: Restbetrag (€) | N3: Prüfhinweis
A4: RG-2026-001 | B4: OBJ-FIK-101 | C4: Team Nord | D4: Unterhaltsreinigung | E4: 46209 | F4: 46238 | G4: 46239 | H4: 46269 | I4: 1249.5 | J4: 0 | L4: Offen | M4: =IF(OR($A4="",$I4=""),"",IFERROR(IF($L4=Parameter!$F$7,0,MAX($I4-IF($J4="",0,$J4),0)),"")) | N4: =IF($A4="","",IF(OR($B4="",$C4="",$D4="",$E4="",$F4="",$G4="",$H4="",$I4="",$L4=""),"Pflichtangaben prüfen",IF($L4=Parameter!$F$7,IF(OR($J4>0,$K4<>""),"Storno mit Zahlung prüfen",""),IF(OR($J4>$I4,AND($L4=Parameter!$F$6,$M4>0),AND($L4<>Parameter!$F$6,$M4=0),AND($L4=Parameter!$F$5,OR($J4<=0,$M4<=0)),AND($L4=Parameter!$F$4,$J4>0)),"Status/Zahlung prüfen",IF(AND($J4>0,$K4=""),"Zahlungsdatum ergänzen",IF(AND($J4=0,$K4<>""),"Zahlungseingang prüfen",IF(AND($M4>0,$H4<Parameter!$B$4),"Überfällig – manuell prüfen",IF(AND($M4>0,$H4>=Parameter!$B$4,$H4<=Parameter!$B$4+Parameter!$B$5),"Bald fällig – manuell prüfen",""))))))))
A5: RG-2026-002 | B5: OBJ-FIK-114 | C5: Team Mitte | D5: Glasreinigung | E5: 46204 | F5: 46233 | G5: 46234 | H5: 46264 | I5: 860 | J5: 860 | K5: 46266 | L5: Bezahlt | M5: =IF(OR($A5="",$I5=""),"",IFERROR(IF($L5=Parameter!$F$7,0,MAX($I5-IF($J5="",0,$J5),0)),"")) | N5: =IF($A5="","",IF(OR($B5="",$C5="",$D5="",$E5="",$F5="",$G5="",$H5="",$I5="",$L5=""),"Pflichtangaben prüfen",IF($L5=Parameter!$F$7,IF(OR($J5>0,$K5<>""),"Storno mit Zahlung prüfen",""),IF(OR($J5>$I5,AND($L5=Parameter!$F$6,$M5>0),AND($L5<>Parameter!$F$6,$M5=0),AND($L5=Parameter!$F$5,OR($J5<=0,$M5<=0)),AND($L5=Parameter!$F$4,$J5>0)),"Status/Zahlung prüfen",IF(AND($J5>0,$K5=""),"Zahlungsdatum ergänzen",IF(AND($J5=0,$K5<>""),"Zahlungseingang prüfen",IF(AND($M5>0,$H5<Parameter!$B$4),"Überfällig – manuell prüfen",IF(AND($M5>0,$H5>=Parameter!$B$4,$H5<=Parameter!$B$4+Parameter!$B$5),"Bald fällig – manuell prüfen",""))))))))
A6: RG-2026-003 | B6: OBJ-FIK-127 | C6: Team Süd | D6: Sanitärreinigung | E6: 46214 | F6: 46243 | G6: 46244 | H6: 46272 | I6: 1785 | J6: 600 | K6: 46262 | L6: Teilbezahlt | M6: =IF(OR($A6="",$I6=""),"",IFERROR(IF($L6=Parameter!$F$7,0,MAX($I6-IF($J6="",0,$J6),0)),"")) | N6: =IF($A6="","",IF(OR($B6="",$C6="",$D6="",$E6="",$F6="",$G6="",$H6="",$I6="",$L6=""),"Pflichtangaben prüfen",IF($L6=Parameter!$F$7,IF(OR($J6>0,$K6<>""),"Storno mit Zahlung prüfen",""),IF(OR($J6>$I6,AND($L6=Parameter!$F$6,$M6>0),AND($L6<>Parameter!$F$6,$M6=0),AND($L6=Parameter!$F$5,OR($J6<=0,$M6<=0)),AND($L6=Parameter!$F$4,$J6>0)),"Status/Zahlung prüfen",IF(AND($J6>0,$K6=""),"Zahlungsdatum ergänzen",IF(AND($J6=0,$K6<>""),"Zahlungseingang prüfen",IF(AND($M6>0,$H6<Parameter!$B$4),"Überfällig – manuell prüfen",IF(AND($M6>0,$H6>=Parameter!$B$4,$H6<=Parameter!$B$4+Parameter!$B$5),"Bald fällig – manuell prüfen",""))))))))
A7: RG-2026-004 | B7: OBJ-FIK-132 | C7: Team West | D7: Treppenhausreinigung | E7: 46242 | F7: 46258 | G7: 46260 | H7: 46277 | I7: 540 | J7: 0 | L7: Offen | M7: =IF(OR($A7="",$I7=""),"",IFERROR(IF($L7=Parameter!$F$7,0,MAX($I7-IF($J7="",0,$J7),0)),"")) | N7: =IF($A7="","",IF(OR($B7="",$C7="",$D7="",$E7="",$F7="",$G7="",$H7="",$I7="",$L7=""),"Pflichtangaben prüfen",IF($L7=Parameter!$F$7,IF(OR($J7>0,$K7<>""),"Storno mit Zahlung prüfen",""),IF(OR($J7>$I7,AND($L7=Parameter!$F$6,$M7>0),AND($L7<>Parameter!$F$6,$M7=0),AND($L7=Parameter!$F$5,OR($J7<=0,$M7<=0)),AND($L7=Parameter!$F$4,$J7>0)),"Status/Zahlung prüfen",IF(AND($J7>0,$K7=""),"Zahlungsdatum ergänzen",IF(AND($J7=0,$K7<>""),"Zahlungseingang prüfen",IF(AND($M7>0,$H7<Parameter!$B$4),"Überfällig – manuell prüfen",IF(AND($M7>0,$H7>=Parameter!$B$4,$H7<=Parameter!$B$4+Parameter!$B$5),"Bald fällig – manuell prüfen",""))))))))
A8: RG-2026-005 | B8: OBJ-FIK-145 | C8: Team Nord | D8: Grundreinigung | E8: 46194 | F8: 46223 | G8: 46224 | H8: 46254 | I8: 2150 | J8: 2150 | K8: 46256 | L8: Bezahlt | M8: =IF(OR($A8="",$I8=""),"",IFERROR(IF($L8=Parameter!$F$7,0,MAX($I8-IF($J8="",0,$J8),0)),"")) | N8: =IF($A8="","",IF(OR($B8="",$C8="",$D8="",$E8="",$F8="",$G8="",$H8="",$I8="",$L8=""),"Pflichtangaben prüfen",IF($L8=Parameter!$F$7,IF(OR($J8>0,$K8<>""),"Storno mit Zahlung prüfen",""),IF(OR($J8>$I8,AND($L8=Parameter!$F$6,$M8>0),AND($L8<>Parameter!$F$6,$M8=0),AND($L8=Parameter!$F$5,OR($J8<=0,$M8<=0)),AND($L8=Parameter!$F$4,$J8>0)),"Status/Zahlung prüfen",IF(AND($J8>0,$K8=""),"Zahlungsdatum ergänzen",IF(AND($J8=0,$K8<>""),"Zahlungseingang prüfen",IF(AND($M8>0,$H8<Parameter!$B$4),"Überfällig – manuell prüfen",IF(AND($M8>0,$H8>=Parameter!$B$4,$H8<=Parameter!$B$4+Parameter!$B$5),"Bald fällig – manuell prüfen",""))))))))
A9: RG-2026-006 | B9: OBJ-FIK-158 | C9: Team Ost | D9: Bodenpflege | E9: 46249 | F9: 46261 | G9: 46262 | H9: 46286 | I9: 975.4 | J9: 0 | L9: Offen | M9: =IF(OR($A9="",$I9=""),"",IFERROR(IF($L9=Parameter!$F$7,0,MAX($I9-IF($J9="",0,$J9),0)),"")) | N9: =IF($A9="","",IF(OR($B9="",$C9="",$D9="",$E9="",$F9="",$G9="",$H9="",$I9="",$L9=""),"Pflichtangaben prüfen",IF($L9=Parameter!$F$7,IF(OR($J9>0,$K9<>""),"Storno mit Zahlung prüfen",""),IF(OR($J9>$I9,AND($L9=Parameter!$F$6,$M9>0),AND($L9<>Parameter!$F$6,$M9=0),AND($L9=Parameter!$F$5,OR($J9<=0,$M9<=0)),AND($L9=Parameter!$F$4,$J9>0)),"Status/Zahlung prüfen",IF(AND($J9>0,$K9=""),"Zahlungsdatum ergänzen",IF(AND($J9=0,$K9<>""),"Zahlungseingang prüfen",IF(AND($M9>0,$H9<Parameter!$B$4),"Überfällig – manuell prüfen",IF(AND($M9>0,$H9>=Parameter!$B$4,$H9<=Parameter!$B$4+Parameter!$B$5),"Bald fällig – manuell prüfen",""))))))))
A10: RG-2026-007 | B10: OBJ-FIK-163 | C10: Team Mitte | D10: Unterhaltsreinigung | E10: 46254 | F10: 46268 | G10: 46269 | H10: 46283 | I10: 430 | J10: 0 | L10: Storniert | M10: =IF(OR($A10="",$I10=""),"",IFERROR(IF($L10=Parameter!$F$7,0,MAX($I10-IF($J10="",0,$J10),0)),"")) | N10: =IF($A10="","",IF(OR($B10="",$C10="",$D10="",$E10="",$F10="",$G10="",$H10="",$I10="",$L10=""),"Pflichtangaben prüfen",IF($L10=Parameter!$F$7,IF(OR($J10>0,$K10<>""),"Storno mit Zahlung prüfen",""),IF(OR($J10>$I10,AND($L10=Parameter!$F$6,$M10>0),AND($L10<>Parameter!$F$6,$M10=0),AND($L10=Parameter!$F$5,OR($J10<=0,$M10<=0)),AND($L10=Parameter!$F$4,$J10>0)),"Status/Zahlung prüfen",IF(AND($J10>0,$K10=""),"Zahlungsdatum ergänzen",IF(AND($J10=0,$K10<>""),"Zahlungseingang prüfen",IF(AND($M10>0,$H10<Parameter!$B$4),"Überfällig – manuell prüfen",IF(AND($M10>0,$H10>=Parameter!$B$4,$H10<=Parameter!$B$4+Parameter!$B$5),"Bald fällig – manuell prüfen",""))))))))
A11: RG-2026-008 | B11: OBJ-FIK-176 | C11: Team Süd | D11: Glasreinigung | E11: 46239 | F11: 46257 | G11: 46258 | H11: 46275 | I11: 3200 | J11: 1600 | K11: 46270 | L11: Teilbezahlt | M11: =IF(OR($A11="",$I11=""),"",IFERROR(IF($L11=Parameter!$F$7,0,MAX($I11-IF($J11="",0,$J11),0)),"")) | N11: =IF($A11="","",IF(OR($B11="",$C11="",$D11="",$E11="",$F11="",$G11="",$H11="",$I11="",$L11=""),"Pflichtangaben prüfen",IF($L11=Parameter!$F$7,IF(OR($J11>0,$K11<>""),"Storno mit Zahlung prüfen",""),IF(OR($J11>$I11,AND($L11=Parameter!$F$6,$M11>0),AND($L11<>Parameter!$F$6,$M11=0),AND($L11=Parameter!$F$5,OR($J11<=0,$M11<=0)),AND($L11=Parameter!$F$4,$J11>0)),"Status/Zahlung prüfen",IF(AND($J11>0,$K11=""),"Zahlungsdatum ergänzen",IF(AND($J11=0,$K11<>""),"Zahlungseingang prüfen",IF(AND($M11>0,$H11<Parameter!$B$4),"Überfällig – manuell prüfen",IF(AND($M11>0,$H11>=Parameter!$B$4,$H11<=Parameter!$B$4+Parameter!$B$5),"Bald fällig – manuell prüfen",""))))))))
A12: RG-2026-009 | B12: OBJ-FIK-189 | C12: Team West | D12: Sanitärreinigung | E12: 46219 | F12: 46248 | G12: 46249 | H12: 46279 | I12: 690 | J12: 690 | K12: 46272 | L12: Bezahlt | M12: =IF(OR($A12="",$I12=""),"",IFERROR(IF($L12=Parameter!$F$7,0,MAX($I12-IF($J12="",0,$J12),0)),"")) | N12: =IF($A12="","",IF(OR($B12="",$C12="",$D12="",$E12="",$F12="",$G12="",$H12="",$I12="",$L12=""),"Pflichtangaben prüfen",IF($L12=Parameter!$F$7,IF(OR($J12>0,$K12<>""),"Storno mit Zahlung prüfen",""),IF(OR($J12>$I12,AND($L12=Parameter!$F$6,$M12>0),AND($L12<>Parameter!$F$6,$M12=0),AND($L12=Parameter!$F$5,OR($J12<=0,$M12<=0)),AND($L12=Parameter!$F$4,$J12>0)),"Status/Zahlung prüfen",IF(AND($J12>0,$K12=""),"Zahlungsdatum ergänzen",IF(AND($J12=0,$K12<>""),"Zahlungseingang prüfen",IF(AND($M12>0,$H12<Parameter!$B$4),"Überfällig – manuell prüfen",IF(AND($M12>0,$H12>=Parameter!$B$4,$H12<=Parameter!$B$4+Parameter!$B$5),"Bald fällig – manuell prüfen",""))))))))
A13: RG-2026-010 | B13: OBJ-FIK-194 | C13: Team Ost | D13: Treppenhausreinigung | E13: 46256 | F13: 46266 | G13: 46267 | H13: 46299 | I13: 1480 | J13: 0 | L13: Offen | M13: =IF(OR($A13="",$I13=""),"",IFERROR(IF($L13=Parameter!$F$7,0,MAX($I13-IF($J13="",0,$J13),0)),"")) | N13: =IF($A13="","",IF(OR($B13="",$C13="",$D13="",$E13="",$F13="",$G13="",$H13="",$I13="",$L13=""),"Pflichtangaben prüfen",IF($L13=Parameter!$F$7,IF(OR($J13>0,$K13<>""),"Storno mit Zahlung prüfen",""),IF(OR($J13>$I13,AND($L13=Parameter!$F$6,$M13>0),AND($L13<>Parameter!$F$6,$M13=0),AND($L13=Parameter!$F$5,OR($J13<=0,$M13<=0)),AND($L13=Parameter!$F$4,$J13>0)),"Status/Zahlung prüfen",IF(AND($J13>0,$K13=""),"Zahlungsdatum ergänzen",IF(AND($J13=0,$K13<>""),"Zahlungseingang prüfen",IF(AND($M13>0,$H13<Parameter!$B$4),"Überfällig – manuell prüfen",IF(AND($M13>0,$H13>=Parameter!$B$4,$H13<=Parameter!$B$4+Parameter!$B$5),"Bald fällig – manuell prüfen",""))))))))
M14: =IF(OR($A14="",$I14=""),"",IFERROR(IF($L14=Parameter!$F$7,0,MAX($I14-IF($J14="",0,$J14),0)),"")) | N14: =IF($A14="","",IF(OR($B14="",$C14="",$D14="",$E14="",$F14="",$G14="",$H14="",$I14="",$L14=""),"Pflichtangaben prüfen",IF($L14=Parameter!$F$7,IF(OR($J14>0,$K14<>""),"Storno mit Zahlung prüfen",""),IF(OR($J14>$I14,AND($L14=Parameter!$F$6,$M14>0),AND($L14<>Parameter!$F$6,$M14=0),AND($L14=Parameter!$F$5,OR($J14<=0,$M14<=0)),AND($L14=Parameter!$F$4,$J14>0)),"Status/Zahlung prüfen",IF(AND($J14>0,$K14=""),"Zahlungsdatum ergänzen",IF(AND($J14=0,$K14<>""),"Zahlungseingang prüfen",IF(AND($M14>0,$H14<Parameter!$B$4),"Überfällig – manuell prüfen",IF(AND($M14>0,$H14>=Parameter!$B$4,$H14<=Parameter!$B$4+Parameter!$B$5),"Bald fällig – manuell prüfen",""))))))))
M15: =IF(OR($A15="",$I15=""),"",IFERROR(IF($L15=Parameter!$F$7,0,MAX($I15-IF($J15="",0,$J15),0)),"")) | N15: =IF($A15="","",IF(OR($B15="",$C15="",$D15="",$E15="",$F15="",$G15="",$H15="",$I15="",$L15=""),"Pflichtangaben prüfen",IF($L15=Parameter!$F$7,IF(OR($J15>0,$K15<>""),"Storno mit Zahlung prüfen",""),IF(OR($J15>$I15,AND($L15=Parameter!$F$6,$M15>0),AND($L15<>Parameter!$F$6,$M15=0),AND($L15=Parameter!$F$5,OR($J15<=0,$M15<=0)),AND($L15=Parameter!$F$4,$J15>0)),"Status/Zahlung prüfen",IF(AND($J15>0,$K15=""),"Zahlungsdatum ergänzen",IF(AND($J15=0,$K15<>""),"Zahlungseingang prüfen",IF(AND($M15>0,$H15<Parameter!$B$4),"Überfällig – manuell prüfen",IF(AND($M15>0,$H15>=Parameter!$B$4,$H15<=Parameter!$B$4+Parameter!$B$5),"Bald fällig – manuell prüfen",""))))))))
M16: =IF(OR($A16="",$I16=""),"",IFERROR(IF($L16=Parameter!$F$7,0,MAX($I16-IF($J16="",0,$J16),0)),"")) | N16: =IF($A16="","",IF(OR($B16="",$C16="",$D16="",$E16="",$F16="",$G16="",$H16="",$I16="",$L16=""),"Pflichtangaben prüfen",IF($L16=Parameter!$F$7,IF(OR($J16>0,$K16<>""),"Storno mit Zahlung prüfen",""),IF(OR($J16>$I16,AND($L16=Parameter!$F$6,$M16>0),AND($L16<>Parameter!$F$6,$M16=0),AND($L16=Parameter!$F$5,OR($J16<=0,$M16<=0)),AND($L16=Parameter!$F$4,$J16>0)),"Status/Zahlung prüfen",IF(AND($J16>0,$K16=""),"Zahlungsdatum ergänzen",IF(AND($J16=0,$K16<>""),"Zahlungseingang prüfen",IF(AND($M16>0,$H16<Parameter!$B$4),"Überfällig – manuell prüfen",IF(AND($M16>0,$H16>=Parameter!$B$4,$H16<=Parameter!$B$4+Parameter!$B$5),"Bald fällig – manuell prüfen",""))))))))
M17: =IF(OR($A17="",$I17=""),"",IFERROR(IF($L17=Parameter!$F$7,0,MAX($I17-IF($J17="",0,$J17),0)),"")) | N17: =IF($A17="","",IF(OR($B17="",$C17="",$D17="",$E17="",$F17="",$G17="",$H17="",$I17="",$L17=""),"Pflichtangaben prüfen",IF($L17=Parameter!$F$7,IF(OR($J17>0,$K17<>""),"Storno mit Zahlung prüfen",""),IF(OR($J17>$I17,AND($L17=Parameter!$F$6,$M17>0),AND($L17<>Parameter!$F$6,$M17=0),AND($L17=Parameter!$F$5,OR($J17<=0,$M17<=0)),AND($L17=Parameter!$F$4,$J17>0)),"Status/Zahlung prüfen",IF(AND($J17>0,$K17=""),"Zahlungsdatum ergänzen",IF(AND($J17=0,$K17<>""),"Zahlungseingang prüfen",IF(AND($M17>0,$H17<Parameter!$B$4),"Überfällig – manuell prüfen",IF(AND($M17>0,$H17>=Parameter!$B$4,$H17<=Parameter!$B$4+Parameter!$B$5),"Bald fällig – manuell prüfen",""))))))))
M18: =IF(OR($A18="",$I18=""),"",IFERROR(IF($L18=Parameter!$F$7,0,MAX($I18-IF($J18="",0,$J18),0)),"")) | N18: =IF($A18="","",IF(OR($B18="",$C18="",$D18="",$E18="",$F18="",$G18="",$H18="",$I18="",$L18=""),"Pflichtangaben prüfen",IF($L18=Parameter!$F$7,IF(OR($J18>0,$K18<>""),"Storno mit Zahlung prüfen",""),IF(OR($J18>$I18,AND($L18=Parameter!$F$6,$M18>0),AND($L18<>Parameter!$F$6,$M18=0),AND($L18=Parameter!$F$5,OR($J18<=0,$M18<=0)),AND($L18=Parameter!$F$4,$J18>0)),"Status/Zahlung prüfen",IF(AND($J18>0,$K18=""),"Zahlungsdatum ergänzen",IF(AND($J18=0,$K18<>""),"Zahlungseingang prüfen",IF(AND($M18>0,$H18<Parameter!$B$4),"Überfällig – manuell prüfen",IF(AND($M18>0,$H18>=Parameter!$B$4,$H18<=Parameter!$B$4+Parameter!$B$5),"Bald fällig – manuell prüfen",""))))))))
M19: =IF(OR($A19="",$I19=""),"",IFERROR(IF($L19=Parameter!$F$7,0,MAX($I19-IF($J19="",0,$J19),0)),"")) | N19: =IF($A19="","",IF(OR($B19="",$C19="",$D19="",$E19="",$F19="",$G19="",$H19="",$I19="",$L19=""),"Pflichtangaben prüfen",IF($L19=Parameter!$F$7,IF(OR($J19>0,$K19<>""),"Storno mit Zahlung prüfen",""),IF(OR($J19>$I19,AND($L19=Parameter!$F$6,$M19>0),AND($L19<>Parameter!$F$6,$M19=0),AND($L19=Parameter!$F$5,OR($J19<=0,$M19<=0)),AND($L19=Parameter!$F$4,$J19>0)),"Status/Zahlung prüfen",IF(AND($J19>0,$K19=""),"Zahlungsdatum ergänzen",IF(AND($J19=0,$K19<>""),"Zahlungseingang prüfen",IF(AND($M19>0,$H19<Parameter!$B$4),"Überfällig – manuell prüfen",IF(AND($M19>0,$H19>=Parameter!$B$4,$H19<=Parameter!$B$4+Parameter!$B$5),"Bald fällig – manuell prüfen",""))))))))
M20: =IF(OR($A20="",$I20=""),"",IFERROR(IF($L20=Parameter!$F$7,0,MAX($I20-IF($J20="",0,$J20),0)),"")) | N20: =IF($A20="","",IF(OR($B20="",$C20="",$D20="",$E20="",$F20="",$G20="",$H20="",$I20="",$L20=""),"Pflichtangaben prüfen",IF($L20=Parameter!$F$7,IF(OR($J20>0,$K20<>""),"Storno mit Zahlung prüfen",""),IF(OR($J20>$I20,AND($L20=Parameter!$F$6,$M20>0),AND($L20<>Parameter!$F$6,$M20=0),AND($L20=Parameter!$F$5,OR($J20<=0,$M20<=0)),AND($L20=Parameter!$F$4,$J20>0)),"Status/Zahlung prüfen",IF(AND($J20>0,$K20=""),"Zahlungsdatum ergänzen",IF(AND($J20=0,$K20<>""),"Zahlungseingang prüfen",IF(AND($M20>0,$H20<Parameter!$B$4),"Überfällig – manuell prüfen",IF(AND($M20>0,$H20>=Parameter!$B$4,$H20<=Parameter!$B$4+Parameter!$B$5),"Bald fällig – manuell prüfen",""))))))))
M21: =IF(OR($A21="",$I21=""),"",IFERROR(IF($L21=Parameter!$F$7,0,MAX($I21-IF($J21="",0,$J21),0)),"")) | N21: =IF($A21="","",IF(OR($B21="",$C21="",$D21="",$E21="",$F21="",$G21="",$H21="",$I21="",$L21=""),"Pflichtangaben prüfen",IF($L21=Parameter!$F$7,IF(OR($J21>0,$K21<>""),"Storno mit Zahlung prüfen",""),IF(OR($J21>$I21,AND($L21=Parameter!$F$6,$M21>0),AND($L21<>Parameter!$F$6,$M21=0),AND($L21=Parameter!$F$5,OR($J21<=0,$M21<=0)),AND($L21=Parameter!$F$4,$J21>0)),"Status/Zahlung prüfen",IF(AND($J21>0,$K21=""),"Zahlungsdatum ergänzen",IF(AND($J21=0,$K21<>""),"Zahlungseingang prüfen",IF(AND($M21>0,$H21<Parameter!$B$4),"Überfällig – manuell prüfen",IF(AND($M21>0,$H21>=Parameter!$B$4,$H21<=Parameter!$B$4+Parameter!$B$5),"Bald fällig – manuell prüfen",""))))))))
M22: =IF(OR($A22="",$I22=""),"",IFERROR(IF($L22=Parameter!$F$7,0,MAX($I22-IF($J22="",0,$J22),0)),"")) | N22: =IF($A22="","",IF(OR($B22="",$C22="",$D22="",$E22="",$F22="",$G22="",$H22="",$I22="",$L22=""),"Pflichtangaben prüfen",IF($L22=Parameter!$F$7,IF(OR($J22>0,$K22<>""),"Storno mit Zahlung prüfen",""),IF(OR($J22>$I22,AND($L22=Parameter!$F$6,$M22>0),AND($L22<>Parameter!$F$6,$M22=0),AND($L22=Parameter!$F$5,OR($J22<=0,$M22<=0)),AND($L22=Parameter!$F$4,$J22>0)),"Status/Zahlung prüfen",IF(AND($J22>0,$K22=""),"Zahlungsdatum ergänzen",IF(AND($J22=0,$K22<>""),"Zahlungseingang prüfen",IF(AND($M22>0,$H22<Parameter!$B$4),"Überfällig – manuell prüfen",IF(AND($M22>0,$H22>=Parameter!$B$4,$H22<=Parameter!$B$4+Parameter!$B$5),"Bald fällig – manuell prüfen",""))))))))
M23: =IF(OR($A23="",$I23=""),"",IFERROR(IF($L23=Parameter!$F$7,0,MAX($I23-IF($J23="",0,$J23),0)),"")) | N23: =IF($A23="","",IF(OR($B23="",$C23="",$D23="",$E23="",$F23="",$G23="",$H23="",$I23="",$L23=""),"Pflichtangaben prüfen",IF($L23=Parameter!$F$7,IF(OR($J23>0,$K23<>""),"Storno mit Zahlung prüfen",""),IF(OR($J23>$I23,AND($L23=Parameter!$F$6,$M23>0),AND($L23<>Parameter!$F$6,$M23=0),AND($L23=Parameter!$F$5,OR($J23<=0,$M23<=0)),AND($L23=Parameter!$F$4,$J23>0)),"Status/Zahlung prüfen",IF(AND($J23>0,$K23=""),"Zahlungsdatum ergänzen",IF(AND($J23=0,$K23<>""),"Zahlungseingang prüfen",IF(AND($M23>0,$H23<Parameter!$B$4),"Überfällig – manuell prüfen",IF(AND($M23>0,$H23>=Parameter!$B$4,$H23<=Parameter!$B$4+Parameter!$B$5),"Bald fällig – manuell prüfen",""))))))))
M24: =IF(OR($A24="",$I24=""),"",IFERROR(IF($L24=Parameter!$F$7,0,MAX($I24-IF($J24="",0,$J24),0)),"")) | N24: =IF($A24="","",IF(OR($B24="",$C24="",$D24="",$E24="",$F24="",$G24="",$H24="",$I24="",$L24=""),"Pflichtangaben prüfen",IF($L24=Parameter!$F$7,IF(OR($J24>0,$K24<>""),"Storno mit Zahlung prüfen",""),IF(OR($J24>$I24,AND($L24=Parameter!$F$6,$M24>0),AND($L24<>Parameter!$F$6,$M24=0),AND($L24=Parameter!$F$5,OR($J24<=0,$M24<=0)),AND($L24=Parameter!$F$4,$J24>0)),"Status/Zahlung prüfen",IF(AND($J24>0,$K24=""),"Zahlungsdatum ergänzen",IF(AND($J24=0,$K24<>""),"Zahlungseingang prüfen",IF(AND($M24>0,$H24<Parameter!$B$4),"Überfällig – manuell prüfen",IF(AND($M24>0,$H24>=Parameter!$B$4,$H24<=Parameter!$B$4+Parameter!$B$5),"Bald fällig – manuell prüfen",""))))))))
M25: =IF(OR($A25="",$I25=""),"",IFERROR(IF($L25=Parameter!$F$7,0,MAX($I25-IF($J25="",0,$J25),0)),"")) | N25: =IF($A25="","",IF(OR($B25="",$C25="",$D25="",$E25="",$F25="",$G25="",$H25="",$I25="",$L25=""),"Pflichtangaben prüfen",IF($L25=Parameter!$F$7,IF(OR($J25>0,$K25<>""),"Storno mit Zahlung prüfen",""),IF(OR($J25>$I25,AND($L25=Parameter!$F$6,$M25>0),AND($L25<>Parameter!$F$6,$M25=0),AND($L25=Parameter!$F$5,OR($J25<=0,$M25<=0)),AND($L25=Parameter!$F$4,$J25>0)),"Status/Zahlung prüfen",IF(AND($J25>0,$K25=""),"Zahlungsdatum ergänzen",IF(AND($J25=0,$K25<>""),"Zahlungseingang prüfen",IF(AND($M25>0,$H25<Parameter!$B$4),"Überfällig – manuell prüfen",IF(AND($M25>0,$H25>=Parameter!$B$4,$H25<=Parameter!$B$4+Parameter!$B$5),"Bald fällig – manuell prüfen",""))))))))
... M103: =IF(OR($A103="",$I103=""),"",IFERROR(IF($L103=Parameter!$F$7,0,MAX($I103-IF($J103="",0,$J103),0)),"")) | N103: =IF($A103="","",IF(OR($B103="",$C103="",$D103="",$E103="",$F103="",$G103="",$H103="",$I103="",$L103=""),"Pflichtangaben prüfen",IF($L103=Parameter!$F$7,IF(OR($J103>0,$K103<>""),"Storno mit Zahlung prüfen",""),IF(OR($J103>$I103,AND($L103=Parameter!$F$6,$M103>0),AND($L103<>Parameter!$F$6,$M103=0),AND($L103=Parameter!$F$5,OR($J103<=0,$M103<=0)),AND($L103=Parameter!$F$4,$J103>0)),"Status/Zahlung prüfen",IF(AND($J103>0,$K103=""),"Zahlungsdatum ergänzen",IF(AND($J103=0,$K103<>""),"Zahlungseingang prüfen",IF(AND($M103>0,$H103<Parameter!$B$4),"Überfällig – manuell prüfen",IF(AND($M103>0,$H103>=Parameter!$B$4,$H103<=Parameter!$B$4+Parameter!$B$5),"Bald fällig – manuell prüfen",""))))))))

Sheet Parameter
A1: Parameter
A2: Grün = veränderbare Eingaben. Die Werte steuern ausschließlich die Auswertung dieser Arbeitsmappe.
A3: Parameter | B3: Wert | C3: Verwendung | F3: Stabile Statuswerte
A4: Auswertungsdatum | B4: 46274 | C4: Stichtag für überfällige und bald fällige Rechnungen | F4: Offen
A5: Vorwarnzeit | B5: 7 | C5: Kalendertage ab Auswertungsdatum | F5: Teilbezahlt
F6: Bezahlt
F7: Storniert
