Workbook

Sheet Übersicht
A1: Übersicht Schlüsselübergaben
A3: Kennzahl | B3: Wert
A4: Erfasste Übergaben | B4: =COUNTIF('Schlüsselvorgänge'!$A$3:$A$102,"<>")
A5: Aktuell ausgegebene Vorgänge | B5: =COUNTIFS('Schlüsselvorgänge'!$A$3:$A$102,"<>",'Schlüsselvorgänge'!$J$3:$J$102,"Ausgegeben",'Schlüsselvorgänge'!$G$3:$G$102,"")
A6: Überfällige Rückgaben | B6: =COUNTIFS('Schlüsselvorgänge'!$A$3:$A$102,"<>",'Schlüsselvorgänge'!$J$3:$J$102,"Ausgegeben",'Schlüsselvorgänge'!$G$3:$G$102,"",'Schlüsselvorgänge'!$F$3:$F$102,"<>",'Schlüsselvorgänge'!$F$3:$F$102,"<"&TODAY())
A7: Zurückgegebene Vorgänge | B7: =COUNTIFS('Schlüsselvorgänge'!$A$3:$A$102,"<>",'Schlüsselvorgänge'!$J$3:$J$102,"Zurückgegeben")
A8: Vorgänge in Klärung | B8: =COUNTIFS('Schlüsselvorgänge'!$A$3:$A$102,"<>",'Schlüsselvorgänge'!$J$3:$J$102,"Klärung")
A9: Offene Schlüsselstücke | B9: =IFERROR(SUMIFS('Schlüsselvorgänge'!$I$3:$I$102,'Schlüsselvorgänge'!$J$3:$J$102,"Ausgegeben",'Schlüsselvorgänge'!$G$3:$G$102,""),0)
A10: Vorgänge mit Prüfhinweis | B10: =COUNTIFS('Schlüsselvorgänge'!$A$3:$A$102,"<>",'Schlüsselvorgänge'!$L$3:$L$102,"<>Ohne Hinweis")
A11: Offene Vorgänge ohne Fälligkeitsdatum | B11: =COUNTIFS('Schlüsselvorgänge'!$A$3:$A$102,"<>",'Schlüsselvorgänge'!$J$3:$J$102,"Ausgegeben",'Schlüsselvorgänge'!$G$3:$G$102,"",'Schlüsselvorgänge'!$F$3:$F$102,"")
A12: Vorgänge mit mehrfach offenem Schlüssel | B12: =COUNTIFS('Schlüsselvorgänge'!$A$3:$A$102,"<>",'Schlüsselvorgänge'!$L$3:$L$102,"Schlüssel mehrfach offen")
A13: Berechnungsstand | B13: =TODAY()

Sheet Schlüsselvorgänge
A1: Schlüsselvorgänge Kundenobjekte – Beispiele fiktiv
A2: Übergabe-ID | B2: Objekt-ID | C2: Schlüssel-ID | D2: Reinigungsbereich | E2: Ausgabedatum | F2: Rückgabe fällig | G2: Rückgabedatum | H2: Zuständigkeit | I2: Anzahl | J2: Status | K2: Tage seit Ausgabe | L2: Prüfhinweis
A3: UEB-26-001 | B3: OBJ-FIK-101 | C3: SCH-FIK-001 | D3: Eingangszone | E3: 46272 | F3: 46279 | H3: Team FIK-Nord | I3: 1 | J3: Ausgegeben | K3: =IF(A3="","",IF(E3="","",IF(G3<>"",MAX(0,G3-E3),MAX(0,TODAY()-E3)))) | L3: =IF(A3="","",IF(OR(B3="",C3="",D3="",E3="",H3="",I3="",J3=""),"Eingaben prüfen",IF(AND(G3<>"",E3<>"",G3<E3),"Datum prüfen",IF(AND(F3<>"",E3<>"",F3<E3),"Fälligkeit prüfen",IF(AND(J3="Zurückgegeben",G3=""),"Rückgabedatum fehlt",IF(AND(J3="Ausgegeben",G3<>""),"Status prüfen",IF(J3="Klärung","Manuell klären",IF(I3>'Parameter'!$B$10,"Menge prüfen",IF(AND(J3="Ausgegeben",G3="",COUNTIFS($C$3:$C$102,C3,$J$3:$J$102,"Ausgegeben",$G$3:$G$102,"")>1),"Schlüssel mehrfach offen",IF(AND(J3="Ausgegeben",G3="",F3<>"",TODAY()>F3),"Rückgabe überfällig",IF(AND(J3="Ausgegeben",G3="",K3>'Parameter'!$B$9),"Offene Dauer prüfen","Ohne Hinweis")))))))))))
A4: UEB-26-002 | B4: OBJ-FIK-102 | C4: SCH-FIK-002 | D4: Bürotrakt 1 | E4: 46255 | F4: 46262 | G4: 46263 | H4: Team FIK-West | I4: 2 | J4: Zurückgegeben | K4: =IF(A4="","",IF(E4="","",IF(G4<>"",MAX(0,G4-E4),MAX(0,TODAY()-E4)))) | L4: =IF(A4="","",IF(OR(B4="",C4="",D4="",E4="",H4="",I4="",J4=""),"Eingaben prüfen",IF(AND(G4<>"",E4<>"",G4<E4),"Datum prüfen",IF(AND(F4<>"",E4<>"",F4<E4),"Fälligkeit prüfen",IF(AND(J4="Zurückgegeben",G4=""),"Rückgabedatum fehlt",IF(AND(J4="Ausgegeben",G4<>""),"Status prüfen",IF(J4="Klärung","Manuell klären",IF(I4>'Parameter'!$B$10,"Menge prüfen",IF(AND(J4="Ausgegeben",G4="",COUNTIFS($C$3:$C$102,C4,$J$3:$J$102,"Ausgegeben",$G$3:$G$102,"")>1),"Schlüssel mehrfach offen",IF(AND(J4="Ausgegeben",G4="",F4<>"",TODAY()>F4),"Rückgabe überfällig",IF(AND(J4="Ausgegeben",G4="",K4>'Parameter'!$B$9),"Offene Dauer prüfen","Ohne Hinweis")))))))))))
A5: UEB-26-003 | B5: OBJ-FIK-103 | C5: SCH-FIK-003 | D5: Sanitärbereich | E5: 46260 | F5: 46273 | H5: Team FIK-Süd | I5: 2 | J5: Ausgegeben | K5: =IF(A5="","",IF(E5="","",IF(G5<>"",MAX(0,G5-E5),MAX(0,TODAY()-E5)))) | L5: =IF(A5="","",IF(OR(B5="",C5="",D5="",E5="",H5="",I5="",J5=""),"Eingaben prüfen",IF(AND(G5<>"",E5<>"",G5<E5),"Datum prüfen",IF(AND(F5<>"",E5<>"",F5<E5),"Fälligkeit prüfen",IF(AND(J5="Zurückgegeben",G5=""),"Rückgabedatum fehlt",IF(AND(J5="Ausgegeben",G5<>""),"Status prüfen",IF(J5="Klärung","Manuell klären",IF(I5>'Parameter'!$B$10,"Menge prüfen",IF(AND(J5="Ausgegeben",G5="",COUNTIFS($C$3:$C$102,C5,$J$3:$J$102,"Ausgegeben",$G$3:$G$102,"")>1),"Schlüssel mehrfach offen",IF(AND(J5="Ausgegeben",G5="",F5<>"",TODAY()>F5),"Rückgabe überfällig",IF(AND(J5="Ausgegeben",G5="",K5>'Parameter'!$B$9),"Offene Dauer prüfen","Ohne Hinweis")))))))))))
A6: UEB-26-004 | B6: OBJ-FIK-104 | C6: SCH-FIK-004 | D6: Lagerzugang | E6: 46270 | F6: 46274 | G6: 46274 | H6: Team FIK-Ost | I6: 1 | J6: Zurückgegeben | K6: =IF(A6="","",IF(E6="","",IF(G6<>"",MAX(0,G6-E6),MAX(0,TODAY()-E6)))) | L6: =IF(A6="","",IF(OR(B6="",C6="",D6="",E6="",H6="",I6="",J6=""),"Eingaben prüfen",IF(AND(G6<>"",E6<>"",G6<E6),"Datum prüfen",IF(AND(F6<>"",E6<>"",F6<E6),"Fälligkeit prüfen",IF(AND(J6="Zurückgegeben",G6=""),"Rückgabedatum fehlt",IF(AND(J6="Ausgegeben",G6<>""),"Status prüfen",IF(J6="Klärung","Manuell klären",IF(I6>'Parameter'!$B$10,"Menge prüfen",IF(AND(J6="Ausgegeben",G6="",COUNTIFS($C$3:$C$102,C6,$J$3:$J$102,"Ausgegeben",$G$3:$G$102,"")>1),"Schlüssel mehrfach offen",IF(AND(J6="Ausgegeben",G6="",F6<>"",TODAY()>F6),"Rückgabe überfällig",IF(AND(J6="Ausgegeben",G6="",K6>'Parameter'!$B$9),"Offene Dauer prüfen","Ohne Hinweis")))))))))))
A7: UEB-26-005 | B7: OBJ-FIK-105 | C7: SCH-FIK-005 | D7: Technikflur | E7: 46265 | F7: 46277 | H7: Objektleitung FIK-A | I7: 1 | J7: Klärung | K7: =IF(A7="","",IF(E7="","",IF(G7<>"",MAX(0,G7-E7),MAX(0,TODAY()-E7)))) | L7: =IF(A7="","",IF(OR(B7="",C7="",D7="",E7="",H7="",I7="",J7=""),"Eingaben prüfen",IF(AND(G7<>"",E7<>"",G7<E7),"Datum prüfen",IF(AND(F7<>"",E7<>"",F7<E7),"Fälligkeit prüfen",IF(AND(J7="Zurückgegeben",G7=""),"Rückgabedatum fehlt",IF(AND(J7="Ausgegeben",G7<>""),"Status prüfen",IF(J7="Klärung","Manuell klären",IF(I7>'Parameter'!$B$10,"Menge prüfen",IF(AND(J7="Ausgegeben",G7="",COUNTIFS($C$3:$C$102,C7,$J$3:$J$102,"Ausgegeben",$G$3:$G$102,"")>1),"Schlüssel mehrfach offen",IF(AND(J7="Ausgegeben",G7="",F7<>"",TODAY()>F7),"Rückgabe überfällig",IF(AND(J7="Ausgegeben",G7="",K7>'Parameter'!$B$9),"Offene Dauer prüfen","Ohne Hinweis")))))))))))
A8: UEB-26-006 | B8: OBJ-FIK-106 | C8: SCH-FIK-006 | D8: Treppenhaus Ost | E8: 46274 | F8: 46281 | H8: Team FIK-Mitte | I8: 1 | J8: Ausgegeben | K8: =IF(A8="","",IF(E8="","",IF(G8<>"",MAX(0,G8-E8),MAX(0,TODAY()-E8)))) | L8: =IF(A8="","",IF(OR(B8="",C8="",D8="",E8="",H8="",I8="",J8=""),"Eingaben prüfen",IF(AND(G8<>"",E8<>"",G8<E8),"Datum prüfen",IF(AND(F8<>"",E8<>"",F8<E8),"Fälligkeit prüfen",IF(AND(J8="Zurückgegeben",G8=""),"Rückgabedatum fehlt",IF(AND(J8="Ausgegeben",G8<>""),"Status prüfen",IF(J8="Klärung","Manuell klären",IF(I8>'Parameter'!$B$10,"Menge prüfen",IF(AND(J8="Ausgegeben",G8="",COUNTIFS($C$3:$C$102,C8,$J$3:$J$102,"Ausgegeben",$G$3:$G$102,"")>1),"Schlüssel mehrfach offen",IF(AND(J8="Ausgegeben",G8="",F8<>"",TODAY()>F8),"Rückgabe überfällig",IF(AND(J8="Ausgegeben",G8="",K8>'Parameter'!$B$9),"Offene Dauer prüfen","Ohne Hinweis")))))))))))
A9: UEB-26-007 | B9: OBJ-FIK-107 | C9: SCH-FIK-007 | D9: Kantinenzugang | E9: 46245 | F9: 46255 | G9: 46253 | H9: Team FIK-Nord | I9: 3 | J9: Zurückgegeben | K9: =IF(A9="","",IF(E9="","",IF(G9<>"",MAX(0,G9-E9),MAX(0,TODAY()-E9)))) | L9: =IF(A9="","",IF(OR(B9="",C9="",D9="",E9="",H9="",I9="",J9=""),"Eingaben prüfen",IF(AND(G9<>"",E9<>"",G9<E9),"Datum prüfen",IF(AND(F9<>"",E9<>"",F9<E9),"Fälligkeit prüfen",IF(AND(J9="Zurückgegeben",G9=""),"Rückgabedatum fehlt",IF(AND(J9="Ausgegeben",G9<>""),"Status prüfen",IF(J9="Klärung","Manuell klären",IF(I9>'Parameter'!$B$10,"Menge prüfen",IF(AND(J9="Ausgegeben",G9="",COUNTIFS($C$3:$C$102,C9,$J$3:$J$102,"Ausgegeben",$G$3:$G$102,"")>1),"Schlüssel mehrfach offen",IF(AND(J9="Ausgegeben",G9="",F9<>"",TODAY()>F9),"Rückgabe überfällig",IF(AND(J9="Ausgegeben",G9="",K9>'Parameter'!$B$9),"Offene Dauer prüfen","Ohne Hinweis")))))))))))
A10: UEB-26-008 | B10: OBJ-FIK-108 | C10: SCH-FIK-008 | D10: Archivbereich | E10: 46250 | H10: Objektleitung FIK-B | I10: 3 | J10: Ausgegeben | K10: =IF(A10="","",IF(E10="","",IF(G10<>"",MAX(0,G10-E10),MAX(0,TODAY()-E10)))) | L10: =IF(A10="","",IF(OR(B10="",C10="",D10="",E10="",H10="",I10="",J10=""),"Eingaben prüfen",IF(AND(G10<>"",E10<>"",G10<E10),"Datum prüfen",IF(AND(F10<>"",E10<>"",F10<E10),"Fälligkeit prüfen",IF(AND(J10="Zurückgegeben",G10=""),"Rückgabedatum fehlt",IF(AND(J10="Ausgegeben",G10<>""),"Status prüfen",IF(J10="Klärung","Manuell klären",IF(I10>'Parameter'!$B$10,"Menge prüfen",IF(AND(J10="Ausgegeben",G10="",COUNTIFS($C$3:$C$102,C10,$J$3:$J$102,"Ausgegeben",$G$3:$G$102,"")>1),"Schlüssel mehrfach offen",IF(AND(J10="Ausgegeben",G10="",F10<>"",TODAY()>F10),"Rückgabe überfällig",IF(AND(J10="Ausgegeben",G10="",K10>'Parameter'!$B$9),"Offene Dauer prüfen","Ohne Hinweis")))))))))))
A11: UEB-26-009 | B11: OBJ-FIK-109 | C11: SCH-FIK-009 | D11: Besprechungstrakt | E11: 46268 | F11: 46273 | G11: 46274 | H11: Team FIK-West | I11: 2 | J11: Zurückgegeben | K11: =IF(A11="","",IF(E11="","",IF(G11<>"",MAX(0,G11-E11),MAX(0,TODAY()-E11)))) | L11: =IF(A11="","",IF(OR(B11="",C11="",D11="",E11="",H11="",I11="",J11=""),"Eingaben prüfen",IF(AND(G11<>"",E11<>"",G11<E11),"Datum prüfen",IF(AND(F11<>"",E11<>"",F11<E11),"Fälligkeit prüfen",IF(AND(J11="Zurückgegeben",G11=""),"Rückgabedatum fehlt",IF(AND(J11="Ausgegeben",G11<>""),"Status prüfen",IF(J11="Klärung","Manuell klären",IF(I11>'Parameter'!$B$10,"Menge prüfen",IF(AND(J11="Ausgegeben",G11="",COUNTIFS($C$3:$C$102,C11,$J$3:$J$102,"Ausgegeben",$G$3:$G$102,"")>1),"Schlüssel mehrfach offen",IF(AND(J11="Ausgegeben",G11="",F11<>"",TODAY()>F11),"Rückgabe überfällig",IF(AND(J11="Ausgegeben",G11="",K11>'Parameter'!$B$9),"Offene Dauer prüfen","Ohne Hinweis")))))))))))
A12: UEB-26-010 | B12: OBJ-FIK-110 | C12: SCH-FIK-010 | D12: Außenlager | E12: 46235 | F12: 46245 | H12: Team FIK-Süd | I12: 2 | J12: Ausgegeben | K12: =IF(A12="","",IF(E12="","",IF(G12<>"",MAX(0,G12-E12),MAX(0,TODAY()-E12)))) | L12: =IF(A12="","",IF(OR(B12="",C12="",D12="",E12="",H12="",I12="",J12=""),"Eingaben prüfen",IF(AND(G12<>"",E12<>"",G12<E12),"Datum prüfen",IF(AND(F12<>"",E12<>"",F12<E12),"Fälligkeit prüfen",IF(AND(J12="Zurückgegeben",G12=""),"Rückgabedatum fehlt",IF(AND(J12="Ausgegeben",G12<>""),"Status prüfen",IF(J12="Klärung","Manuell klären",IF(I12>'Parameter'!$B$10,"Menge prüfen",IF(AND(J12="Ausgegeben",G12="",COUNTIFS($C$3:$C$102,C12,$J$3:$J$102,"Ausgegeben",$G$3:$G$102,"")>1),"Schlüssel mehrfach offen",IF(AND(J12="Ausgegeben",G12="",F12<>"",TODAY()>F12),"Rückgabe überfällig",IF(AND(J12="Ausgegeben",G12="",K12>'Parameter'!$B$9),"Offene Dauer prüfen","Ohne Hinweis")))))))))))
K13: =IF(A13="","",IF(E13="","",IF(G13<>"",MAX(0,G13-E13),MAX(0,TODAY()-E13)))) | L13: =IF(A13="","",IF(OR(B13="",C13="",D13="",E13="",H13="",I13="",J13=""),"Eingaben prüfen",IF(AND(G13<>"",E13<>"",G13<E13),"Datum prüfen",IF(AND(F13<>"",E13<>"",F13<E13),"Fälligkeit prüfen",IF(AND(J13="Zurückgegeben",G13=""),"Rückgabedatum fehlt",IF(AND(J13="Ausgegeben",G13<>""),"Status prüfen",IF(J13="Klärung","Manuell klären",IF(I13>'Parameter'!$B$10,"Menge prüfen",IF(AND(J13="Ausgegeben",G13="",COUNTIFS($C$3:$C$102,C13,$J$3:$J$102,"Ausgegeben",$G$3:$G$102,"")>1),"Schlüssel mehrfach offen",IF(AND(J13="Ausgegeben",G13="",F13<>"",TODAY()>F13),"Rückgabe überfällig",IF(AND(J13="Ausgegeben",G13="",K13>'Parameter'!$B$9),"Offene Dauer prüfen","Ohne Hinweis")))))))))))
K14: =IF(A14="","",IF(E14="","",IF(G14<>"",MAX(0,G14-E14),MAX(0,TODAY()-E14)))) | L14: =IF(A14="","",IF(OR(B14="",C14="",D14="",E14="",H14="",I14="",J14=""),"Eingaben prüfen",IF(AND(G14<>"",E14<>"",G14<E14),"Datum prüfen",IF(AND(F14<>"",E14<>"",F14<E14),"Fälligkeit prüfen",IF(AND(J14="Zurückgegeben",G14=""),"Rückgabedatum fehlt",IF(AND(J14="Ausgegeben",G14<>""),"Status prüfen",IF(J14="Klärung","Manuell klären",IF(I14>'Parameter'!$B$10,"Menge prüfen",IF(AND(J14="Ausgegeben",G14="",COUNTIFS($C$3:$C$102,C14,$J$3:$J$102,"Ausgegeben",$G$3:$G$102,"")>1),"Schlüssel mehrfach offen",IF(AND(J14="Ausgegeben",G14="",F14<>"",TODAY()>F14),"Rückgabe überfällig",IF(AND(J14="Ausgegeben",G14="",K14>'Parameter'!$B$9),"Offene Dauer prüfen","Ohne Hinweis")))))))))))
K15: =IF(A15="","",IF(E15="","",IF(G15<>"",MAX(0,G15-E15),MAX(0,TODAY()-E15)))) | L15: =IF(A15="","",IF(OR(B15="",C15="",D15="",E15="",H15="",I15="",J15=""),"Eingaben prüfen",IF(AND(G15<>"",E15<>"",G15<E15),"Datum prüfen",IF(AND(F15<>"",E15<>"",F15<E15),"Fälligkeit prüfen",IF(AND(J15="Zurückgegeben",G15=""),"Rückgabedatum fehlt",IF(AND(J15="Ausgegeben",G15<>""),"Status prüfen",IF(J15="Klärung","Manuell klären",IF(I15>'Parameter'!$B$10,"Menge prüfen",IF(AND(J15="Ausgegeben",G15="",COUNTIFS($C$3:$C$102,C15,$J$3:$J$102,"Ausgegeben",$G$3:$G$102,"")>1),"Schlüssel mehrfach offen",IF(AND(J15="Ausgegeben",G15="",F15<>"",TODAY()>F15),"Rückgabe überfällig",IF(AND(J15="Ausgegeben",G15="",K15>'Parameter'!$B$9),"Offene Dauer prüfen","Ohne Hinweis")))))))))))
K16: =IF(A16="","",IF(E16="","",IF(G16<>"",MAX(0,G16-E16),MAX(0,TODAY()-E16)))) | L16: =IF(A16="","",IF(OR(B16="",C16="",D16="",E16="",H16="",I16="",J16=""),"Eingaben prüfen",IF(AND(G16<>"",E16<>"",G16<E16),"Datum prüfen",IF(AND(F16<>"",E16<>"",F16<E16),"Fälligkeit prüfen",IF(AND(J16="Zurückgegeben",G16=""),"Rückgabedatum fehlt",IF(AND(J16="Ausgegeben",G16<>""),"Status prüfen",IF(J16="Klärung","Manuell klären",IF(I16>'Parameter'!$B$10,"Menge prüfen",IF(AND(J16="Ausgegeben",G16="",COUNTIFS($C$3:$C$102,C16,$J$3:$J$102,"Ausgegeben",$G$3:$G$102,"")>1),"Schlüssel mehrfach offen",IF(AND(J16="Ausgegeben",G16="",F16<>"",TODAY()>F16),"Rückgabe überfällig",IF(AND(J16="Ausgegeben",G16="",K16>'Parameter'!$B$9),"Offene Dauer prüfen","Ohne Hinweis")))))))))))
K17: =IF(A17="","",IF(E17="","",IF(G17<>"",MAX(0,G17-E17),MAX(0,TODAY()-E17)))) | L17: =IF(A17="","",IF(OR(B17="",C17="",D17="",E17="",H17="",I17="",J17=""),"Eingaben prüfen",IF(AND(G17<>"",E17<>"",G17<E17),"Datum prüfen",IF(AND(F17<>"",E17<>"",F17<E17),"Fälligkeit prüfen",IF(AND(J17="Zurückgegeben",G17=""),"Rückgabedatum fehlt",IF(AND(J17="Ausgegeben",G17<>""),"Status prüfen",IF(J17="Klärung","Manuell klären",IF(I17>'Parameter'!$B$10,"Menge prüfen",IF(AND(J17="Ausgegeben",G17="",COUNTIFS($C$3:$C$102,C17,$J$3:$J$102,"Ausgegeben",$G$3:$G$102,"")>1),"Schlüssel mehrfach offen",IF(AND(J17="Ausgegeben",G17="",F17<>"",TODAY()>F17),"Rückgabe überfällig",IF(AND(J17="Ausgegeben",G17="",K17>'Parameter'!$B$9),"Offene Dauer prüfen","Ohne Hinweis")))))))))))
K18: =IF(A18="","",IF(E18="","",IF(G18<>"",MAX(0,G18-E18),MAX(0,TODAY()-E18)))) | L18: =IF(A18="","",IF(OR(B18="",C18="",D18="",E18="",H18="",I18="",J18=""),"Eingaben prüfen",IF(AND(G18<>"",E18<>"",G18<E18),"Datum prüfen",IF(AND(F18<>"",E18<>"",F18<E18),"Fälligkeit prüfen",IF(AND(J18="Zurückgegeben",G18=""),"Rückgabedatum fehlt",IF(AND(J18="Ausgegeben",G18<>""),"Status prüfen",IF(J18="Klärung","Manuell klären",IF(I18>'Parameter'!$B$10,"Menge prüfen",IF(AND(J18="Ausgegeben",G18="",COUNTIFS($C$3:$C$102,C18,$J$3:$J$102,"Ausgegeben",$G$3:$G$102,"")>1),"Schlüssel mehrfach offen",IF(AND(J18="Ausgegeben",G18="",F18<>"",TODAY()>F18),"Rückgabe überfällig",IF(AND(J18="Ausgegeben",G18="",K18>'Parameter'!$B$9),"Offene Dauer prüfen","Ohne Hinweis")))))))))))
K19: =IF(A19="","",IF(E19="","",IF(G19<>"",MAX(0,G19-E19),MAX(0,TODAY()-E19)))) | L19: =IF(A19="","",IF(OR(B19="",C19="",D19="",E19="",H19="",I19="",J19=""),"Eingaben prüfen",IF(AND(G19<>"",E19<>"",G19<E19),"Datum prüfen",IF(AND(F19<>"",E19<>"",F19<E19),"Fälligkeit prüfen",IF(AND(J19="Zurückgegeben",G19=""),"Rückgabedatum fehlt",IF(AND(J19="Ausgegeben",G19<>""),"Status prüfen",IF(J19="Klärung","Manuell klären",IF(I19>'Parameter'!$B$10,"Menge prüfen",IF(AND(J19="Ausgegeben",G19="",COUNTIFS($C$3:$C$102,C19,$J$3:$J$102,"Ausgegeben",$G$3:$G$102,"")>1),"Schlüssel mehrfach offen",IF(AND(J19="Ausgegeben",G19="",F19<>"",TODAY()>F19),"Rückgabe überfällig",IF(AND(J19="Ausgegeben",G19="",K19>'Parameter'!$B$9),"Offene Dauer prüfen","Ohne Hinweis")))))))))))
K20: =IF(A20="","",IF(E20="","",IF(G20<>"",MAX(0,G20-E20),MAX(0,TODAY()-E20)))) | L20: =IF(A20="","",IF(OR(B20="",C20="",D20="",E20="",H20="",I20="",J20=""),"Eingaben prüfen",IF(AND(G20<>"",E20<>"",G20<E20),"Datum prüfen",IF(AND(F20<>"",E20<>"",F20<E20),"Fälligkeit prüfen",IF(AND(J20="Zurückgegeben",G20=""),"Rückgabedatum fehlt",IF(AND(J20="Ausgegeben",G20<>""),"Status prüfen",IF(J20="Klärung","Manuell klären",IF(I20>'Parameter'!$B$10,"Menge prüfen",IF(AND(J20="Ausgegeben",G20="",COUNTIFS($C$3:$C$102,C20,$J$3:$J$102,"Ausgegeben",$G$3:$G$102,"")>1),"Schlüssel mehrfach offen",IF(AND(J20="Ausgegeben",G20="",F20<>"",TODAY()>F20),"Rückgabe überfällig",IF(AND(J20="Ausgegeben",G20="",K20>'Parameter'!$B$9),"Offene Dauer prüfen","Ohne Hinweis")))))))))))
K21: =IF(A21="","",IF(E21="","",IF(G21<>"",MAX(0,G21-E21),MAX(0,TODAY()-E21)))) | L21: =IF(A21="","",IF(OR(B21="",C21="",D21="",E21="",H21="",I21="",J21=""),"Eingaben prüfen",IF(AND(G21<>"",E21<>"",G21<E21),"Datum prüfen",IF(AND(F21<>"",E21<>"",F21<E21),"Fälligkeit prüfen",IF(AND(J21="Zurückgegeben",G21=""),"Rückgabedatum fehlt",IF(AND(J21="Ausgegeben",G21<>""),"Status prüfen",IF(J21="Klärung","Manuell klären",IF(I21>'Parameter'!$B$10,"Menge prüfen",IF(AND(J21="Ausgegeben",G21="",COUNTIFS($C$3:$C$102,C21,$J$3:$J$102,"Ausgegeben",$G$3:$G$102,"")>1),"Schlüssel mehrfach offen",IF(AND(J21="Ausgegeben",G21="",F21<>"",TODAY()>F21),"Rückgabe überfällig",IF(AND(J21="Ausgegeben",G21="",K21>'Parameter'!$B$9),"Offene Dauer prüfen","Ohne Hinweis")))))))))))
K22: =IF(A22="","",IF(E22="","",IF(G22<>"",MAX(0,G22-E22),MAX(0,TODAY()-E22)))) | L22: =IF(A22="","",IF(OR(B22="",C22="",D22="",E22="",H22="",I22="",J22=""),"Eingaben prüfen",IF(AND(G22<>"",E22<>"",G22<E22),"Datum prüfen",IF(AND(F22<>"",E22<>"",F22<E22),"Fälligkeit prüfen",IF(AND(J22="Zurückgegeben",G22=""),"Rückgabedatum fehlt",IF(AND(J22="Ausgegeben",G22<>""),"Status prüfen",IF(J22="Klärung","Manuell klären",IF(I22>'Parameter'!$B$10,"Menge prüfen",IF(AND(J22="Ausgegeben",G22="",COUNTIFS($C$3:$C$102,C22,$J$3:$J$102,"Ausgegeben",$G$3:$G$102,"")>1),"Schlüssel mehrfach offen",IF(AND(J22="Ausgegeben",G22="",F22<>"",TODAY()>F22),"Rückgabe überfällig",IF(AND(J22="Ausgegeben",G22="",K22>'Parameter'!$B$9),"Offene Dauer prüfen","Ohne Hinweis")))))))))))
K23: =IF(A23="","",IF(E23="","",IF(G23<>"",MAX(0,G23-E23),MAX(0,TODAY()-E23)))) | L23: =IF(A23="","",IF(OR(B23="",C23="",D23="",E23="",H23="",I23="",J23=""),"Eingaben prüfen",IF(AND(G23<>"",E23<>"",G23<E23),"Datum prüfen",IF(AND(F23<>"",E23<>"",F23<E23),"Fälligkeit prüfen",IF(AND(J23="Zurückgegeben",G23=""),"Rückgabedatum fehlt",IF(AND(J23="Ausgegeben",G23<>""),"Status prüfen",IF(J23="Klärung","Manuell klären",IF(I23>'Parameter'!$B$10,"Menge prüfen",IF(AND(J23="Ausgegeben",G23="",COUNTIFS($C$3:$C$102,C23,$J$3:$J$102,"Ausgegeben",$G$3:$G$102,"")>1),"Schlüssel mehrfach offen",IF(AND(J23="Ausgegeben",G23="",F23<>"",TODAY()>F23),"Rückgabe überfällig",IF(AND(J23="Ausgegeben",G23="",K23>'Parameter'!$B$9),"Offene Dauer prüfen","Ohne Hinweis")))))))))))
K24: =IF(A24="","",IF(E24="","",IF(G24<>"",MAX(0,G24-E24),MAX(0,TODAY()-E24)))) | L24: =IF(A24="","",IF(OR(B24="",C24="",D24="",E24="",H24="",I24="",J24=""),"Eingaben prüfen",IF(AND(G24<>"",E24<>"",G24<E24),"Datum prüfen",IF(AND(F24<>"",E24<>"",F24<E24),"Fälligkeit prüfen",IF(AND(J24="Zurückgegeben",G24=""),"Rückgabedatum fehlt",IF(AND(J24="Ausgegeben",G24<>""),"Status prüfen",IF(J24="Klärung","Manuell klären",IF(I24>'Parameter'!$B$10,"Menge prüfen",IF(AND(J24="Ausgegeben",G24="",COUNTIFS($C$3:$C$102,C24,$J$3:$J$102,"Ausgegeben",$G$3:$G$102,"")>1),"Schlüssel mehrfach offen",IF(AND(J24="Ausgegeben",G24="",F24<>"",TODAY()>F24),"Rückgabe überfällig",IF(AND(J24="Ausgegeben",G24="",K24>'Parameter'!$B$9),"Offene Dauer prüfen","Ohne Hinweis")))))))))))
... K102: =IF(A102="","",IF(E102="","",IF(G102<>"",MAX(0,G102-E102),MAX(0,TODAY()-E102)))) | L102: =IF(A102="","",IF(OR(B102="",C102="",D102="",E102="",H102="",I102="",J102=""),"Eingaben prüfen",IF(AND(G102<>"",E102<>"",G102<E102),"Datum prüfen",IF(AND(F102<>"",E102<>"",F102<E102),"Fälligkeit prüfen",IF(AND(J102="Zurückgegeben",G102=""),"Rückgabedatum fehlt",IF(AND(J102="Ausgegeben",G102<>""),"Status prüfen",IF(J102="Klärung","Manuell klären",IF(I102>'Parameter'!$B$10,"Menge prüfen",IF(AND(J102="Ausgegeben",G102="",COUNTIFS($C$3:$C$102,C102,$J$3:$J$102,"Ausgegeben",$G$3:$G$102,"")>1),"Schlüssel mehrfach offen",IF(AND(J102="Ausgegeben",G102="",F102<>"",TODAY()>F102),"Rückgabe überfällig",IF(AND(J102="Ausgegeben",G102="",K102>'Parameter'!$B$9),"Offene Dauer prüfen","Ohne Hinweis")))))))))))

Sheet Parameter
A1: Parameter und stabile Statuswerte
A3: Statuswert | B3: Bedeutung
A4: Ausgegeben | B4: Ausgabe erfasst; Rückgabe noch nicht eingetragen
A5: Zurückgegeben | B5: Rückgabe erfasst; Rückgabedatum wird erwartet
A6: Klärung | B6: Vorgang ist manuell durch Objektleitung oder Disposition zu prüfen
A8: Annahme | B8: Wert | C8: Einheit | D8: Verwendung
A9: Prüfgrenze offene Dauer | B9: 14 | C9: Tage | D9: Hinweis bei offener Ausgabe ohne überschrittenes Fälligkeitsdatum
A10: Prüfgrenze Stückzahl | B10: 20 | C10: Stück | D10: Hinweis bei ungewöhnlich hoher Anzahl; keine automatische Freigabe
A11: Frühestes zulässiges Datum | B11: =DATE(YEAR(TODAY())-5,1,1) | C11: Datum | D11: Dynamischer Beginn der Datumsvalidierung
A12: Spätestes zulässiges Datum | B12: =DATE(YEAR(TODAY())+5,12,31) | C12: Datum | D12: Dynamisches Ende der Datumsvalidierung
