Workbook

Sheet Übersicht
A1: Umsatzplanung Reinigungsfirma Excel – Übersicht
A3: Gesamtumsatz | B3: =IF(COUNT($D$9:$D$20)=0,"",SUM($D$9:$D$20)) | C3: Vertragsumsatz | D3: =IF(COUNT($B$9:$B$20)=0,"",SUM($B$9:$B$20)) | E3: Zusatzumsatz | F3: =IF(COUNT($C$9:$C$20)=0,"",SUM($C$9:$C$20))
A5: Bestätigt | B5: =IF(COUNT($E$9:$E$20)=0,"",SUM($E$9:$E$20)) | C5: Noch geplant | D5: =IF(OR(B3="",B5=""),"",B3-B5) | E5: Bestätigungsanteil | F5: =IFERROR(B5/B3,"")
A8: Monat | B8: Verträge | C8: Zusatzaufträge | D8: Gesamt | E8: Davon bestätigt
A9: =IF(Parameter!$B$3="","",DATE(YEAR(Parameter!$B$3),MONTH(Parameter!$B$3)+0,1)) | B9: =IF($A9="","",SUMIFS('Verträge'!$H$4:$H$103,'Verträge'!$B$4:$B$103,"<="&EOMONTH($A9,0),'Verträge'!$C$4:$C$103,">="&$A9,'Verträge'!$I$4:$I$103,"Bestätigt")+SUMIFS('Verträge'!$H$4:$H$103,'Verträge'!$B$4:$B$103,"<="&EOMONTH($A9,0),'Verträge'!$C$4:$C$103,">="&$A9,'Verträge'!$I$4:$I$103,"Geplant")) | C9: =IF($A9="","",SUMIFS('Zusatzaufträge'!$J$4:$J$103,'Zusatzaufträge'!$B$4:$B$103,">="&$A9,'Zusatzaufträge'!$B$4:$B$103,"<"&EDATE($A9,1),'Zusatzaufträge'!$I$4:$I$103,"Bestätigt")+SUMIFS('Zusatzaufträge'!$J$4:$J$103,'Zusatzaufträge'!$B$4:$B$103,">="&$A9,'Zusatzaufträge'!$B$4:$B$103,"<"&EDATE($A9,1),'Zusatzaufträge'!$I$4:$I$103,"Geplant")) | D9: =IF($A9="","",SUM(B9:C9)) | E9: =IF($A9="","",SUMIFS('Verträge'!$H$4:$H$103,'Verträge'!$B$4:$B$103,"<="&EOMONTH($A9,0),'Verträge'!$C$4:$C$103,">="&$A9,'Verträge'!$I$4:$I$103,"Bestätigt")+SUMIFS('Zusatzaufträge'!$J$4:$J$103,'Zusatzaufträge'!$B$4:$B$103,">="&$A9,'Zusatzaufträge'!$B$4:$B$103,"<"&EDATE($A9,1),'Zusatzaufträge'!$I$4:$I$103,"Bestätigt"))
A10: =IF(Parameter!$B$3="","",DATE(YEAR(Parameter!$B$3),MONTH(Parameter!$B$3)+1,1)) | B10: =IF($A10="","",SUMIFS('Verträge'!$H$4:$H$103,'Verträge'!$B$4:$B$103,"<="&EOMONTH($A10,0),'Verträge'!$C$4:$C$103,">="&$A10,'Verträge'!$I$4:$I$103,"Bestätigt")+SUMIFS('Verträge'!$H$4:$H$103,'Verträge'!$B$4:$B$103,"<="&EOMONTH($A10,0),'Verträge'!$C$4:$C$103,">="&$A10,'Verträge'!$I$4:$I$103,"Geplant")) | C10: =IF($A10="","",SUMIFS('Zusatzaufträge'!$J$4:$J$103,'Zusatzaufträge'!$B$4:$B$103,">="&$A10,'Zusatzaufträge'!$B$4:$B$103,"<"&EDATE($A10,1),'Zusatzaufträge'!$I$4:$I$103,"Bestätigt")+SUMIFS('Zusatzaufträge'!$J$4:$J$103,'Zusatzaufträge'!$B$4:$B$103,">="&$A10,'Zusatzaufträge'!$B$4:$B$103,"<"&EDATE($A10,1),'Zusatzaufträge'!$I$4:$I$103,"Geplant")) | D10: =IF($A10="","",SUM(B10:C10)) | E10: =IF($A10="","",SUMIFS('Verträge'!$H$4:$H$103,'Verträge'!$B$4:$B$103,"<="&EOMONTH($A10,0),'Verträge'!$C$4:$C$103,">="&$A10,'Verträge'!$I$4:$I$103,"Bestätigt")+SUMIFS('Zusatzaufträge'!$J$4:$J$103,'Zusatzaufträge'!$B$4:$B$103,">="&$A10,'Zusatzaufträge'!$B$4:$B$103,"<"&EDATE($A10,1),'Zusatzaufträge'!$I$4:$I$103,"Bestätigt"))
A11: =IF(Parameter!$B$3="","",DATE(YEAR(Parameter!$B$3),MONTH(Parameter!$B$3)+2,1)) | B11: =IF($A11="","",SUMIFS('Verträge'!$H$4:$H$103,'Verträge'!$B$4:$B$103,"<="&EOMONTH($A11,0),'Verträge'!$C$4:$C$103,">="&$A11,'Verträge'!$I$4:$I$103,"Bestätigt")+SUMIFS('Verträge'!$H$4:$H$103,'Verträge'!$B$4:$B$103,"<="&EOMONTH($A11,0),'Verträge'!$C$4:$C$103,">="&$A11,'Verträge'!$I$4:$I$103,"Geplant")) | C11: =IF($A11="","",SUMIFS('Zusatzaufträge'!$J$4:$J$103,'Zusatzaufträge'!$B$4:$B$103,">="&$A11,'Zusatzaufträge'!$B$4:$B$103,"<"&EDATE($A11,1),'Zusatzaufträge'!$I$4:$I$103,"Bestätigt")+SUMIFS('Zusatzaufträge'!$J$4:$J$103,'Zusatzaufträge'!$B$4:$B$103,">="&$A11,'Zusatzaufträge'!$B$4:$B$103,"<"&EDATE($A11,1),'Zusatzaufträge'!$I$4:$I$103,"Geplant")) | D11: =IF($A11="","",SUM(B11:C11)) | E11: =IF($A11="","",SUMIFS('Verträge'!$H$4:$H$103,'Verträge'!$B$4:$B$103,"<="&EOMONTH($A11,0),'Verträge'!$C$4:$C$103,">="&$A11,'Verträge'!$I$4:$I$103,"Bestätigt")+SUMIFS('Zusatzaufträge'!$J$4:$J$103,'Zusatzaufträge'!$B$4:$B$103,">="&$A11,'Zusatzaufträge'!$B$4:$B$103,"<"&EDATE($A11,1),'Zusatzaufträge'!$I$4:$I$103,"Bestätigt"))
A12: =IF(Parameter!$B$3="","",DATE(YEAR(Parameter!$B$3),MONTH(Parameter!$B$3)+3,1)) | B12: =IF($A12="","",SUMIFS('Verträge'!$H$4:$H$103,'Verträge'!$B$4:$B$103,"<="&EOMONTH($A12,0),'Verträge'!$C$4:$C$103,">="&$A12,'Verträge'!$I$4:$I$103,"Bestätigt")+SUMIFS('Verträge'!$H$4:$H$103,'Verträge'!$B$4:$B$103,"<="&EOMONTH($A12,0),'Verträge'!$C$4:$C$103,">="&$A12,'Verträge'!$I$4:$I$103,"Geplant")) | C12: =IF($A12="","",SUMIFS('Zusatzaufträge'!$J$4:$J$103,'Zusatzaufträge'!$B$4:$B$103,">="&$A12,'Zusatzaufträge'!$B$4:$B$103,"<"&EDATE($A12,1),'Zusatzaufträge'!$I$4:$I$103,"Bestätigt")+SUMIFS('Zusatzaufträge'!$J$4:$J$103,'Zusatzaufträge'!$B$4:$B$103,">="&$A12,'Zusatzaufträge'!$B$4:$B$103,"<"&EDATE($A12,1),'Zusatzaufträge'!$I$4:$I$103,"Geplant")) | D12: =IF($A12="","",SUM(B12:C12)) | E12: =IF($A12="","",SUMIFS('Verträge'!$H$4:$H$103,'Verträge'!$B$4:$B$103,"<="&EOMONTH($A12,0),'Verträge'!$C$4:$C$103,">="&$A12,'Verträge'!$I$4:$I$103,"Bestätigt")+SUMIFS('Zusatzaufträge'!$J$4:$J$103,'Zusatzaufträge'!$B$4:$B$103,">="&$A12,'Zusatzaufträge'!$B$4:$B$103,"<"&EDATE($A12,1),'Zusatzaufträge'!$I$4:$I$103,"Bestätigt"))
A13: =IF(Parameter!$B$3="","",DATE(YEAR(Parameter!$B$3),MONTH(Parameter!$B$3)+4,1)) | B13: =IF($A13="","",SUMIFS('Verträge'!$H$4:$H$103,'Verträge'!$B$4:$B$103,"<="&EOMONTH($A13,0),'Verträge'!$C$4:$C$103,">="&$A13,'Verträge'!$I$4:$I$103,"Bestätigt")+SUMIFS('Verträge'!$H$4:$H$103,'Verträge'!$B$4:$B$103,"<="&EOMONTH($A13,0),'Verträge'!$C$4:$C$103,">="&$A13,'Verträge'!$I$4:$I$103,"Geplant")) | C13: =IF($A13="","",SUMIFS('Zusatzaufträge'!$J$4:$J$103,'Zusatzaufträge'!$B$4:$B$103,">="&$A13,'Zusatzaufträge'!$B$4:$B$103,"<"&EDATE($A13,1),'Zusatzaufträge'!$I$4:$I$103,"Bestätigt")+SUMIFS('Zusatzaufträge'!$J$4:$J$103,'Zusatzaufträge'!$B$4:$B$103,">="&$A13,'Zusatzaufträge'!$B$4:$B$103,"<"&EDATE($A13,1),'Zusatzaufträge'!$I$4:$I$103,"Geplant")) | D13: =IF($A13="","",SUM(B13:C13)) | E13: =IF($A13="","",SUMIFS('Verträge'!$H$4:$H$103,'Verträge'!$B$4:$B$103,"<="&EOMONTH($A13,0),'Verträge'!$C$4:$C$103,">="&$A13,'Verträge'!$I$4:$I$103,"Bestätigt")+SUMIFS('Zusatzaufträge'!$J$4:$J$103,'Zusatzaufträge'!$B$4:$B$103,">="&$A13,'Zusatzaufträge'!$B$4:$B$103,"<"&EDATE($A13,1),'Zusatzaufträge'!$I$4:$I$103,"Bestätigt"))
A14: =IF(Parameter!$B$3="","",DATE(YEAR(Parameter!$B$3),MONTH(Parameter!$B$3)+5,1)) | B14: =IF($A14="","",SUMIFS('Verträge'!$H$4:$H$103,'Verträge'!$B$4:$B$103,"<="&EOMONTH($A14,0),'Verträge'!$C$4:$C$103,">="&$A14,'Verträge'!$I$4:$I$103,"Bestätigt")+SUMIFS('Verträge'!$H$4:$H$103,'Verträge'!$B$4:$B$103,"<="&EOMONTH($A14,0),'Verträge'!$C$4:$C$103,">="&$A14,'Verträge'!$I$4:$I$103,"Geplant")) | C14: =IF($A14="","",SUMIFS('Zusatzaufträge'!$J$4:$J$103,'Zusatzaufträge'!$B$4:$B$103,">="&$A14,'Zusatzaufträge'!$B$4:$B$103,"<"&EDATE($A14,1),'Zusatzaufträge'!$I$4:$I$103,"Bestätigt")+SUMIFS('Zusatzaufträge'!$J$4:$J$103,'Zusatzaufträge'!$B$4:$B$103,">="&$A14,'Zusatzaufträge'!$B$4:$B$103,"<"&EDATE($A14,1),'Zusatzaufträge'!$I$4:$I$103,"Geplant")) | D14: =IF($A14="","",SUM(B14:C14)) | E14: =IF($A14="","",SUMIFS('Verträge'!$H$4:$H$103,'Verträge'!$B$4:$B$103,"<="&EOMONTH($A14,0),'Verträge'!$C$4:$C$103,">="&$A14,'Verträge'!$I$4:$I$103,"Bestätigt")+SUMIFS('Zusatzaufträge'!$J$4:$J$103,'Zusatzaufträge'!$B$4:$B$103,">="&$A14,'Zusatzaufträge'!$B$4:$B$103,"<"&EDATE($A14,1),'Zusatzaufträge'!$I$4:$I$103,"Bestätigt"))
A15: =IF(Parameter!$B$3="","",DATE(YEAR(Parameter!$B$3),MONTH(Parameter!$B$3)+6,1)) | B15: =IF($A15="","",SUMIFS('Verträge'!$H$4:$H$103,'Verträge'!$B$4:$B$103,"<="&EOMONTH($A15,0),'Verträge'!$C$4:$C$103,">="&$A15,'Verträge'!$I$4:$I$103,"Bestätigt")+SUMIFS('Verträge'!$H$4:$H$103,'Verträge'!$B$4:$B$103,"<="&EOMONTH($A15,0),'Verträge'!$C$4:$C$103,">="&$A15,'Verträge'!$I$4:$I$103,"Geplant")) | C15: =IF($A15="","",SUMIFS('Zusatzaufträge'!$J$4:$J$103,'Zusatzaufträge'!$B$4:$B$103,">="&$A15,'Zusatzaufträge'!$B$4:$B$103,"<"&EDATE($A15,1),'Zusatzaufträge'!$I$4:$I$103,"Bestätigt")+SUMIFS('Zusatzaufträge'!$J$4:$J$103,'Zusatzaufträge'!$B$4:$B$103,">="&$A15,'Zusatzaufträge'!$B$4:$B$103,"<"&EDATE($A15,1),'Zusatzaufträge'!$I$4:$I$103,"Geplant")) | D15: =IF($A15="","",SUM(B15:C15)) | E15: =IF($A15="","",SUMIFS('Verträge'!$H$4:$H$103,'Verträge'!$B$4:$B$103,"<="&EOMONTH($A15,0),'Verträge'!$C$4:$C$103,">="&$A15,'Verträge'!$I$4:$I$103,"Bestätigt")+SUMIFS('Zusatzaufträge'!$J$4:$J$103,'Zusatzaufträge'!$B$4:$B$103,">="&$A15,'Zusatzaufträge'!$B$4:$B$103,"<"&EDATE($A15,1),'Zusatzaufträge'!$I$4:$I$103,"Bestätigt"))
A16: =IF(Parameter!$B$3="","",DATE(YEAR(Parameter!$B$3),MONTH(Parameter!$B$3)+7,1)) | B16: =IF($A16="","",SUMIFS('Verträge'!$H$4:$H$103,'Verträge'!$B$4:$B$103,"<="&EOMONTH($A16,0),'Verträge'!$C$4:$C$103,">="&$A16,'Verträge'!$I$4:$I$103,"Bestätigt")+SUMIFS('Verträge'!$H$4:$H$103,'Verträge'!$B$4:$B$103,"<="&EOMONTH($A16,0),'Verträge'!$C$4:$C$103,">="&$A16,'Verträge'!$I$4:$I$103,"Geplant")) | C16: =IF($A16="","",SUMIFS('Zusatzaufträge'!$J$4:$J$103,'Zusatzaufträge'!$B$4:$B$103,">="&$A16,'Zusatzaufträge'!$B$4:$B$103,"<"&EDATE($A16,1),'Zusatzaufträge'!$I$4:$I$103,"Bestätigt")+SUMIFS('Zusatzaufträge'!$J$4:$J$103,'Zusatzaufträge'!$B$4:$B$103,">="&$A16,'Zusatzaufträge'!$B$4:$B$103,"<"&EDATE($A16,1),'Zusatzaufträge'!$I$4:$I$103,"Geplant")) | D16: =IF($A16="","",SUM(B16:C16)) | E16: =IF($A16="","",SUMIFS('Verträge'!$H$4:$H$103,'Verträge'!$B$4:$B$103,"<="&EOMONTH($A16,0),'Verträge'!$C$4:$C$103,">="&$A16,'Verträge'!$I$4:$I$103,"Bestätigt")+SUMIFS('Zusatzaufträge'!$J$4:$J$103,'Zusatzaufträge'!$B$4:$B$103,">="&$A16,'Zusatzaufträge'!$B$4:$B$103,"<"&EDATE($A16,1),'Zusatzaufträge'!$I$4:$I$103,"Bestätigt"))
A17: =IF(Parameter!$B$3="","",DATE(YEAR(Parameter!$B$3),MONTH(Parameter!$B$3)+8,1)) | B17: =IF($A17="","",SUMIFS('Verträge'!$H$4:$H$103,'Verträge'!$B$4:$B$103,"<="&EOMONTH($A17,0),'Verträge'!$C$4:$C$103,">="&$A17,'Verträge'!$I$4:$I$103,"Bestätigt")+SUMIFS('Verträge'!$H$4:$H$103,'Verträge'!$B$4:$B$103,"<="&EOMONTH($A17,0),'Verträge'!$C$4:$C$103,">="&$A17,'Verträge'!$I$4:$I$103,"Geplant")) | C17: =IF($A17="","",SUMIFS('Zusatzaufträge'!$J$4:$J$103,'Zusatzaufträge'!$B$4:$B$103,">="&$A17,'Zusatzaufträge'!$B$4:$B$103,"<"&EDATE($A17,1),'Zusatzaufträge'!$I$4:$I$103,"Bestätigt")+SUMIFS('Zusatzaufträge'!$J$4:$J$103,'Zusatzaufträge'!$B$4:$B$103,">="&$A17,'Zusatzaufträge'!$B$4:$B$103,"<"&EDATE($A17,1),'Zusatzaufträge'!$I$4:$I$103,"Geplant")) | D17: =IF($A17="","",SUM(B17:C17)) | E17: =IF($A17="","",SUMIFS('Verträge'!$H$4:$H$103,'Verträge'!$B$4:$B$103,"<="&EOMONTH($A17,0),'Verträge'!$C$4:$C$103,">="&$A17,'Verträge'!$I$4:$I$103,"Bestätigt")+SUMIFS('Zusatzaufträge'!$J$4:$J$103,'Zusatzaufträge'!$B$4:$B$103,">="&$A17,'Zusatzaufträge'!$B$4:$B$103,"<"&EDATE($A17,1),'Zusatzaufträge'!$I$4:$I$103,"Bestätigt"))
A18: =IF(Parameter!$B$3="","",DATE(YEAR(Parameter!$B$3),MONTH(Parameter!$B$3)+9,1)) | B18: =IF($A18="","",SUMIFS('Verträge'!$H$4:$H$103,'Verträge'!$B$4:$B$103,"<="&EOMONTH($A18,0),'Verträge'!$C$4:$C$103,">="&$A18,'Verträge'!$I$4:$I$103,"Bestätigt")+SUMIFS('Verträge'!$H$4:$H$103,'Verträge'!$B$4:$B$103,"<="&EOMONTH($A18,0),'Verträge'!$C$4:$C$103,">="&$A18,'Verträge'!$I$4:$I$103,"Geplant")) | C18: =IF($A18="","",SUMIFS('Zusatzaufträge'!$J$4:$J$103,'Zusatzaufträge'!$B$4:$B$103,">="&$A18,'Zusatzaufträge'!$B$4:$B$103,"<"&EDATE($A18,1),'Zusatzaufträge'!$I$4:$I$103,"Bestätigt")+SUMIFS('Zusatzaufträge'!$J$4:$J$103,'Zusatzaufträge'!$B$4:$B$103,">="&$A18,'Zusatzaufträge'!$B$4:$B$103,"<"&EDATE($A18,1),'Zusatzaufträge'!$I$4:$I$103,"Geplant")) | D18: =IF($A18="","",SUM(B18:C18)) | E18: =IF($A18="","",SUMIFS('Verträge'!$H$4:$H$103,'Verträge'!$B$4:$B$103,"<="&EOMONTH($A18,0),'Verträge'!$C$4:$C$103,">="&$A18,'Verträge'!$I$4:$I$103,"Bestätigt")+SUMIFS('Zusatzaufträge'!$J$4:$J$103,'Zusatzaufträge'!$B$4:$B$103,">="&$A18,'Zusatzaufträge'!$B$4:$B$103,"<"&EDATE($A18,1),'Zusatzaufträge'!$I$4:$I$103,"Bestätigt"))
A19: =IF(Parameter!$B$3="","",DATE(YEAR(Parameter!$B$3),MONTH(Parameter!$B$3)+10,1)) | B19: =IF($A19="","",SUMIFS('Verträge'!$H$4:$H$103,'Verträge'!$B$4:$B$103,"<="&EOMONTH($A19,0),'Verträge'!$C$4:$C$103,">="&$A19,'Verträge'!$I$4:$I$103,"Bestätigt")+SUMIFS('Verträge'!$H$4:$H$103,'Verträge'!$B$4:$B$103,"<="&EOMONTH($A19,0),'Verträge'!$C$4:$C$103,">="&$A19,'Verträge'!$I$4:$I$103,"Geplant")) | C19: =IF($A19="","",SUMIFS('Zusatzaufträge'!$J$4:$J$103,'Zusatzaufträge'!$B$4:$B$103,">="&$A19,'Zusatzaufträge'!$B$4:$B$103,"<"&EDATE($A19,1),'Zusatzaufträge'!$I$4:$I$103,"Bestätigt")+SUMIFS('Zusatzaufträge'!$J$4:$J$103,'Zusatzaufträge'!$B$4:$B$103,">="&$A19,'Zusatzaufträge'!$B$4:$B$103,"<"&EDATE($A19,1),'Zusatzaufträge'!$I$4:$I$103,"Geplant")) | D19: =IF($A19="","",SUM(B19:C19)) | E19: =IF($A19="","",SUMIFS('Verträge'!$H$4:$H$103,'Verträge'!$B$4:$B$103,"<="&EOMONTH($A19,0),'Verträge'!$C$4:$C$103,">="&$A19,'Verträge'!$I$4:$I$103,"Bestätigt")+SUMIFS('Zusatzaufträge'!$J$4:$J$103,'Zusatzaufträge'!$B$4:$B$103,">="&$A19,'Zusatzaufträge'!$B$4:$B$103,"<"&EDATE($A19,1),'Zusatzaufträge'!$I$4:$I$103,"Bestätigt"))
A20: =IF(Parameter!$B$3="","",DATE(YEAR(Parameter!$B$3),MONTH(Parameter!$B$3)+11,1)) | B20: =IF($A20="","",SUMIFS('Verträge'!$H$4:$H$103,'Verträge'!$B$4:$B$103,"<="&EOMONTH($A20,0),'Verträge'!$C$4:$C$103,">="&$A20,'Verträge'!$I$4:$I$103,"Bestätigt")+SUMIFS('Verträge'!$H$4:$H$103,'Verträge'!$B$4:$B$103,"<="&EOMONTH($A20,0),'Verträge'!$C$4:$C$103,">="&$A20,'Verträge'!$I$4:$I$103,"Geplant")) | C20: =IF($A20="","",SUMIFS('Zusatzaufträge'!$J$4:$J$103,'Zusatzaufträge'!$B$4:$B$103,">="&$A20,'Zusatzaufträge'!$B$4:$B$103,"<"&EDATE($A20,1),'Zusatzaufträge'!$I$4:$I$103,"Bestätigt")+SUMIFS('Zusatzaufträge'!$J$4:$J$103,'Zusatzaufträge'!$B$4:$B$103,">="&$A20,'Zusatzaufträge'!$B$4:$B$103,"<"&EDATE($A20,1),'Zusatzaufträge'!$I$4:$I$103,"Geplant")) | D20: =IF($A20="","",SUM(B20:C20)) | E20: =IF($A20="","",SUMIFS('Verträge'!$H$4:$H$103,'Verträge'!$B$4:$B$103,"<="&EOMONTH($A20,0),'Verträge'!$C$4:$C$103,">="&$A20,'Verträge'!$I$4:$I$103,"Bestätigt")+SUMIFS('Zusatzaufträge'!$J$4:$J$103,'Zusatzaufträge'!$B$4:$B$103,">="&$A20,'Zusatzaufträge'!$B$4:$B$103,"<"&EDATE($A20,1),'Zusatzaufträge'!$I$4:$I$103,"Bestätigt"))

Sheet Verträge
A1: Wiederkehrende Vertragsumsätze
A2: Frühestes Datum | B2: =Parameter!$B$4 | C2: Spätestes Datum | D2: =Parameter!$B$5 | G2: Max. Monatswert | H2: =Parameter!$B$6
A3: Vertrags-ID | B3: Startmonat | C3: Endmonat | D3: Objektkennung | E3: Reinigungsbereich | F3: Intervall | G3: Zuständigkeit | H3: Monatswert (€) | I3: Status | J3: Laufzeit (Monate) | K3: Planwert Laufzeit (€)
A4: VT-26-001 | B4: 46204 | C4: 46600 | D4: FIK-OBJ-101 | E4: Büroflächen | F4: werktäglich | G4: Team Nordlicht | H4: 4850 | I4: Bestätigt | J4: =IF(OR(A4="",B4="",C4=""),"",IF(C4<B4,"",(YEAR(C4)-YEAR(B4))*12+MONTH(C4)-MONTH(B4)+1)) | K4: =IF(OR(A4="",H4="",I4="",J4=""),"",IF(OR(I4="Geplant",I4="Bestätigt"),H4*J4,0))
A5: VT-26-002 | B5: 46266 | C5: 46508 | D5: FIK-OBJ-102 | E5: Treppenhäuser | F5: 3× wöchentlich | G5: Team Flieder | H5: 2950 | I5: Geplant | J5: =IF(OR(A5="",B5="",C5=""),"",IF(C5<B5,"",(YEAR(C5)-YEAR(B5))*12+MONTH(C5)-MONTH(B5)+1)) | K5: =IF(OR(A5="",H5="",I5="",J5=""),"",IF(OR(I5="Geplant",I5="Bestätigt"),H5*J5,0))
A6: VT-26-003 | B6: 46296 | C6: 46600 | D6: FIK-OBJ-103 | E6: Sanitärbereiche | F6: werktäglich | G6: Team Mosaik | H6: 3725 | I6: Bestätigt | J6: =IF(OR(A6="",B6="",C6=""),"",IF(C6<B6,"",(YEAR(C6)-YEAR(B6))*12+MONTH(C6)-MONTH(B6)+1)) | K6: =IF(OR(A6="",H6="",I6="",J6=""),"",IF(OR(I6="Geplant",I6="Bestätigt"),H6*J6,0))
A7: VT-26-004 | B7: 46143 | C7: 46419 | D7: FIK-OBJ-104 | E7: Verkehrsflächen | F7: 2× wöchentlich | G7: Team Nordlicht | H7: 1680 | I7: Abgesagt | J7: =IF(OR(A7="",B7="",C7=""),"",IF(C7<B7,"",(YEAR(C7)-YEAR(B7))*12+MONTH(C7)-MONTH(B7)+1)) | K7: =IF(OR(A7="",H7="",I7="",J7=""),"",IF(OR(I7="Geplant",I7="Bestätigt"),H7*J7,0))
A8: VT-26-005 | B8: 46357 | C8: 46600 | D8: FIK-OBJ-105 | E8: Lager- und Nebenflächen | F8: monatlich | G8: Team Flieder | H8: 2240 | I8: Bestätigt | J8: =IF(OR(A8="",B8="",C8=""),"",IF(C8<B8,"",(YEAR(C8)-YEAR(B8))*12+MONTH(C8)-MONTH(B8)+1)) | K8: =IF(OR(A8="",H8="",I8="",J8=""),"",IF(OR(I8="Geplant",I8="Bestätigt"),H8*J8,0))
J9: =IF(OR(A9="",B9="",C9=""),"",IF(C9<B9,"",(YEAR(C9)-YEAR(B9))*12+MONTH(C9)-MONTH(B9)+1)) | K9: =IF(OR(A9="",H9="",I9="",J9=""),"",IF(OR(I9="Geplant",I9="Bestätigt"),H9*J9,0))
J10: =IF(OR(A10="",B10="",C10=""),"",IF(C10<B10,"",(YEAR(C10)-YEAR(B10))*12+MONTH(C10)-MONTH(B10)+1)) | K10: =IF(OR(A10="",H10="",I10="",J10=""),"",IF(OR(I10="Geplant",I10="Bestätigt"),H10*J10,0))
J11: =IF(OR(A11="",B11="",C11=""),"",IF(C11<B11,"",(YEAR(C11)-YEAR(B11))*12+MONTH(C11)-MONTH(B11)+1)) | K11: =IF(OR(A11="",H11="",I11="",J11=""),"",IF(OR(I11="Geplant",I11="Bestätigt"),H11*J11,0))
J12: =IF(OR(A12="",B12="",C12=""),"",IF(C12<B12,"",(YEAR(C12)-YEAR(B12))*12+MONTH(C12)-MONTH(B12)+1)) | K12: =IF(OR(A12="",H12="",I12="",J12=""),"",IF(OR(I12="Geplant",I12="Bestätigt"),H12*J12,0))
J13: =IF(OR(A13="",B13="",C13=""),"",IF(C13<B13,"",(YEAR(C13)-YEAR(B13))*12+MONTH(C13)-MONTH(B13)+1)) | K13: =IF(OR(A13="",H13="",I13="",J13=""),"",IF(OR(I13="Geplant",I13="Bestätigt"),H13*J13,0))
J14: =IF(OR(A14="",B14="",C14=""),"",IF(C14<B14,"",(YEAR(C14)-YEAR(B14))*12+MONTH(C14)-MONTH(B14)+1)) | K14: =IF(OR(A14="",H14="",I14="",J14=""),"",IF(OR(I14="Geplant",I14="Bestätigt"),H14*J14,0))
J15: =IF(OR(A15="",B15="",C15=""),"",IF(C15<B15,"",(YEAR(C15)-YEAR(B15))*12+MONTH(C15)-MONTH(B15)+1)) | K15: =IF(OR(A15="",H15="",I15="",J15=""),"",IF(OR(I15="Geplant",I15="Bestätigt"),H15*J15,0))
J16: =IF(OR(A16="",B16="",C16=""),"",IF(C16<B16,"",(YEAR(C16)-YEAR(B16))*12+MONTH(C16)-MONTH(B16)+1)) | K16: =IF(OR(A16="",H16="",I16="",J16=""),"",IF(OR(I16="Geplant",I16="Bestätigt"),H16*J16,0))
J17: =IF(OR(A17="",B17="",C17=""),"",IF(C17<B17,"",(YEAR(C17)-YEAR(B17))*12+MONTH(C17)-MONTH(B17)+1)) | K17: =IF(OR(A17="",H17="",I17="",J17=""),"",IF(OR(I17="Geplant",I17="Bestätigt"),H17*J17,0))
J18: =IF(OR(A18="",B18="",C18=""),"",IF(C18<B18,"",(YEAR(C18)-YEAR(B18))*12+MONTH(C18)-MONTH(B18)+1)) | K18: =IF(OR(A18="",H18="",I18="",J18=""),"",IF(OR(I18="Geplant",I18="Bestätigt"),H18*J18,0))
J19: =IF(OR(A19="",B19="",C19=""),"",IF(C19<B19,"",(YEAR(C19)-YEAR(B19))*12+MONTH(C19)-MONTH(B19)+1)) | K19: =IF(OR(A19="",H19="",I19="",J19=""),"",IF(OR(I19="Geplant",I19="Bestätigt"),H19*J19,0))
J20: =IF(OR(A20="",B20="",C20=""),"",IF(C20<B20,"",(YEAR(C20)-YEAR(B20))*12+MONTH(C20)-MONTH(B20)+1)) | K20: =IF(OR(A20="",H20="",I20="",J20=""),"",IF(OR(I20="Geplant",I20="Bestätigt"),H20*J20,0))
... J103: =IF(OR(A103="",B103="",C103=""),"",IF(C103<B103,"",(YEAR(C103)-YEAR(B103))*12+MONTH(C103)-MONTH(B103)+1)) | K103: =IF(OR(A103="",H103="",I103="",J103=""),"",IF(OR(I103="Geplant",I103="Bestätigt"),H103*J103,0))

Sheet Zusatzaufträge
A1: Einmalige Zusatzaufträge
A2: Frühestes Datum | B2: =Parameter!$B$4 | C2: Spätestes Datum | D2: =Parameter!$B$5 | E2: Max. Menge | F2: =Parameter!$B$7 | G2: Max. Satz | H2: =Parameter!$B$8
A3: Auftrags-ID | B3: Leistungsdatum | C3: Objektkennung | D3: Reinigungsbereich | E3: Zuständigkeit | F3: Menge | G3: Einheit | H3: Satz je Einheit (€) | I3: Status | J3: Planwert (€)
A4: ZU-26-001 | B4: 46277 | C4: FIK-OBJ-101 | D4: Glasflächen | E4: Team Mosaik | F4: 820 | G4: m² | H4: 1.85 | I4: Bestätigt | J4: =IF(OR(A4="",F4="",H4="",I4=""),"",IF(OR(I4="Geplant",I4="Bestätigt"),F4*H4,0))
A5: ZU-26-002 | B5: 46313 | C5: FIK-OBJ-102 | D5: Grundreinigung Boden | E5: Team Flieder | F5: 540 | G5: m² | H5: 3.4 | I5: Geplant | J5: =IF(OR(A5="",F5="",H5="",I5=""),"",IF(OR(I5="Geplant",I5="Bestätigt"),F5*H5,0))
A6: ZU-26-003 | B6: 46334 | C6: FIK-OBJ-103 | D6: Sonderreinigung Boden | E6: Team Nordlicht | F6: 310 | G6: m² | H6: 4.2 | I6: Bestätigt | J6: =IF(OR(A6="",F6="",H6="",I6=""),"",IF(OR(I6="Geplant",I6="Bestätigt"),F6*H6,0))
A7: ZU-26-004 | B7: 46377 | C7: FIK-OBJ-104 | D7: Baureinigung | E7: Team Mosaik | F7: 900 | G7: m² | H7: 2.75 | I7: Abgesagt | J7: =IF(OR(A7="",F7="",H7="",I7=""),"",IF(OR(I7="Geplant",I7="Bestätigt"),F7*H7,0))
A8: ZU-26-005 | B8: 46401 | C8: FIK-OBJ-105 | D8: Intensivreinigung | E8: Team Flieder | F8: 36 | G8: Stunden | H8: 42 | I8: Geplant | J8: =IF(OR(A8="",F8="",H8="",I8=""),"",IF(OR(I8="Geplant",I8="Bestätigt"),F8*H8,0))
J9: =IF(OR(A9="",F9="",H9="",I9=""),"",IF(OR(I9="Geplant",I9="Bestätigt"),F9*H9,0))
J10: =IF(OR(A10="",F10="",H10="",I10=""),"",IF(OR(I10="Geplant",I10="Bestätigt"),F10*H10,0))
J11: =IF(OR(A11="",F11="",H11="",I11=""),"",IF(OR(I11="Geplant",I11="Bestätigt"),F11*H11,0))
J12: =IF(OR(A12="",F12="",H12="",I12=""),"",IF(OR(I12="Geplant",I12="Bestätigt"),F12*H12,0))
J13: =IF(OR(A13="",F13="",H13="",I13=""),"",IF(OR(I13="Geplant",I13="Bestätigt"),F13*H13,0))
J14: =IF(OR(A14="",F14="",H14="",I14=""),"",IF(OR(I14="Geplant",I14="Bestätigt"),F14*H14,0))
J15: =IF(OR(A15="",F15="",H15="",I15=""),"",IF(OR(I15="Geplant",I15="Bestätigt"),F15*H15,0))
J16: =IF(OR(A16="",F16="",H16="",I16=""),"",IF(OR(I16="Geplant",I16="Bestätigt"),F16*H16,0))
J17: =IF(OR(A17="",F17="",H17="",I17=""),"",IF(OR(I17="Geplant",I17="Bestätigt"),F17*H17,0))
J18: =IF(OR(A18="",F18="",H18="",I18=""),"",IF(OR(I18="Geplant",I18="Bestätigt"),F18*H18,0))
J19: =IF(OR(A19="",F19="",H19="",I19=""),"",IF(OR(I19="Geplant",I19="Bestätigt"),F19*H19,0))
J20: =IF(OR(A20="",F20="",H20="",I20=""),"",IF(OR(I20="Geplant",I20="Bestätigt"),F20*H20,0))
... J103: =IF(OR(A103="",F103="",H103="",I103=""),"",IF(OR(I103="Geplant",I103="Bestätigt"),F103*H103,0))

Sheet Parameter
A1: Parameter und stabile Annahmen
A2: Planungsparameter | D2: Stabile Statuswerte
A3: Planungsbeginn für 12 Monate | B3: 46266 | D3: Geplant
A4: Frühestes zulässiges Datum | B4: =IF(B3="","",EDATE(B3,-12)) | D4: Bestätigt
A5: Spätestes zulässiges Datum | B5: =IF(B3="","",EDATE(B3,60)) | D5: Abgesagt
A6: Max. Vertragswert je Monat (€) | B6: 50000
A7: Max. Menge je Zusatzauftrag | B7: 100000
A8: Max. Satz je Einheit (€) | B8: 5000
A10: Hinweis | B10: Alle Beispieldaten sind fiktiv. Abgesagte und leere Statuswerte werden in der Übersicht nicht als Umsatz berücksichtigt.
A11: Entscheidungszweck | B11: Monate mit noch geplantem Umsatz erkennen und Vertragsumsätze sowie Zusatzaufträge manuell priorisieren.
